From mboxrd@z Thu Jan 1 00:00:00 1970 Return-Path: Received: from mails.dpdk.org (mails.dpdk.org [217.70.189.124]) by inbox.dpdk.org (Postfix) with ESMTP id B9F2E488E7 for ; Thu, 9 Oct 2025 00:41:33 +0200 (CEST) Received: from mails.dpdk.org (localhost [127.0.0.1]) by mails.dpdk.org (Postfix) with ESMTP id B41BB40267; Thu, 9 Oct 2025 00:41:33 +0200 (CEST) Received: from mail-pj1-f99.google.com (mail-pj1-f99.google.com [209.85.216.99]) by mails.dpdk.org (Postfix) with ESMTP id 27FB240267 for ; Thu, 9 Oct 2025 00:41:32 +0200 (CEST) Received: by mail-pj1-f99.google.com with SMTP id 98e67ed59e1d1-33292adb180so348597a91.3 for ; Wed, 08 Oct 2025 15:41:32 -0700 (PDT) DKIM-Signature: v=1; a=rsa-sha256; c=relaxed/relaxed; d=iol.unh.edu; s=unh-iol; t=1759963291; x=1760568091; darn=dpdk.org; h=references:in-reply-to:cc:to:from:subject:message-id:date:from:to :cc:subject:date:message-id:reply-to; bh=lx58Rs3FJylmbEV0lAAEsMIVTlh3zhITO+XUh+WTEIo=; b=Him0+A1XPBOGC3WJ/1SOwArxXhcKx4yZ350s6jIGTxTh+FXie2eRoVBycoV7PHioat McDjjvmlYrl5q0wp8eRqw6PWFFaTyxLebONin7X4DOU2PXh/2rtD2Mobsby8udk2YCsG 8JJlXa5H4QnDANHpPFpH8fgqM8zdMfSV3QRsE= X-Google-DKIM-Signature: v=1; a=rsa-sha256; c=relaxed/relaxed; d=1e100.net; s=20230601; t=1759963291; x=1760568091; h=references:in-reply-to:cc:to:from:subject:message-id:date :x-gm-message-state:from:to:cc:subject:date:message-id:reply-to; bh=lx58Rs3FJylmbEV0lAAEsMIVTlh3zhITO+XUh+WTEIo=; b=RaeuzT4kiOPOTydpzNUoZaEGbfArPMYPFkXt/1thizvsFUU4ijXT52/1SrBGtJ65Lq 5oj6Tr24XDIKsEdwE6JE69ys5BZgXEopOmRxEuZgCwJFG5MeY5jcN9Vox8i0Y7zIOEK1 Y2iikGUg5SrD1I2q7uTlS9jiA21AV4CKVO2StE9j0XeqliRXshNAIJSNQGcvz3kLohTW 49jdaOr4zq8BI4fAqc9u84VO7gshC1GWYtRXe2XoosB/4zr0YqS/MijsSAkCuvIIjmrH qsoFK8WpbgxbewATEWOA9UeP87h7naRwJNL26mt+j631yrgmbO+VSJROeuEcKsjF/5Mh H1xQ== X-Gm-Message-State: AOJu0YwO39zPrwDiGYL3HBrPI+Bt2QQQLhiodVbOpFyQkxHX2WjlPhDB HUi6a8Og22MKmaBMKNPkDlHGquYxuaXBmJUDMpwxhEanLdwnzqZdaMCrZjxoJ3IqHkbaKfp2RWr xnn+tGzrhpV1B/Ju42dQoAUjZVt/D8mVLCNN5zh1QxH1D1/+gCbRTV7NVkWhU X-Gm-Gg: ASbGncsyYIVTFGfMLEK4vWfCE3bpXZFVA+flJGomkR2yp5cRHmvPoO32f5kowFPU9YS Qiu79+4JDDMmnlLIiDya62MVN95FHOkKHAwBdZ6vT1UaYRZICrDPGoxcQ2F/4UrovWOfdLXVvba DTn1f1gj2n0xXL4XE/mZmMB8Mo7VEY6kzP8eXVXRwEcQdmoL5qtRcQPNzPfs14SorQ/WYzT/oY1 YKO2XfGVAYaN7dUY1kWNxkzqAeKeoMQYsxWR6v84nVCRMZ5fM631WaV2GSi9j7FSX0OKXFvylE1 znP8XZalmNtuMXf0KbnbCMV/IuFXnbEAhTmXTp4740DCQf89MSUdcZ4= X-Google-Smtp-Source: AGHT+IFBSe2qZCYBF7AAQNEH0NMOnVmwYuLh73x2BQeqQxKXntyrcr3x+BaJTi57vYeyZ3aA5uHlCtQseuIR X-Received: by 2002:a17:90b:33ce:b0:336:b563:993b with SMTP id 98e67ed59e1d1-33b5138e694mr5961040a91.28.1759963291027; Wed, 08 Oct 2025 15:41:31 -0700 (PDT) Received: from postal.iol.unh.edu (postal.iol.unh.edu. [2606:4100:3880:1234::84]) by smtp-relay.gmail.com with ESMTPS id 41be03b00d2f7-b6099baf43esm1214626a12.16.2025.10.08.15.41.30 (version=TLS1_2 cipher=ECDHE-ECDSA-AES128-GCM-SHA256 bits=128/128); Wed, 08 Oct 2025 15:41:31 -0700 (PDT) X-Relaying-Domain: iol.unh.edu Date: Wed, 08 Oct 2025 15:41:31 -0700 (PDT) Message-ID: <68e6e89b.050a0220.34d423.1b34SMTPIN_ADDED_MISSING@mx.google.com> Received: from [172.21.0.2] (unknown [172.18.0.240]) by postal.iol.unh.edu (Postfix) with ESMTP id 3F4F9604D420; Wed, 8 Oct 2025 18:41:30 -0400 (EDT) Subject: |SUCCESS| pw157315-157319 [PATCH] [v2,5/5] net/dpaa: Fix coverity is From: dpdklab@iol.unh.edu To: Test Report Cc: dpdk-test-reports@iol.unh.edu, Stephen Hemminger In-Reply-To: <20251008043519.2461707-6-g.singh@nxp.com> References: <20251008043519.2461707-6-g.singh@nxp.com> Content-Type: text/plain X-BeenThere: test-report@dpdk.org X-Mailman-Version: 2.1.29 Precedence: list List-Id: automatic DPDK test reports List-Unsubscribe: , List-Archive: List-Post: List-Help: List-Subscribe: , Errors-To: test-report-bounces@dpdk.org Test-Label: iol-unit-arm64-testing Test-Status: SUCCESS http://dpdk.org/patch/157319 _Testing PASS_ Submitter: Gagandeep Singh Date: Wednesday, October 08 2025 04:35:19 DPDK git baseline: Repo:dpdk-next-net Branch: master CommitID:c04bbd131b2c14b3049bf86d3ef367b34e6fdf1e 157315-157319 --> testing pass Upstream job id: Generic-Unit-Test-DPDK#379445 Test environment and result as below: +------------------------------+----------------+--------------+---------------------------+------------------------------+ | Environment | dpdk_unit_test | lpm_autotest | cryptodev_sw_zuc_autotest | cryptodev_sw_snow3g_autotest | +==============================+================+==============+===========================+==============================+ | CentOS Stream 9 | PASS | SKIPPED | SKIPPED | SKIPPED | +------------------------------+----------------+--------------+---------------------------+------------------------------+ | Fedora Linux 42 | PASS | SKIPPED | SKIPPED | SKIPPED | +------------------------------+----------------+--------------+---------------------------+------------------------------+ | Fedora Linux 41 | PASS | SKIPPED | SKIPPED | SKIPPED | +------------------------------+----------------+--------------+---------------------------+------------------------------+ | Fedora Linux 40 | PASS | SKIPPED | SKIPPED | SKIPPED | +------------------------------+----------------+--------------+---------------------------+------------------------------+ | CentOS Stream 10 | PASS | SKIPPED | SKIPPED | SKIPPED | +------------------------------+----------------+--------------+---------------------------+------------------------------+ | Debian GNU/Linux 12 | PASS | SKIPPED | SKIPPED | SKIPPED | +------------------------------+----------------+--------------+---------------------------+------------------------------+ | Red Hat Enterprise Linux 9.5 | PASS | SKIPPED | SKIPPED | SKIPPED | +------------------------------+----------------+--------------+---------------------------+------------------------------+ | Ubuntu 22.04 | PASS | SKIPPED | SKIPPED | SKIPPED | +------------------------------+----------------+--------------+---------------------------+------------------------------+ | Ubuntu 20.04 | PASS | PASS | SKIPPED | SKIPPED | +------------------------------+----------------+--------------+---------------------------+------------------------------+ | Ubuntu 24.04 | PASS | SKIPPED | SKIPPED | SKIPPED | +------------------------------+----------------+--------------+---------------------------+------------------------------+ | Debian 12 (arm) | SKIPPED | SKIPPED | PASS | PASS | +------------------------------+----------------+--------------+---------------------------+------------------------------+ CentOS Stream 9 Kernel: 5.4 Compiler: gcc gcc (GCC) 11.5.0 20240719 (Red Hat 11.5.0-11) Fedora Linux 42 Kernel: 5.4 Compiler: clang gcc (GCC) 15.2.1 20250808 (Red Hat 15.2.1-1) Fedora Linux 41 Kernel: 5.4 Compiler: gcc gcc (GCC) 14.3.1 20250523 (Red Hat 14.3.1-1) Fedora Linux 40 Kernel: 5.4 Compiler: clang gcc (GCC) 14.2.1 20240912 (Red Hat 14.2.1-3) CentOS Stream 10 Kernel: 5.4 Compiler: gcc gcc (GCC) 14.2.1 20250110 (Red Hat 14.2.1-8) Debian GNU/Linux 12 Kernel: 5.4 Compiler: gcc gcc (Debian 12.2.0-14+deb12u1) 12.2.0 Red Hat Enterprise Linux 9.5 Kernel: 5.4 Compiler: gcc gcc (GCC) 11.5.0 20240719 (Red Hat 11.5.0-2) Ubuntu 22.04 Kernel: 5.4 Compiler: gcc gcc (Ubuntu 11.4.0-1ubuntu1~22.04) 11.4.0 Ubuntu 20.04 Kernel: 5.4 Compiler: gcc gcc (Ubuntu 9.4.0-1ubuntu1~20.04.2) 9.4.0 Ubuntu 24.04 Kernel: 5.4 Compiler: gcc gcc (Ubuntu 13.3.0-6ubuntu2~24.04) 13.3.0 Debian 12 (arm) Kernel: Depends on container host Compiler: gcc (Debian 12.2.0-14) 12.2.0 To view detailed results, visit: https://lab.dpdk.org/results/dashboard/patchsets/34232/ UNH-IOL DPDK Community Lab To manage your email subscriptions, visit: https://lab.dpdk.org/results/dashboard/preferences/subscriptions/