From mboxrd@z Thu Jan 1 00:00:00 1970 Return-Path: Received: from mails.dpdk.org (mails.dpdk.org [217.70.189.124]) by inbox.dpdk.org (Postfix) with ESMTP id 6823E488E7 for ; Thu, 9 Oct 2025 00:58:26 +0200 (CEST) Received: from mails.dpdk.org (localhost [127.0.0.1]) by mails.dpdk.org (Postfix) with ESMTP id 5EECA40267; Thu, 9 Oct 2025 00:58:26 +0200 (CEST) Received: from mail-io1-f98.google.com (mail-io1-f98.google.com [209.85.166.98]) by mails.dpdk.org (Postfix) with ESMTP id 8510C40267 for ; Thu, 9 Oct 2025 00:58:24 +0200 (CEST) Received: by mail-io1-f98.google.com with SMTP id ca18e2360f4ac-91fbba9a8f5so28551939f.0 for ; Wed, 08 Oct 2025 15:58:24 -0700 (PDT) DKIM-Signature: v=1; a=rsa-sha256; c=relaxed/relaxed; d=iol.unh.edu; s=unh-iol; t=1759964304; x=1760569104; darn=dpdk.org; h=references:in-reply-to:cc:to:from:subject:message-id:date:from:to :cc:subject:date:message-id:reply-to; bh=JrvkDlTOzhWFYO314kz91kC16T0sqLJSAtXgczm0Fhc=; b=Viisd0j97kusPqsfmqzCKPMtwT+oxM8HaaZFWccPgDlE7YVKEiqzFI7rWyIRAS04hP mBQc2UVNj9tMqF/DkjYIHu5effVxpoeXozNBUYvMeNVpK6/BbjKKyKR3osXSNboSz6ur IxfjI6XmINYQpqFoiZD/zKMXkGsh1W/8q/9WY= X-Google-DKIM-Signature: v=1; a=rsa-sha256; c=relaxed/relaxed; d=1e100.net; s=20230601; t=1759964304; x=1760569104; h=references:in-reply-to:cc:to:from:subject:message-id:date :x-gm-message-state:from:to:cc:subject:date:message-id:reply-to; bh=JrvkDlTOzhWFYO314kz91kC16T0sqLJSAtXgczm0Fhc=; b=kBiUJNFkGiTVSQqnGnv3SUVEv3LlDYAal2FO8wJ7dwpnJ+OTbA6bPFxOZqVAxlE+Vg 9P7GFLz5OPyIhKwlKNJN0c+AgCuqdJmlsqiqeKoWTeeHHaDnUA0K7yBDejNowxEpWPTj Wx+J8PEdpBTJXbM+6alw1u6uT+gX2oT9KW6zSuYDhvcQjs4ecBvVbw7nqS2JcSr4YubS jSuqqshQkpS2tc7d4pVTe6Ar01h2gPK6ynFsPGfZ/0qypAwNJ+ooTwqeRvZcWqMR4pWm 9guzRFOljp82v5kN6Awsu/y++wXaOHZTLKsjLTQx1ehYau7Qbq2z5g2DjOxm8I2ykwUH egTA== X-Gm-Message-State: AOJu0YwDwfzExTxr2KJ0Ec8ieLhpPOdurXK2McF+Mk//z7yAJokwKLC2 rt5hOEGOctkQug0VJeo/4J6cTaEy5jvI6X6PIypu2hP4CG6mfiCYyzrbhLjbvpBMbOV5Pdl0FMw oXcxnNBIDa8rzEpVLmuMITaIAKp31nVYEUpXjPW6guRNO X-Gm-Gg: ASbGncur29RqWJUtpNNm8P3oIAmAFMSEyaxBBVZ3azIv0ljbqdRGjZvfsXItdX2Yicz Ij1MRuFAjR9Rmbc30gHtA6pJfKiit5UB78P/Pq+oF3db062BKh5tkGeWF5V1G6s/wE5Iq7CH6y+ YKFCRep1neCk1p98vPBZH9hkbzlIeUB+Hlv8NZXs+jmwBUIYkm6ylFMRePwA4fG9/XXSbn7U3VR 7fBupDLHzc5kAUFzLkUZoehORIT3/d361fJdMvzlNMcgkqG0CvEq+1vsd2son2BXskREPEQx60/ k3igYN67e/UAB9Dg8tNuxrnfS5dRS8doa4wSI2LAdBYn7WmfofBArtJJVm5+ojtDF9A7rjD8Jmy sMw== X-Google-Smtp-Source: AGHT+IFFjgsP5W17kQE1KNumELB8loWxoDC/F8plqrfF7I5gOB1szXHs5AG8i/0hhBb0hzgQgylJ/Sv8u1pg X-Received: by 2002:a05:6602:26c8:b0:887:131c:dada with SMTP id ca18e2360f4ac-93bd18a1eafmr618416039f.5.1759964303851; Wed, 08 Oct 2025 15:58:23 -0700 (PDT) Received: from postal.iol.unh.edu (postal.iol.unh.edu. [132.177.123.84]) by smtp-relay.gmail.com with ESMTPS id 8926c6da1cb9f-57b5eb026fesm1581903173.16.2025.10.08.15.58.23 (version=TLS1_2 cipher=ECDHE-ECDSA-AES128-GCM-SHA256 bits=128/128); Wed, 08 Oct 2025 15:58:23 -0700 (PDT) X-Relaying-Domain: iol.unh.edu Date: Wed, 08 Oct 2025 15:58:23 -0700 (PDT) Message-ID: <68e6ec8f.050a0220.15fb53.4cedSMTPIN_ADDED_MISSING@mx.google.com> Received: from [172.21.0.2] (unknown [172.18.0.240]) by postal.iol.unh.edu (Postfix) with ESMTP id 621BA60003EA; Wed, 8 Oct 2025 18:58:23 -0400 (EDT) Subject: |SUCCESS| pw157320 [PATCH] app/crypto-perf: add ECDSA P192/P224/P521 From: dpdklab@iol.unh.edu To: Test Report Cc: dpdk-test-reports@iol.unh.edu, Akhil Goyal In-Reply-To: <20251008054059.3934959-1-rchiluka@marvell.com> References: <20251008054059.3934959-1-rchiluka@marvell.com> Content-Type: text/plain X-BeenThere: test-report@dpdk.org X-Mailman-Version: 2.1.29 Precedence: list List-Id: automatic DPDK test reports List-Unsubscribe: , List-Archive: List-Post: List-Help: List-Subscribe: , Errors-To: test-report-bounces@dpdk.org Test-Label: iol-compile-amd64-testing Test-Status: SUCCESS http://dpdk.org/patch/157320 _Testing PASS_ Submitter: Rupesh Chiluka Date: Wednesday, October 08 2025 05:40:59 DPDK git baseline: Repo:dpdk-next-crypto Branch: master CommitID:2aa7141a4e2c78e3cce03dbd613532a2166123c1 157320 --> testing pass Upstream job id: Generic-DPDK-Compile-Meson#432517 Test environment and result as below: +-------------------------------+--------------------+-------------------------+-------------------+----------------------+-------------------+------------------+ | Environment | dpdk_meson_compile | dpdk_llvm_clang_compile | dpdk_msvc_compile | dpdk_mingw64_compile | dpdk_compile_spdk | dpdk_compile_ovs | +===============================+====================+=========================+===================+======================+===================+==================+ | Ubuntu 20.04 | PASS | SKIPPED | SKIPPED | SKIPPED | SKIPPED | SKIPPED | +-------------------------------+--------------------+-------------------------+-------------------+----------------------+-------------------+------------------+ | FreeBSD 14.2 | PASS | SKIPPED | SKIPPED | SKIPPED | SKIPPED | SKIPPED | +-------------------------------+--------------------+-------------------------+-------------------+----------------------+-------------------+------------------+ | CentOS Stream 9 | PASS | SKIPPED | SKIPPED | SKIPPED | PASS | SKIPPED | +-------------------------------+--------------------+-------------------------+-------------------+----------------------+-------------------+------------------+ | CentOS Stream 10 | PASS | SKIPPED | SKIPPED | SKIPPED | SKIPPED | SKIPPED | +-------------------------------+--------------------+-------------------------+-------------------+----------------------+-------------------+------------------+ | Debian GNU/Linux 12 | PASS | SKIPPED | SKIPPED | SKIPPED | PASS | SKIPPED | +-------------------------------+--------------------+-------------------------+-------------------+----------------------+-------------------+------------------+ | Fedora Linux 42 | PASS | SKIPPED | SKIPPED | SKIPPED | PASS | PASS | +-------------------------------+--------------------+-------------------------+-------------------+----------------------+-------------------+------------------+ | openSUSE Leap 15.6 | PASS | SKIPPED | SKIPPED | SKIPPED | SKIPPED | SKIPPED | +-------------------------------+--------------------+-------------------------+-------------------+----------------------+-------------------+------------------+ | Red Hat Enterprise Linux 8.10 | PASS | SKIPPED | SKIPPED | SKIPPED | SKIPPED | SKIPPED | +-------------------------------+--------------------+-------------------------+-------------------+----------------------+-------------------+------------------+ | Red Hat Enterprise Linux 9.5 | PASS | SKIPPED | SKIPPED | SKIPPED | SKIPPED | SKIPPED | +-------------------------------+--------------------+-------------------------+-------------------+----------------------+-------------------+------------------+ | Ubuntu 22.04 | PASS | SKIPPED | SKIPPED | SKIPPED | PASS | SKIPPED | +-------------------------------+--------------------+-------------------------+-------------------+----------------------+-------------------+------------------+ | Ubuntu 24.04 | PASS | SKIPPED | SKIPPED | SKIPPED | PASS | PASS | +-------------------------------+--------------------+-------------------------+-------------------+----------------------+-------------------+------------------+ | Alpine Linux 3.22.0 | PASS | SKIPPED | SKIPPED | SKIPPED | SKIPPED | SKIPPED | +-------------------------------+--------------------+-------------------------+-------------------+----------------------+-------------------+------------------+ | Windows Server 2022 | SKIPPED | PASS | PASS | PASS | SKIPPED | SKIPPED | +-------------------------------+--------------------+-------------------------+-------------------+----------------------+-------------------+------------------+ Ubuntu 20.04 Kernel: 4.19 Compiler: gcc gcc (Ubuntu 9.4.0-1ubuntu1~20.04.2) 9.4.0 FreeBSD 14.2 Kernel: 14.2-RELEASE Compiler: clang 18.1.6 CentOS Stream 9 Kernel: 5.15 Compiler: gcc gcc (GCC) 11.5.0 20240719 (Red Hat 11.5.0-11) CentOS Stream 10 Kernel: 5.15 Compiler: gcc gcc (GCC) 14.2.1 20250110 (Red Hat 14.2.1-8) Debian GNU/Linux 12 Kernel: 5.15 Compiler: gcc gcc (Debian 12.2.0-14+deb12u1) 12.2.0 Fedora Linux 42 Kernel: 5.15 Compiler: clang gcc (GCC) 15.2.1 20250808 (Red Hat 15.2.1-1) openSUSE Leap 15.6 Kernel: 5.15 Compiler: gcc gcc (SUSE Linux) 7.5.0 Red Hat Enterprise Linux 8.10 Kernel: 5.15 Compiler: gcc gcc (GCC) 8.5.0 20210514 (Red Hat 8.5.0-22) Red Hat Enterprise Linux 9.5 Kernel: 5.15 Compiler: gcc gcc (GCC) 11.5.0 20240719 (Red Hat 11.5.0-2) Ubuntu 22.04 Kernel: 5.15 Compiler: gcc gcc (Ubuntu 11.4.0-1ubuntu1~22.04) 11.4.0 Ubuntu 24.04 Kernel: 5.15 Compiler: gcc gcc (Ubuntu 13.3.0-6ubuntu2~24.04) 13.3.0 Alpine Linux 3.22.0 Kernel: 5.15 Compiler: gcc gcc (Alpine 14.2.0) 14.2.0 Windows Server 2022 Kernel: 10.0.20348.2031 Compiler: clang 15.0.7, gcc 14.1.0 (MinGW), and MSVC VS 19.39.33521 To view detailed results, visit: https://lab.dpdk.org/results/dashboard/patchsets/34233/ UNH-IOL DPDK Community Lab To manage your email subscriptions, visit: https://lab.dpdk.org/results/dashboard/preferences/subscriptions/