From mboxrd@z Thu Jan 1 00:00:00 1970 Return-Path: Received: from mails.dpdk.org (mails.dpdk.org [217.70.189.124]) by inbox.dpdk.org (Postfix) with ESMTP id B9908488E7 for ; Thu, 9 Oct 2025 01:22:59 +0200 (CEST) Received: from mails.dpdk.org (localhost [127.0.0.1]) by mails.dpdk.org (Postfix) with ESMTP id 9980F40267; Thu, 9 Oct 2025 01:22:59 +0200 (CEST) Received: from mail-qv1-f97.google.com (mail-qv1-f97.google.com [209.85.219.97]) by mails.dpdk.org (Postfix) with ESMTP id E222440267 for ; Thu, 9 Oct 2025 01:22:58 +0200 (CEST) Received: by mail-qv1-f97.google.com with SMTP id 6a1803df08f44-78f75b0a058so4187166d6.0 for ; Wed, 08 Oct 2025 16:22:58 -0700 (PDT) DKIM-Signature: v=1; a=rsa-sha256; c=relaxed/relaxed; d=iol.unh.edu; s=unh-iol; t=1759965778; x=1760570578; darn=dpdk.org; h=references:in-reply-to:cc:to:from:subject:message-id:date:from:to :cc:subject:date:message-id:reply-to; bh=CONcorphu71EYlPQP0V4xIWWztCuWMHCXBnWC5zmoLs=; b=LK+GT0+OwFC8Plp+Sawxda/Cf+Iioo2V5LamWiHSIZIRqbBRv+6kXEn10KGuEdcEcQ 2OEupESAldmjPFpcAYaDZ7yNt0T/HLcHHddl16HdMQJWsSRlTfTrYejkBTUUzWY2ZCXs 6WHVxu3qsugKtpzFtUHEl5WnS42XMXnlSn/as= X-Google-DKIM-Signature: v=1; a=rsa-sha256; c=relaxed/relaxed; d=1e100.net; s=20230601; t=1759965778; x=1760570578; h=references:in-reply-to:cc:to:from:subject:message-id:date :x-gm-message-state:from:to:cc:subject:date:message-id:reply-to; bh=CONcorphu71EYlPQP0V4xIWWztCuWMHCXBnWC5zmoLs=; b=WYjMNQBS+2y0Fe6DNSTKcH+kNNrM68vCZQrHpUS4vsGypg4hKbF4v5uAldFb31i+hv h6DICdXFJvxPTSIfmvh+n4Aawn+941aeFmAuKXWWqWCYvccAL/9f7i9B/QqndsO+i5SU i7+U8zL/mkbDdNt6YVN6bBg+WcuY7FW6THEWCzNxl71X6uD/fAEcbX+5oDRoioKP+p2P wskVYulbQj+KhWM5dGHDBX0JI6ps6fsE11ZmQALUCiDZuGJoEb492kXSrfbwAYnhxQ+L LPJbxr51O41DxlTE58bUqNR6yqGDFEtzIpAEJpxBRA4FFuKFPMepcOUYWMxvaGtOJbE8 8wUA== X-Gm-Message-State: AOJu0YyYic8848exIwG2ninIIzgNBwQnb9pZalenzwzcxjOZ44NObyvA KYuD5lJv+i3LjRC+fIqc8wCRu2cNNAD+XW7sfI+YiPRKDf6/H9jiBxhP43NJfYwltKgZsdIjn25 IBetnFQzlnvpgO7blXjZc42ZXq21VdGsjEqHMiUNY8X951n5GeN5qLRbWzyU3 X-Gm-Gg: ASbGnctQy+9UIITBRBpXkyOy1kgInVfmqf7je8LFpsAr3U1ONqi86KJWFeG+uKY9CPz muswEUuQTukyOlnbXOX3FgnkFjDBOk8mhsbJcSkXNUZ0RpWqL7jrI5ctcGTPWSDvuqY3oNabEJb syPud8762o2O3FkHQwSH8S1TBWARnsvV7Q1ZMSQpyQCOChDOk/57C2KT/dPiStkFbA1nVygPQBR z8vR0nkp2cT1gjJpAT8exGdPU6yjAFjBuegUYCUurBgLsqWio6vgxBvC+4qI1eq2AzExxL2V8ZL UjPQS272AS3XXJNwU6/5ZOE6a8D6DXxJ/4Aa7Ap1wjYlWzJRQvlpbWU= X-Google-Smtp-Source: AGHT+IFXQUHFgd6rbqUQQ2piLndWlCzjJIh20QEsxIqjnmhtgswy7E5lG31NSlnd7RDdtXz/eCik0MYQb/ZQ X-Received: by 2002:a05:6214:19c3:b0:816:10d4:e50e with SMTP id 6a1803df08f44-87b210a1853mr89532386d6.23.1759965778075; Wed, 08 Oct 2025 16:22:58 -0700 (PDT) Received: from postal.iol.unh.edu (postal.iol.unh.edu. [2606:4100:3880:1234::84]) by smtp-relay.gmail.com with ESMTPS id 6a1803df08f44-878bda7380csm16517756d6.22.2025.10.08.16.22.58 (version=TLS1_2 cipher=ECDHE-ECDSA-AES128-GCM-SHA256 bits=128/128); Wed, 08 Oct 2025 16:22:58 -0700 (PDT) X-Relaying-Domain: iol.unh.edu Date: Wed, 08 Oct 2025 16:22:58 -0700 (PDT) Message-ID: <68e6f252.050a0220.3d7593.93b1SMTPIN_ADDED_MISSING@mx.google.com> Received: from [172.21.0.2] (unknown [172.18.0.240]) by postal.iol.unh.edu (Postfix) with ESMTP id B8AEA6051830; Wed, 8 Oct 2025 19:22:57 -0400 (EDT) Subject: |SUCCESS| pw157321 [PATCH] [v6] net/intel: add IDPF PCI class ID sup From: dpdklab@iol.unh.edu To: Test Report Cc: dpdk-test-reports@iol.unh.edu, Bruce Richardson In-Reply-To: <20251006181239.362664-1-venkatesh.vemula@intel.com> References: <20251006181239.362664-1-venkatesh.vemula@intel.com> Content-Type: text/plain X-BeenThere: test-report@dpdk.org X-Mailman-Version: 2.1.29 Precedence: list List-Id: automatic DPDK test reports List-Unsubscribe: , List-Archive: List-Post: List-Help: List-Subscribe: , Errors-To: test-report-bounces@dpdk.org Test-Label: iol-compile-amd64-testing Test-Status: SUCCESS http://dpdk.org/patch/157321 _Testing PASS_ Submitter: Venkatesh Vemula Date: Monday, October 06 2025 18:12:39 DPDK git baseline: Repo:dpdk-next-net-intel Branch: master CommitID:e7d8cc7ef4df3552575525697079d3c957cfcdaf 157321 --> testing pass Upstream job id: Generic-DPDK-Compile-Meson#432535 Test environment and result as below: +-------------------------------+--------------------+-------------------+-------------------------+----------------------+-------------------+------------------+ | Environment | dpdk_meson_compile | dpdk_msvc_compile | dpdk_llvm_clang_compile | dpdk_mingw64_compile | dpdk_compile_spdk | dpdk_compile_ovs | +===============================+====================+===================+=========================+======================+===================+==================+ | Ubuntu 20.04 | PASS | SKIPPED | SKIPPED | SKIPPED | SKIPPED | SKIPPED | +-------------------------------+--------------------+-------------------+-------------------------+----------------------+-------------------+------------------+ | FreeBSD 14.2 | PASS | SKIPPED | SKIPPED | SKIPPED | SKIPPED | SKIPPED | +-------------------------------+--------------------+-------------------+-------------------------+----------------------+-------------------+------------------+ | CentOS Stream 9 | PASS | SKIPPED | SKIPPED | SKIPPED | PASS | SKIPPED | +-------------------------------+--------------------+-------------------+-------------------------+----------------------+-------------------+------------------+ | CentOS Stream 10 | PASS | SKIPPED | SKIPPED | SKIPPED | SKIPPED | SKIPPED | +-------------------------------+--------------------+-------------------+-------------------------+----------------------+-------------------+------------------+ | Debian GNU/Linux 12 | PASS | SKIPPED | SKIPPED | SKIPPED | PASS | SKIPPED | +-------------------------------+--------------------+-------------------+-------------------------+----------------------+-------------------+------------------+ | Fedora Linux 42 | PASS | SKIPPED | SKIPPED | SKIPPED | PASS | PASS | +-------------------------------+--------------------+-------------------+-------------------------+----------------------+-------------------+------------------+ | openSUSE Leap 15.6 | PASS | SKIPPED | SKIPPED | SKIPPED | SKIPPED | SKIPPED | +-------------------------------+--------------------+-------------------+-------------------------+----------------------+-------------------+------------------+ | Red Hat Enterprise Linux 8.10 | PASS | SKIPPED | SKIPPED | SKIPPED | SKIPPED | SKIPPED | +-------------------------------+--------------------+-------------------+-------------------------+----------------------+-------------------+------------------+ | Red Hat Enterprise Linux 9.5 | PASS | SKIPPED | SKIPPED | SKIPPED | SKIPPED | SKIPPED | +-------------------------------+--------------------+-------------------+-------------------------+----------------------+-------------------+------------------+ | Ubuntu 22.04 | PASS | SKIPPED | SKIPPED | SKIPPED | PASS | SKIPPED | +-------------------------------+--------------------+-------------------+-------------------------+----------------------+-------------------+------------------+ | Ubuntu 24.04 | PASS | SKIPPED | SKIPPED | SKIPPED | PASS | PASS | +-------------------------------+--------------------+-------------------+-------------------------+----------------------+-------------------+------------------+ | Windows Server 2022 | SKIPPED | PASS | PASS | PASS | SKIPPED | SKIPPED | +-------------------------------+--------------------+-------------------+-------------------------+----------------------+-------------------+------------------+ Ubuntu 20.04 Kernel: 4.19 Compiler: gcc gcc (Ubuntu 9.4.0-1ubuntu1~20.04.2) 9.4.0 FreeBSD 14.2 Kernel: 14.2-RELEASE Compiler: clang 18.1.6 CentOS Stream 9 Kernel: 5.15 Compiler: gcc gcc (GCC) 11.5.0 20240719 (Red Hat 11.5.0-11) CentOS Stream 10 Kernel: 5.15 Compiler: gcc gcc (GCC) 14.2.1 20250110 (Red Hat 14.2.1-8) Debian GNU/Linux 12 Kernel: 5.15 Compiler: gcc gcc (Debian 12.2.0-14+deb12u1) 12.2.0 Fedora Linux 42 Kernel: 5.15 Compiler: clang gcc (GCC) 15.2.1 20250808 (Red Hat 15.2.1-1) openSUSE Leap 15.6 Kernel: 5.15 Compiler: gcc gcc (SUSE Linux) 7.5.0 Red Hat Enterprise Linux 8.10 Kernel: 5.15 Compiler: gcc gcc (GCC) 8.5.0 20210514 (Red Hat 8.5.0-22) Red Hat Enterprise Linux 9.5 Kernel: 5.15 Compiler: gcc gcc (GCC) 11.5.0 20240719 (Red Hat 11.5.0-2) Ubuntu 22.04 Kernel: 5.15 Compiler: gcc gcc (Ubuntu 11.4.0-1ubuntu1~22.04) 11.4.0 Ubuntu 24.04 Kernel: 5.15 Compiler: gcc gcc (Ubuntu 13.3.0-6ubuntu2~24.04) 13.3.0 Windows Server 2022 Kernel: 10.0.20348.2031 Compiler: clang 15.0.7, gcc 14.1.0 (MinGW), and MSVC VS 19.39.33521 To view detailed results, visit: https://lab.dpdk.org/results/dashboard/patchsets/34234/ UNH-IOL DPDK Community Lab To manage your email subscriptions, visit: https://lab.dpdk.org/results/dashboard/preferences/subscriptions/