From mboxrd@z Thu Jan 1 00:00:00 1970 Return-Path: Received: from mails.dpdk.org (mails.dpdk.org [217.70.189.124]) by inbox.dpdk.org (Postfix) with ESMTP id 53B15488E7 for ; Thu, 9 Oct 2025 01:29:14 +0200 (CEST) Received: from mails.dpdk.org (localhost [127.0.0.1]) by mails.dpdk.org (Postfix) with ESMTP id 317D140267; Thu, 9 Oct 2025 01:29:14 +0200 (CEST) Received: from mail-pl1-f226.google.com (mail-pl1-f226.google.com [209.85.214.226]) by mails.dpdk.org (Postfix) with ESMTP id F286B40267 for ; Thu, 9 Oct 2025 01:29:12 +0200 (CEST) Received: by mail-pl1-f226.google.com with SMTP id d9443c01a7336-28832ad6f64so4136795ad.1 for ; Wed, 08 Oct 2025 16:29:12 -0700 (PDT) DKIM-Signature: v=1; a=rsa-sha256; c=relaxed/relaxed; d=iol.unh.edu; s=unh-iol; t=1759966152; x=1760570952; darn=dpdk.org; h=cc:to:from:subject:message-id:date:from:to:cc:subject:date :message-id:reply-to; bh=czNxeSrFo/aYQlBdx9vcaXFKWtIkltx1DwipM73Kskw=; b=MFI8TWwLGwrwi2R8DelWzBhvF13IAoO+PGXaWyxSnSXeK+wkcDdPKHKMk0PWbLINUT RVd+Gzsp/VIlKukg7k1Oz2WXDNhF3LwQNbOiBLJ4uc7lNmTinYkv255rQNQgZN0EPC9K MMtT4uAx1rmf5iDehGbGRIaPPCzL2dfUhYlKY= X-Google-DKIM-Signature: v=1; a=rsa-sha256; c=relaxed/relaxed; d=1e100.net; s=20230601; t=1759966152; x=1760570952; h=cc:to:from:subject:message-id:date:x-gm-message-state:from:to:cc :subject:date:message-id:reply-to; bh=czNxeSrFo/aYQlBdx9vcaXFKWtIkltx1DwipM73Kskw=; b=hEGy6LFqifI3Mpmq39vkXG0qH4ngTeHu/Tb0ACdmxLkMpx9zU0rjYuXIFJEA6PWRRC xEnR9gwHL03O+CstNWGzOeRy/LPMgGFJTjcr/wrGa7CxfE0oIhiUBw34MabWihbzKG6t 1MNiG5F55Tgg0vyynIFNf+5xQodowwe3eBxI2qKysLbNI3/Mw73so5hEoFVOQa5caxSJ hHVcoz9nArZ7L9Dm6h8v5qfH0P0SAAJJZlE1zUO5MbCuCCcuk7Cn2JAVm2lcZ/9uYDWE 9AcwoTQABeuZdvO/0k3ZYq3hH/9ZxFDCjkasbpun+jEzi1JXFC74nAY6Dm7pBt6nY1Z0 4EhA== X-Gm-Message-State: AOJu0Yxr9sGirrguYSCy/VnCyVRUfWgBPIX+FS+48CSL73MlyFNnIe9T X42qhqvA4HR/4ovbtMY4lbTdaUA1lrkytyriRGAS3fRjchjQqt4FvggKW1F1BK9JhZYOADSnEn/ 8QLKwUaYw7sZYU1WQmKEh/6/PjUzqY790S/6l1kk9SNJi X-Gm-Gg: ASbGncvSAKRyvXy6d1wbUB0Sy7Pv2FplWxZxn4vOgKAl7gkdQXXjU7kykFdpjaS4uDP t27jpO4Pkh2tqjlSj6Z6tMxyT/bAFB28r943IV7g//lEIx4af0e+PBiPzaCy6N4oBHyY3cNH8n9 ZjMiZVkJq9XTROaeDo9lN2uXjIWNYdxAZF1QlPp1g/r9qoUD2gnah14LrHE1TEHb2E2AfiHPsTs 5AqbOlQ7jDtcqpKpp7zd2UdB9b/r91jBELr5maVtUaVcfmGXvajJofAnGRatpvXagpGS592sIJc nx/xOYd2Dp8/rrtIZRcaChCs7+93zoU6gkXopr/P9+qKne8kF8tuWR8uxcbrs2tPxWJcYMvHupD ArA== X-Google-Smtp-Source: AGHT+IE2UTm3YDRb2LNSn5zqOUuqBk1uxG5hNic5YglKeaGYnlcwX/MU5FMVueVNmXViYXT/vvU175F9wECD X-Received: by 2002:a17:902:cf41:b0:267:776b:a315 with SMTP id d9443c01a7336-290272c2019mr66710895ad.32.1759966152135; Wed, 08 Oct 2025 16:29:12 -0700 (PDT) Received: from postal.iol.unh.edu (postal.iol.unh.edu. [132.177.123.84]) by smtp-relay.gmail.com with ESMTPS id d9443c01a7336-29034f7f1c5sm861615ad.64.2025.10.08.16.29.12 (version=TLS1_2 cipher=ECDHE-ECDSA-AES128-GCM-SHA256 bits=128/128); Wed, 08 Oct 2025 16:29:12 -0700 (PDT) X-Relaying-Domain: iol.unh.edu Date: Wed, 08 Oct 2025 16:29:12 -0700 (PDT) Message-ID: <68e6f3c8.170a0220.3b11fc.4f64SMTPIN_ADDED_MISSING@mx.google.com> Received: from [172.21.0.2] (unknown [172.18.0.240]) by postal.iol.unh.edu (Postfix) with ESMTP id 5CC106051830; Wed, 8 Oct 2025 19:29:11 -0400 (EDT) Subject: |SUCCESS| [GIT MASTER] 2aa7141a4e2c78e3cce03dbd613532a2166123c1 From: dpdklab@iol.unh.edu To: Test Report Cc: dpdk-test-reports@iol.unh.edu, Akhil Goyal Content-Type: text/plain X-BeenThere: test-report@dpdk.org X-Mailman-Version: 2.1.29 Precedence: list List-Id: automatic DPDK test reports List-Unsubscribe: , List-Archive: List-Post: List-Help: List-Subscribe: , Errors-To: test-report-bounces@dpdk.org _Testing PASS_ Branch: dpdk-next-crypto 2aa7141a4e2c78e3cce03dbd613532a2166123c1 --> testing pass Upstream job id: Generic-DPDK-Compile-Meson#432360 Test environment and result as below: +------------------------------+--------------------+ | Environment | dpdk_meson_compile | +==============================+====================+ | Red Hat Enterprise Linux 9.5 | PASS | +------------------------------+--------------------+ | Ubuntu 20.04 | PASS | +------------------------------+--------------------+ | Debian GNU/Linux 12 | PASS | +------------------------------+--------------------+ | Fedora Linux 42 | PASS | +------------------------------+--------------------+ | Ubuntu 22.04 | PASS | +------------------------------+--------------------+ | Ubuntu 24.04 | PASS | +------------------------------+--------------------+ | CentOS Stream 9 | PASS | +------------------------------+--------------------+ | CentOS Stream 10 | PASS | +------------------------------+--------------------+ Red Hat Enterprise Linux 9.5 Kernel: 5.4 Compiler: gcc gcc (GCC) 11.5.0 20240719 (Red Hat 11.5.0-2) Ubuntu 20.04 Kernel: 5.15 Compiler: aarch64-linux-gnu-gcc gcc (Ubuntu 9.4.0-1ubuntu1~20.04.2) 9.4.0 Debian GNU/Linux 12 Kernel: 5.4 Compiler: gcc gcc (Debian 12.2.0-14+deb12u1) 12.2.0 Fedora Linux 42 Kernel: 5.4 Compiler: gcc gcc (GCC) 15.2.1 20250808 (Red Hat 15.2.1-1) Ubuntu 22.04 Kernel: 5.4 Compiler: gcc gcc (Ubuntu 11.4.0-1ubuntu1~22.04) 11.4.0 Ubuntu 24.04 Kernel: 5.4 Compiler: gcc gcc (Ubuntu 13.3.0-6ubuntu2~24.04) 13.3.0 CentOS Stream 9 Kernel: 5.4 Compiler: gcc gcc (GCC) 11.5.0 20240719 (Red Hat 11.5.0-11) CentOS Stream 10 Kernel: 5.4 Compiler: gcc gcc (GCC) 14.2.1 20250110 (Red Hat 14.2.1-8) To view detailed results, visit: https://lab.dpdk.org/results/dashboard/tarballs/35135/ UNH-IOL DPDK Community Lab To manage your email subscriptions, visit: https://lab.dpdk.org/results/dashboard/preferences/subscriptions/