From mboxrd@z Thu Jan 1 00:00:00 1970 Return-Path: Received: from mails.dpdk.org (mails.dpdk.org [217.70.189.124]) by inbox.dpdk.org (Postfix) with ESMTP id 36A8B488E7 for ; Thu, 9 Oct 2025 01:40:09 +0200 (CEST) Received: from mails.dpdk.org (localhost [127.0.0.1]) by mails.dpdk.org (Postfix) with ESMTP id 334FA40267; Thu, 9 Oct 2025 01:40:09 +0200 (CEST) Received: from mail-qt1-f226.google.com (mail-qt1-f226.google.com [209.85.160.226]) by mails.dpdk.org (Postfix) with ESMTP id 0DC9C40267 for ; Thu, 9 Oct 2025 01:40:08 +0200 (CEST) Received: by mail-qt1-f226.google.com with SMTP id d75a77b69052e-4e3117ea7a2so4330201cf.2 for ; Wed, 08 Oct 2025 16:40:08 -0700 (PDT) DKIM-Signature: v=1; a=rsa-sha256; c=relaxed/relaxed; d=iol.unh.edu; s=unh-iol; t=1759966807; x=1760571607; darn=dpdk.org; h=references:in-reply-to:cc:to:from:subject:message-id:date:from:to :cc:subject:date:message-id:reply-to; bh=wgVCugXuB/325Rc6wDr7M+dxjbvonTSlXmXhgryws5Y=; b=I/digTcTiGI2XlwABPrTtANT76unrhXqmwTbsNAAu1/2gXf91fb1pgTnmP89vxyJ/Q UaDkRTbBTsZJeWgKxfCuMPAyxL1KcOfPkeI1BBqaFwfXLvkOOv94JXIkCTlalgBRv9Rh 92thOLlOtuwOqVOULX11QoJwZ5obeY/+188Oo= X-Google-DKIM-Signature: v=1; a=rsa-sha256; c=relaxed/relaxed; d=1e100.net; s=20230601; t=1759966807; x=1760571607; h=references:in-reply-to:cc:to:from:subject:message-id:date :x-gm-message-state:from:to:cc:subject:date:message-id:reply-to; bh=wgVCugXuB/325Rc6wDr7M+dxjbvonTSlXmXhgryws5Y=; b=evfBg3tvvNi1DJg3LWQ0TtDptDuLLO1mxNNOPoZdicBtXHrllyvVCw4X3PUpSXHwYC tGflkZDvkCW6WJ6GDwJByw5v4QI969gNC63tDYEns4oV+Pe6A5ywdiKB4ahFSyOM0xUs hfNbhGvkZCfu2NwcUJw4y52cuns50bEcvv4caToDUqFwhBnLWcGVAifkWA1bwUa9kHcc P3jblbN1QKd2QS5twVN832H50UCYhwL1eBEfHc3yVie/3+L1Y99tkxag2PiyuBPShB2N 2v5ffXD71YZMPyraCpt36n8GJgYn1NJpJdQ9BK43jix3uyhEwevZHOHk+FSCN4+twHYO lLOA== X-Gm-Message-State: AOJu0YyAdFR6rujiuGscGfAhnPCEQTtw1NWUTM4LdlcrbhrYdyAimKa2 1XxKqRklzBPttqf3YRLCiLe7hJ9v/JkxPoIldDwjBoPyW8gGZ0aBNCk314u6cnqYcz5XoMvHvy1 iA06On9qnrGhd3jwCI7oJyjBF+MJ44qv3h0GnSOU023fhiBcdJo7c+X77kz6g X-Gm-Gg: ASbGncszhTPl3dQqMar2ia7KMCJ9C8rRDmfpg1gQ+gKMQZoWCtj5Tlcv4Ptsu8ioIUi yWyvYsk/MErHtaZQE7CVqAm6oAx6I08oSJryNnx/nyaYM94G9P/GFqpyAIvFyAafK43B/aFMKBh uotyyASl/JurwCj8BYsONaTA8WTaFo0t0mSIlLtbFVIH6pdQezuA7ElfAVYViLmcR1x6cLv8kv1 6rQoq9YkOOo3Cbl3zCuirTUTW2UWW5/J/MFg9wHZxz+ZDTb36fsqU+KwQo+MP/KOeuVZJi7Igrh +9ziqNPbf03IIGgoPqpvDXqgTE+OYrCKLSycLLG4Yxx1nmBeUllMd9I= X-Google-Smtp-Source: AGHT+IFQyH4r0uPZXN2CL8Jc6Umiw9176nGMYDMzTs+9mrZ0rzilR+V60EzYI9bS1x6249HjNsJIRfcfQkyz X-Received: by 2002:a05:622a:5888:b0:4e5:6ca7:16a3 with SMTP id d75a77b69052e-4e6ead4c8c0mr84874911cf.48.1759966807455; Wed, 08 Oct 2025 16:40:07 -0700 (PDT) Received: from postal.iol.unh.edu (postal.iol.unh.edu. [2606:4100:3880:1234::84]) by smtp-relay.gmail.com with ESMTPS id d75a77b69052e-4e5577e3eeasm7389681cf.0.2025.10.08.16.40.07 (version=TLS1_2 cipher=ECDHE-ECDSA-AES128-GCM-SHA256 bits=128/128); Wed, 08 Oct 2025 16:40:07 -0700 (PDT) X-Relaying-Domain: iol.unh.edu Date: Wed, 08 Oct 2025 16:40:07 -0700 (PDT) Message-ID: <68e6f657.c80a0220.12387.70baSMTPIN_ADDED_MISSING@mx.google.com> Received: from [172.21.0.3] (unknown [172.18.0.240]) by postal.iol.unh.edu (Postfix) with ESMTP id 341AF6051830; Wed, 8 Oct 2025 19:40:07 -0400 (EDT) Subject: |SUCCESS| pw157322 [PATCH] compressdev: fix device ID validation che From: dpdklab@iol.unh.edu To: Test Report Cc: dpdk-test-reports@iol.unh.edu, Akhil Goyal In-Reply-To: <20251008074532.3066685-1-ashishg@marvell.com> References: <20251008074532.3066685-1-ashishg@marvell.com> Content-Type: text/plain X-BeenThere: test-report@dpdk.org X-Mailman-Version: 2.1.29 Precedence: list List-Id: automatic DPDK test reports List-Unsubscribe: , List-Archive: List-Post: List-Help: List-Subscribe: , Errors-To: test-report-bounces@dpdk.org Test-Label: iol-compile-amd64-testing Test-Status: SUCCESS http://dpdk.org/patch/157322 _Testing PASS_ Submitter: Ashish Gupta Date: Wednesday, October 08 2025 07:45:23 DPDK git baseline: Repo:dpdk-next-crypto Branch: master CommitID:2aa7141a4e2c78e3cce03dbd613532a2166123c1 157322 --> testing pass Upstream job id: Generic-DPDK-Compile-Meson#432547 Test environment and result as below: +---------------------+-------------------------+-------------------+--------------------+----------------------+-------------------+ | Environment | dpdk_llvm_clang_compile | dpdk_msvc_compile | dpdk_meson_compile | dpdk_mingw64_compile | dpdk_compile_spdk | +=====================+=========================+===================+====================+======================+===================+ | Windows Server 2022 | PASS | PASS | SKIPPED | PASS | SKIPPED | +---------------------+-------------------------+-------------------+--------------------+----------------------+-------------------+ | FreeBSD 14.2 | SKIPPED | SKIPPED | PASS | SKIPPED | SKIPPED | +---------------------+-------------------------+-------------------+--------------------+----------------------+-------------------+ | Ubuntu 20.04 | SKIPPED | SKIPPED | PASS | SKIPPED | SKIPPED | +---------------------+-------------------------+-------------------+--------------------+----------------------+-------------------+ | CentOS Stream 9 | SKIPPED | SKIPPED | PASS | SKIPPED | PASS | +---------------------+-------------------------+-------------------+--------------------+----------------------+-------------------+ Windows Server 2022 Kernel: 10.0.20348.2031 Compiler: clang 15.0.7, gcc 14.1.0 (MinGW), and MSVC VS 19.39.33521 FreeBSD 14.2 Kernel: 14.2-RELEASE Compiler: clang 18.1.6 Ubuntu 20.04 Kernel: 4.19 Compiler: gcc gcc (Ubuntu 9.4.0-1ubuntu1~20.04.2) 9.4.0 CentOS Stream 9 Kernel: 5.15 Compiler: gcc gcc (GCC) 11.5.0 20240719 (Red Hat 11.5.0-11) To view detailed results, visit: https://lab.dpdk.org/results/dashboard/patchsets/34235/ UNH-IOL DPDK Community Lab To manage your email subscriptions, visit: https://lab.dpdk.org/results/dashboard/preferences/subscriptions/