From mboxrd@z Thu Jan 1 00:00:00 1970 Return-Path: Received: from mails.dpdk.org (mails.dpdk.org [217.70.189.124]) by inbox.dpdk.org (Postfix) with ESMTP id 9BDE0488E7 for ; Thu, 9 Oct 2025 01:43:04 +0200 (CEST) Received: from mails.dpdk.org (localhost [127.0.0.1]) by mails.dpdk.org (Postfix) with ESMTP id 78B5E40267; Thu, 9 Oct 2025 01:43:04 +0200 (CEST) Received: from mail-il1-f227.google.com (mail-il1-f227.google.com [209.85.166.227]) by mails.dpdk.org (Postfix) with ESMTP id B73F240267 for ; Thu, 9 Oct 2025 01:43:03 +0200 (CEST) Received: by mail-il1-f227.google.com with SMTP id e9e14a558f8ab-4248b34fc8eso4257795ab.3 for ; Wed, 08 Oct 2025 16:43:03 -0700 (PDT) DKIM-Signature: v=1; a=rsa-sha256; c=relaxed/relaxed; d=iol.unh.edu; s=unh-iol; t=1759966983; x=1760571783; darn=dpdk.org; h=references:in-reply-to:cc:to:from:subject:message-id:date:from:to :cc:subject:date:message-id:reply-to; bh=tQfhoTT7ki3QLw5bx71xTsEdpSyDEOaMAmU57O8aEIo=; b=Orsl5NoQUGrbGQBkgA3nUUlCMviqfAvkcZozDOijrJE2vZTQocTGzbTYZgdhgn4/L5 hgKVB5UMQH70+3FGiMrwyvgb+Utr7GeGcypZ9nLnXGdxsOvvCw7upw2cllSGZwLglNCX BKD3A/ZVr3sarZkL0dSGRwvtLNQLdJJ22G99g= X-Google-DKIM-Signature: v=1; a=rsa-sha256; c=relaxed/relaxed; d=1e100.net; s=20230601; t=1759966983; x=1760571783; h=references:in-reply-to:cc:to:from:subject:message-id:date :x-gm-message-state:from:to:cc:subject:date:message-id:reply-to; bh=tQfhoTT7ki3QLw5bx71xTsEdpSyDEOaMAmU57O8aEIo=; b=kgbPX+6+0yrsEZ1MHmQkg+SGf2f7NaFlYSquhaXbbmvGobkO/CDIxZD+Ixz6F/tdEk RqhPtNMwtjVaRXwRGzgOERGALqb7yOCP79JMoUuXEamerYfqAMnzxmYGTaNaZzwfBmVo DVgYyIMsNpL3atZqcJw7q69e740IFLULXDhWss2xl62z07cCypHNiFrPfNhlzORXuUDQ PMDLwiY3uj/8qlci3f0E0UwStLsHbLClzsULKIL4M2TIXjiTqJm/Cn2P1C3mTlTLLbFt gLzFXy389nnwgFBY5L35AAc0b4dNyo9/nsUbEvsCQcEFERxfmO7XFl4xyyb/V+AGDT6J DwKg== X-Gm-Message-State: AOJu0Yw1GFsdizrg+o8r8oW9QE1ZBaX0HIdmC0a7AbyTd5CNj1hfDYE/ l4Zr2XXi8mPN1povWL/hlwWHxo32qBU2ow528/2mojGxpOZPnTAnez6LxRUGryYFkDfomeZs5q+ ItJHznuM3LkFW6EcgN55wCDjqv7j5j+scD0hbjg/SRCd+3YGua4qx1KPOGLpz X-Gm-Gg: ASbGncuwuHM2629/N2wYtYDBLcg7Gfszfos++ZUfB7I4tPoTarFB+R9wbktEKMWbR/1 gUOxivB375a0+qiW84ExAPLf9dA8tT2qtTrTPXGuoTSMiAAWPtGNLFuVTtvJShXtpASEP0VptFe lWky4Vpfhlv1hxkHe81BAlH7lcBAWNmDtmcc44GqhO+ylmFYjq7RPrTTd+PkVa9uvhvA3sHRg35 AFNhDc3m/khi+p1IKVrYgmh+WKj5y3O6uIfqoelfPjZelhOSUsI6tjUVwvWb/TtIJDjy+6E5Wck JnNVy2oDjExDXw308mEbKF0+oBCLatG41HZQ/lxmjEZRhpV5KknN/lw= X-Google-Smtp-Source: AGHT+IH/RXTQww4vyGu/ODTj8ogsi2zIsn56QIeGkuf3XiCqugIh9bRyBO/8ssCsFDrXJf86yfw1LdSBJ9xn X-Received: by 2002:a05:6e02:1986:b0:426:3ab1:74bb with SMTP id e9e14a558f8ab-42f873d1c56mr55819515ab.18.1759966982953; Wed, 08 Oct 2025 16:43:02 -0700 (PDT) Received: from postal.iol.unh.edu (postal.iol.unh.edu. [2606:4100:3880:1234::84]) by smtp-relay.gmail.com with ESMTPS id e9e14a558f8ab-42f903175dfsm703705ab.24.2025.10.08.16.43.02 (version=TLS1_2 cipher=ECDHE-ECDSA-AES128-GCM-SHA256 bits=128/128); Wed, 08 Oct 2025 16:43:02 -0700 (PDT) X-Relaying-Domain: iol.unh.edu Date: Wed, 08 Oct 2025 16:43:02 -0700 (PDT) Message-ID: <68e6f706.050a0220.b524f.4213SMTPIN_ADDED_MISSING@mx.google.com> Received: from [172.21.0.2] (unknown [172.18.0.240]) by postal.iol.unh.edu (Postfix) with ESMTP id 7430B6051830; Wed, 8 Oct 2025 19:43:02 -0400 (EDT) Subject: |SUCCESS| pw157322 [PATCH] compressdev: fix device ID validation che From: dpdklab@iol.unh.edu To: Test Report Cc: dpdk-test-reports@iol.unh.edu, Akhil Goyal In-Reply-To: <20251008074532.3066685-1-ashishg@marvell.com> References: <20251008074532.3066685-1-ashishg@marvell.com> Content-Type: text/plain X-BeenThere: test-report@dpdk.org X-Mailman-Version: 2.1.29 Precedence: list List-Id: automatic DPDK test reports List-Unsubscribe: , List-Archive: List-Post: List-Help: List-Subscribe: , Errors-To: test-report-bounces@dpdk.org Test-Label: iol-compile-amd64-testing Test-Status: SUCCESS http://dpdk.org/patch/157322 _Testing PASS_ Submitter: Ashish Gupta Date: Wednesday, October 08 2025 07:45:23 DPDK git baseline: Repo:dpdk-next-crypto Branch: master CommitID:2aa7141a4e2c78e3cce03dbd613532a2166123c1 157322 --> testing pass Upstream job id: Generic-DPDK-Compile-Meson#432548 Test environment and result as below: +---------------------+-------------------------+-------------------+--------------------+----------------------+-------------------+ | Environment | dpdk_llvm_clang_compile | dpdk_msvc_compile | dpdk_meson_compile | dpdk_mingw64_compile | dpdk_compile_spdk | +=====================+=========================+===================+====================+======================+===================+ | Windows Server 2022 | PASS | PASS | SKIPPED | PASS | SKIPPED | +---------------------+-------------------------+-------------------+--------------------+----------------------+-------------------+ | FreeBSD 14.2 | SKIPPED | SKIPPED | PASS | SKIPPED | SKIPPED | +---------------------+-------------------------+-------------------+--------------------+----------------------+-------------------+ | Ubuntu 20.04 | SKIPPED | SKIPPED | PASS | SKIPPED | SKIPPED | +---------------------+-------------------------+-------------------+--------------------+----------------------+-------------------+ | CentOS Stream 9 | SKIPPED | SKIPPED | PASS | SKIPPED | PASS | +---------------------+-------------------------+-------------------+--------------------+----------------------+-------------------+ | CentOS Stream 10 | SKIPPED | SKIPPED | PASS | SKIPPED | SKIPPED | +---------------------+-------------------------+-------------------+--------------------+----------------------+-------------------+ Windows Server 2022 Kernel: 10.0.20348.2031 Compiler: clang 15.0.7, gcc 14.1.0 (MinGW), and MSVC VS 19.39.33521 FreeBSD 14.2 Kernel: 14.2-RELEASE Compiler: clang 18.1.6 Ubuntu 20.04 Kernel: 4.19 Compiler: gcc gcc (Ubuntu 9.4.0-1ubuntu1~20.04.2) 9.4.0 CentOS Stream 9 Kernel: 5.15 Compiler: gcc gcc (GCC) 11.5.0 20240719 (Red Hat 11.5.0-11) CentOS Stream 10 Kernel: 5.15 Compiler: gcc gcc (GCC) 14.2.1 20250110 (Red Hat 14.2.1-8) To view detailed results, visit: https://lab.dpdk.org/results/dashboard/patchsets/34235/ UNH-IOL DPDK Community Lab To manage your email subscriptions, visit: https://lab.dpdk.org/results/dashboard/preferences/subscriptions/