From mboxrd@z Thu Jan 1 00:00:00 1970 Return-Path: Received: from mails.dpdk.org (mails.dpdk.org [217.70.189.124]) by inbox.dpdk.org (Postfix) with ESMTP id 0FF3A488E7 for ; Thu, 9 Oct 2025 01:47:58 +0200 (CEST) Received: from mails.dpdk.org (localhost [127.0.0.1]) by mails.dpdk.org (Postfix) with ESMTP id DFFC640267; Thu, 9 Oct 2025 01:47:57 +0200 (CEST) Received: from mail-pl1-f225.google.com (mail-pl1-f225.google.com [209.85.214.225]) by mails.dpdk.org (Postfix) with ESMTP id D67F640267 for ; Thu, 9 Oct 2025 01:47:56 +0200 (CEST) Received: by mail-pl1-f225.google.com with SMTP id d9443c01a7336-269639879c3so3293235ad.2 for ; Wed, 08 Oct 2025 16:47:56 -0700 (PDT) DKIM-Signature: v=1; a=rsa-sha256; c=relaxed/relaxed; d=iol.unh.edu; s=unh-iol; t=1759967276; x=1760572076; darn=dpdk.org; h=references:in-reply-to:cc:to:from:subject:message-id:date:from:to :cc:subject:date:message-id:reply-to; bh=bMt96PBMNQbN4QCS0weAEYCs0NhGfiwDumsaj7Kt/Eo=; b=VpOKnlJ0nsISCVrGVgRQRHSNsfmnO/wDeByqGKdzLAeKaH4EKJ9rPJXW/NucaCPLb4 duk5UiWxQ7BnPQyLqaa16JBQmOeAmjnj1x49r5hlYSCfg58Z3Z83+K/8jD/cUkvlZq8i U7VqorVzqIeIF/VmY4SFnWMusd6nyk/SF8mvE= X-Google-DKIM-Signature: v=1; a=rsa-sha256; c=relaxed/relaxed; d=1e100.net; s=20230601; t=1759967276; x=1760572076; h=references:in-reply-to:cc:to:from:subject:message-id:date :x-gm-message-state:from:to:cc:subject:date:message-id:reply-to; bh=bMt96PBMNQbN4QCS0weAEYCs0NhGfiwDumsaj7Kt/Eo=; b=FsTX7VHMxuesy3//7P/wpE57apz6/Ql2fPSnSI0Lg6vQSsjr4WVzuqAfB7HfwiE14e a1rRA3xw8bW6C8A7b7URurWOnBhO9wGu6g38F2Y+eO96+OTJGOVOtRvjj9uvVjUVKOH8 F5XbquyhCc6SnPHZijwwcY0duR/VN6jVzlHjHQmUnH1zRvMiUfKqqBEa9cIQS/aCrVII 8RIQ+eWkuAKDEjjqH9urtnfZW9B/U3p2TsiHMMr35ozZwC2YZVYJBF1wZ1jyYNDG1PN7 1igJsrKo6alAmhhae9gX3XkAJuWp5A2RPd/HnuCmWLWlT+A4VGYXPOQS1LFqUtmmPdd8 LQNQ== X-Gm-Message-State: AOJu0YyPLZBSaiUSCGwd1yfK2kiRVkrZDAdKTf+qDNKzNw05bOZ2maFb k6n+Gg+9pK88AC3DFpfac07gt7eNfr9LWtAauuRPdz44ZuiXk5LZ3fgGoi/dTaCScLodTPgQ80r VIrt653Ul22EUyZVnXIKTb/Xzq7rtgd4tBAg+EcEjAb1vzZ3B6OSfjqJ3M9kz X-Gm-Gg: ASbGncsIFQcR4oSY+8ZpC8DUP/7sxdD6YfSNq1BQX6eZFRvUbt+VRDa31KdJpirYAXm nT29PEl4W/1pA+20MJ/kk2QuPc4+6tmLHKSSLnfcmYB5Jjqq/cWr7mDNAPA4lAMvDUf+nKOdq5G KHnVD4GNOUazWK28eyeZPCt3PF2JY/iWLRjYOM5YV6Dem+o/AEpTKj7am4PCHxyX4LcP+OgkPyo vmRXQ2JCj9j7UVPhhqmBYCsVsHz5yyS3n1Iw5gvgou3Z7zEcaTF8PbadeaIMfRYVvPIUgfBWEGy tcZTBGK4hNEy3JlxI66vFlgNYK2KJ1kyHmwijgMHPFHYk9IuX7ZJJ3U= X-Google-Smtp-Source: AGHT+IGBUWZHqGRbwjsKwoVBL0Z073kTF17DVyx4DDRxncRBj9GjZZ+WGQcdW3NoA1XLRf+B7HzwOjjD8CuY X-Received: by 2002:a17:902:ea04:b0:270:ea84:3242 with SMTP id d9443c01a7336-29027373b53mr76621755ad.15.1759967275917; Wed, 08 Oct 2025 16:47:55 -0700 (PDT) Received: from postal.iol.unh.edu (postal.iol.unh.edu. [2606:4100:3880:1234::84]) by smtp-relay.gmail.com with ESMTPS id d9443c01a7336-29034df83c1sm912675ad.5.2025.10.08.16.47.55 (version=TLS1_2 cipher=ECDHE-ECDSA-AES128-GCM-SHA256 bits=128/128); Wed, 08 Oct 2025 16:47:55 -0700 (PDT) X-Relaying-Domain: iol.unh.edu Date: Wed, 08 Oct 2025 16:47:55 -0700 (PDT) Message-ID: <68e6f82b.170a0220.1397f9.5292SMTPIN_ADDED_MISSING@mx.google.com> Received: from [172.21.0.2] (unknown [172.18.0.240]) by postal.iol.unh.edu (Postfix) with ESMTP id 247CC6051830; Wed, 8 Oct 2025 19:47:55 -0400 (EDT) Subject: |SUCCESS| pw157321 [PATCH] [v6] net/intel: add IDPF PCI class ID sup From: dpdklab@iol.unh.edu To: Test Report Cc: dpdk-test-reports@iol.unh.edu, Bruce Richardson In-Reply-To: <20251006181239.362664-1-venkatesh.vemula@intel.com> References: <20251006181239.362664-1-venkatesh.vemula@intel.com> Content-Type: text/plain X-BeenThere: test-report@dpdk.org X-Mailman-Version: 2.1.29 Precedence: list List-Id: automatic DPDK test reports List-Unsubscribe: , List-Archive: List-Post: List-Help: List-Subscribe: , Errors-To: test-report-bounces@dpdk.org Test-Label: iol-compile-amd64-testing Test-Status: SUCCESS http://dpdk.org/patch/157321 _Testing PASS_ Submitter: Venkatesh Vemula Date: Monday, October 06 2025 18:12:39 DPDK git baseline: Repo:dpdk-next-net-intel Branch: master CommitID:e7d8cc7ef4df3552575525697079d3c957cfcdaf 157321 --> testing pass Upstream job id: Generic-DPDK-Compile-Meson#432545 Test environment and result as below: +-------------------------------+--------------------+-------------------+-------------------------+----------------------+-------------------+------------------+ | Environment | dpdk_meson_compile | dpdk_msvc_compile | dpdk_llvm_clang_compile | dpdk_mingw64_compile | dpdk_compile_spdk | dpdk_compile_ovs | +===============================+====================+===================+=========================+======================+===================+==================+ | Ubuntu 20.04 | PASS | SKIPPED | SKIPPED | SKIPPED | SKIPPED | SKIPPED | +-------------------------------+--------------------+-------------------+-------------------------+----------------------+-------------------+------------------+ | FreeBSD 14.2 | PASS | SKIPPED | SKIPPED | SKIPPED | SKIPPED | SKIPPED | +-------------------------------+--------------------+-------------------+-------------------------+----------------------+-------------------+------------------+ | CentOS Stream 9 | PASS | SKIPPED | SKIPPED | SKIPPED | PASS | SKIPPED | +-------------------------------+--------------------+-------------------+-------------------------+----------------------+-------------------+------------------+ | CentOS Stream 10 | PASS | SKIPPED | SKIPPED | SKIPPED | SKIPPED | SKIPPED | +-------------------------------+--------------------+-------------------+-------------------------+----------------------+-------------------+------------------+ | Debian GNU/Linux 12 | PASS | SKIPPED | SKIPPED | SKIPPED | PASS | SKIPPED | +-------------------------------+--------------------+-------------------+-------------------------+----------------------+-------------------+------------------+ | Fedora Linux 42 | PASS | SKIPPED | SKIPPED | SKIPPED | PASS | PASS | +-------------------------------+--------------------+-------------------+-------------------------+----------------------+-------------------+------------------+ | openSUSE Leap 15.6 | PASS | SKIPPED | SKIPPED | SKIPPED | SKIPPED | SKIPPED | +-------------------------------+--------------------+-------------------+-------------------------+----------------------+-------------------+------------------+ | Red Hat Enterprise Linux 8.10 | PASS | SKIPPED | SKIPPED | SKIPPED | SKIPPED | SKIPPED | +-------------------------------+--------------------+-------------------+-------------------------+----------------------+-------------------+------------------+ | Red Hat Enterprise Linux 9.5 | PASS | SKIPPED | SKIPPED | SKIPPED | SKIPPED | SKIPPED | +-------------------------------+--------------------+-------------------+-------------------------+----------------------+-------------------+------------------+ | Ubuntu 22.04 | PASS | SKIPPED | SKIPPED | SKIPPED | PASS | SKIPPED | +-------------------------------+--------------------+-------------------+-------------------------+----------------------+-------------------+------------------+ | Ubuntu 24.04 | PASS | SKIPPED | SKIPPED | SKIPPED | PASS | PASS | +-------------------------------+--------------------+-------------------+-------------------------+----------------------+-------------------+------------------+ | Alpine Linux 3.22.0 | PASS | SKIPPED | SKIPPED | SKIPPED | SKIPPED | SKIPPED | +-------------------------------+--------------------+-------------------+-------------------------+----------------------+-------------------+------------------+ | Windows Server 2022 | SKIPPED | PASS | PASS | PASS | SKIPPED | SKIPPED | +-------------------------------+--------------------+-------------------+-------------------------+----------------------+-------------------+------------------+ Ubuntu 20.04 Kernel: 4.19 Compiler: gcc gcc (Ubuntu 9.4.0-1ubuntu1~20.04.2) 9.4.0 FreeBSD 14.2 Kernel: 14.2-RELEASE Compiler: clang 18.1.6 CentOS Stream 9 Kernel: 5.15 Compiler: gcc gcc (GCC) 11.5.0 20240719 (Red Hat 11.5.0-11) CentOS Stream 10 Kernel: 5.15 Compiler: gcc gcc (GCC) 14.2.1 20250110 (Red Hat 14.2.1-8) Debian GNU/Linux 12 Kernel: 5.15 Compiler: gcc gcc (Debian 12.2.0-14+deb12u1) 12.2.0 Fedora Linux 42 Kernel: 5.15 Compiler: clang gcc (GCC) 15.2.1 20250808 (Red Hat 15.2.1-1) openSUSE Leap 15.6 Kernel: 5.15 Compiler: gcc gcc (SUSE Linux) 7.5.0 Red Hat Enterprise Linux 8.10 Kernel: 5.15 Compiler: gcc gcc (GCC) 8.5.0 20210514 (Red Hat 8.5.0-22) Red Hat Enterprise Linux 9.5 Kernel: 5.15 Compiler: gcc gcc (GCC) 11.5.0 20240719 (Red Hat 11.5.0-2) Ubuntu 22.04 Kernel: 5.15 Compiler: gcc gcc (Ubuntu 11.4.0-1ubuntu1~22.04) 11.4.0 Ubuntu 24.04 Kernel: 5.15 Compiler: gcc gcc (Ubuntu 13.3.0-6ubuntu2~24.04) 13.3.0 Alpine Linux 3.22.0 Kernel: 5.15 Compiler: gcc gcc (Alpine 14.2.0) 14.2.0 Windows Server 2022 Kernel: 10.0.20348.2031 Compiler: clang 15.0.7, gcc 14.1.0 (MinGW), and MSVC VS 19.39.33521 To view detailed results, visit: https://lab.dpdk.org/results/dashboard/patchsets/34234/ UNH-IOL DPDK Community Lab To manage your email subscriptions, visit: https://lab.dpdk.org/results/dashboard/preferences/subscriptions/