From mboxrd@z Thu Jan 1 00:00:00 1970 Return-Path: Received: from mails.dpdk.org (mails.dpdk.org [217.70.189.124]) by inbox.dpdk.org (Postfix) with ESMTP id C2A48488E7 for ; Thu, 9 Oct 2025 01:55:12 +0200 (CEST) Received: from mails.dpdk.org (localhost [127.0.0.1]) by mails.dpdk.org (Postfix) with ESMTP id 9EC7240267; Thu, 9 Oct 2025 01:55:12 +0200 (CEST) Received: from mail-ot1-f99.google.com (mail-ot1-f99.google.com [209.85.210.99]) by mails.dpdk.org (Postfix) with ESMTP id 29DE040267 for ; Thu, 9 Oct 2025 01:55:11 +0200 (CEST) Received: by mail-ot1-f99.google.com with SMTP id 46e09a7af769-7a32c0163bfso1145112a34.1 for ; Wed, 08 Oct 2025 16:55:11 -0700 (PDT) DKIM-Signature: v=1; a=rsa-sha256; c=relaxed/relaxed; d=iol.unh.edu; s=unh-iol; t=1759967710; x=1760572510; darn=dpdk.org; h=references:in-reply-to:cc:to:from:subject:message-id:date:from:to :cc:subject:date:message-id:reply-to; bh=Efoas2CCdRatPsaJcdUoTUyawssrTTIa10KFCh/skhs=; b=WY12pABXk1mMvuSshF2Z7tuZslHV67TkVQ2DLscBfFCdLvRQK8dGtZE9kUlT5abAfM eUPNFffwY1Ju3uAmbciZx2mPSZinR42wC/fgijBTds8coOhCnYwboxgFNog0mFzOCvKj tkOIlrIt9huXSZlLnY9Yj6LBJOISstURkowQM= X-Google-DKIM-Signature: v=1; a=rsa-sha256; c=relaxed/relaxed; d=1e100.net; s=20230601; t=1759967710; x=1760572510; h=references:in-reply-to:cc:to:from:subject:message-id:date :x-gm-message-state:from:to:cc:subject:date:message-id:reply-to; bh=Efoas2CCdRatPsaJcdUoTUyawssrTTIa10KFCh/skhs=; b=mDxvQgFYv5tZVX7VMj8wrSd0HkKImjZoVfV0cDfvQWHRtHePpnZMyluZknJXiRCY+X fcItbhAeo1tMuDStFRTN+LhKxMSA5mZ8NRPF41XjuDBsyT2sjkpfkkx+GIU9HiEmgXNU nLGzyk7oidsEg7xGyMW2lRV9ib1MMtRiEsBzz3A61Ltd9ZWLC1lK83w7kRDi2tAKO2Xv 7K7H3gTqfH7JfDcYPRbmRtYXzA2g0UFBgi/nQn8ZBTuc+ekJaYQcZTow1K1d7Ba6XyJ9 1pi1gyYrd2LEaFRydk/a2yNW5/HIRsWy+5rZGRZJk29zpAUTqYuQns3z/HWoU7AJq2fo hZwQ== X-Gm-Message-State: AOJu0YwlISuefCbcs3wkMatb4+CMVvc7bxW13Qilxcusc5jhUkC3voEG HdzjsYqFlooUnVS9mGngXUBLBCDDrVNamxO7+qtP/c3HBrVewjWwJRmJkWAq6uNTfngAEKhvx/a 07xay7SScgLI9RDpXW79O8Tv6ngtPbLexdl8c31tLmSORot9mtSwmVTW0Hu78 X-Gm-Gg: ASbGncuYuUYVKW8nR3LiG3UsTWfQyH9Mrcx99Xd5/Fs5Nv6q7Q2asM8sH9GoGXcJPly 2BWI2ggE0A3vSD7CAHizvI9wDWvDu8s9xY3izF/Hayn+lYrVV5pVeX+3ygICtZYCGf6z84U6YFE flQ3QkZV6BsBUudtEabqa/5JtwFFqcpdaXZdSmTxV3xJ4hCZXHwzih1X43kA8rkFNr+Y+mPkD5P srG4GkswgnJzvRP8Ff9dMGllAr53y4E2tPB8sAOucsNSQfmm+bRIaTZaynSihxT7WB1uwCbiLXO 1MOEb0gFMXAOPhF0tZcGRrC7M4clRe6DT+Hvzz3RYf2haE0kC5ouz7I= X-Google-Smtp-Source: AGHT+IGvhvt720GTLzs8PTx2g4aOJMt4Z9b7SLJS7vpJMMjWUM8gmLpveUtRzW0Z8gwWPSX0Hs47QsyHLVBF X-Received: by 2002:a05:6830:2649:b0:73e:a9f2:86f8 with SMTP id 46e09a7af769-7c0dfe8cf2cmr2988978a34.5.1759967709486; Wed, 08 Oct 2025 16:55:09 -0700 (PDT) Received: from postal.iol.unh.edu (postal.iol.unh.edu. [2606:4100:3880:1234::84]) by smtp-relay.gmail.com with ESMTPS id 46e09a7af769-7bf3cb5d1b0sm1242557a34.0.2025.10.08.16.55.09 (version=TLS1_2 cipher=ECDHE-ECDSA-AES128-GCM-SHA256 bits=128/128); Wed, 08 Oct 2025 16:55:09 -0700 (PDT) X-Relaying-Domain: iol.unh.edu Date: Wed, 08 Oct 2025 16:55:09 -0700 (PDT) Message-ID: <68e6f9dd.050a0220.13a760.2596SMTPIN_ADDED_MISSING@mx.google.com> Received: from [172.21.0.3] (unknown [172.18.0.240]) by postal.iol.unh.edu (Postfix) with ESMTP id D541E60003EA; Wed, 8 Oct 2025 19:55:08 -0400 (EDT) Subject: |SUCCESS| pw157322 [PATCH] compressdev: fix device ID validation che From: dpdklab@iol.unh.edu To: Test Report Cc: dpdk-test-reports@iol.unh.edu, Akhil Goyal In-Reply-To: <20251008074532.3066685-1-ashishg@marvell.com> References: <20251008074532.3066685-1-ashishg@marvell.com> Content-Type: text/plain X-BeenThere: test-report@dpdk.org X-Mailman-Version: 2.1.29 Precedence: list List-Id: automatic DPDK test reports List-Unsubscribe: , List-Archive: List-Post: List-Help: List-Subscribe: , Errors-To: test-report-bounces@dpdk.org Test-Label: iol-compile-amd64-testing Test-Status: SUCCESS http://dpdk.org/patch/157322 _Testing PASS_ Submitter: Ashish Gupta Date: Wednesday, October 08 2025 07:45:23 DPDK git baseline: Repo:dpdk-next-crypto Branch: master CommitID:2aa7141a4e2c78e3cce03dbd613532a2166123c1 157322 --> testing pass Upstream job id: Generic-DPDK-Compile-Meson#432550 Test environment and result as below: +---------------------+-------------------------+-------------------+--------------------+----------------------+-------------------+ | Environment | dpdk_llvm_clang_compile | dpdk_msvc_compile | dpdk_meson_compile | dpdk_mingw64_compile | dpdk_compile_spdk | +=====================+=========================+===================+====================+======================+===================+ | Windows Server 2022 | PASS | PASS | SKIPPED | PASS | SKIPPED | +---------------------+-------------------------+-------------------+--------------------+----------------------+-------------------+ | FreeBSD 14.2 | SKIPPED | SKIPPED | PASS | SKIPPED | SKIPPED | +---------------------+-------------------------+-------------------+--------------------+----------------------+-------------------+ | Ubuntu 20.04 | SKIPPED | SKIPPED | PASS | SKIPPED | SKIPPED | +---------------------+-------------------------+-------------------+--------------------+----------------------+-------------------+ | CentOS Stream 9 | SKIPPED | SKIPPED | PASS | SKIPPED | PASS | +---------------------+-------------------------+-------------------+--------------------+----------------------+-------------------+ | CentOS Stream 10 | SKIPPED | SKIPPED | PASS | SKIPPED | SKIPPED | +---------------------+-------------------------+-------------------+--------------------+----------------------+-------------------+ | Debian GNU/Linux 12 | SKIPPED | SKIPPED | PASS | SKIPPED | PASS | +---------------------+-------------------------+-------------------+--------------------+----------------------+-------------------+ Windows Server 2022 Kernel: 10.0.20348.2031 Compiler: clang 15.0.7, gcc 14.1.0 (MinGW), and MSVC VS 19.39.33521 FreeBSD 14.2 Kernel: 14.2-RELEASE Compiler: clang 18.1.6 Ubuntu 20.04 Kernel: 4.19 Compiler: gcc gcc (Ubuntu 9.4.0-1ubuntu1~20.04.2) 9.4.0 CentOS Stream 9 Kernel: 5.15 Compiler: gcc gcc (GCC) 11.5.0 20240719 (Red Hat 11.5.0-11) CentOS Stream 10 Kernel: 5.15 Compiler: gcc gcc (GCC) 14.2.1 20250110 (Red Hat 14.2.1-8) Debian GNU/Linux 12 Kernel: 5.15 Compiler: gcc gcc (Debian 12.2.0-14+deb12u1) 12.2.0 To view detailed results, visit: https://lab.dpdk.org/results/dashboard/patchsets/34235/ UNH-IOL DPDK Community Lab To manage your email subscriptions, visit: https://lab.dpdk.org/results/dashboard/preferences/subscriptions/