From mboxrd@z Thu Jan 1 00:00:00 1970 Return-Path: Received: from mails.dpdk.org (mails.dpdk.org [217.70.189.124]) by inbox.dpdk.org (Postfix) with ESMTP id 13326488E8 for ; Thu, 9 Oct 2025 03:24:05 +0200 (CEST) Received: from mails.dpdk.org (localhost [127.0.0.1]) by mails.dpdk.org (Postfix) with ESMTP id DC1B940277; Thu, 9 Oct 2025 03:24:04 +0200 (CEST) Received: from mail-pl1-f225.google.com (mail-pl1-f225.google.com [209.85.214.225]) by mails.dpdk.org (Postfix) with ESMTP id 188EF40277 for ; Thu, 9 Oct 2025 03:24:03 +0200 (CEST) Received: by mail-pl1-f225.google.com with SMTP id d9443c01a7336-2697899a202so10894525ad.0 for ; Wed, 08 Oct 2025 18:24:03 -0700 (PDT) DKIM-Signature: v=1; a=rsa-sha256; c=relaxed/relaxed; d=iol.unh.edu; s=unh-iol; t=1759973042; x=1760577842; darn=dpdk.org; h=references:in-reply-to:cc:to:from:subject:message-id:date:from:to :cc:subject:date:message-id:reply-to; bh=/F6cPijRQwcJa3VzvsdNTk9aUbxGbTtoPNIG/F+uqLo=; b=IorzL1NLUIXYfCsI3HhLPwIb0PcTEiOrsb0XcbIMkPjM6yDMFt2bji9v3537ZLUz1u cSZnakKb58MEWlhk87/KSnkKmZRctIuRc78m4p7ngfLZ5yHEEN6Ejv5bY1nh50yYlJ3s iOT7BqDl0HL+fz9YBgr1fFKD+9KP5H9udtmNo= X-Google-DKIM-Signature: v=1; a=rsa-sha256; c=relaxed/relaxed; d=1e100.net; s=20230601; t=1759973042; x=1760577842; h=references:in-reply-to:cc:to:from:subject:message-id:date :x-gm-message-state:from:to:cc:subject:date:message-id:reply-to; bh=/F6cPijRQwcJa3VzvsdNTk9aUbxGbTtoPNIG/F+uqLo=; b=kj37N1bHtIkms0fDutDZ+u7CWdSD9zHm2WivEP5o7OMcCizdckYS0GTRSjO7q4nEvX yroYF8V1aQKcFhVZsxFsO8VwnwaX4rkm8qJwVdapLEtEtPXaBZoe9TWvImw9c9zEqqqZ 96nf2AMyPm02ciIBF4Xj0w78nzddVysJ3n+wEdob4NJpb9zJtzpl0VcS9Wqp1u6kCxqu S/DPaX7bfIBCZtlkt4xWdrcXioMqa+EWyvhhrlg0QPlsAKA+WzwbEKIsZ1v1TO5LP4fg CefJmaYA7QMf2hx4NSsWJw4vvSS7Bx11bhv5qBGOYkU6qslerCL8wfutRbkPJ9OaI0pe FUkw== X-Gm-Message-State: AOJu0Yy20UNGW0dl6v1Ro3nlBCaL4Xp0vF4lEnjxw2TSKsnS2z7mhZUM uKnwl7V1IpQrosTQQPKuxWlRu7Ywn7/074H5PdQ68XAqifxBGq9CJ9Dt7IOcM9V+YiZJbh1Jp3t mbgruBJt/UAifGr9inXD7tYfuVlQ/hOHvqt4dtkjdn42P41ooG0QT5mVjvWHU X-Gm-Gg: ASbGncsxJKYTH6bceq58ycMaLNBd7JzFxp2TeZP9wdamj+5p239yN3KYeTpW4tR9Xqh CMDFIPg9s74Po0ESMBcMkxPddoJX2FukRobj2qVJ94LEhSGH2b7w36ja/pAH1dq2KPCv3h2O6sg z8055dg0xIwGavuOsIR3+ls3dKWn+KbipyeadyRIjFtFLXlO+bXVpU8VeB864T5rdVFH6EAzowa +e9vRLegAn3yCecXDT5QvHx7wkyCUsNnshbYgQ4l0FlUEZ97K/95XQhoxSGYos2OsdiRWl0upEf 5xgJm98+GF6PNXuylYg3M2aM2XVYUaqpsBx5+/bL2KROSYvMKFbwFRY= X-Google-Smtp-Source: AGHT+IE3+/T+a2G9OkYZFIcEyK8NQOk0aMS66fk1txoOr1MtkSNuiusgVpJwwJ5URNKYfwV1+I+bt9sPd/09 X-Received: by 2002:a17:902:e943:b0:269:8eba:e9b2 with SMTP id d9443c01a7336-29027f42178mr61484325ad.29.1759973042095; Wed, 08 Oct 2025 18:24:02 -0700 (PDT) Received: from postal.iol.unh.edu (postal.iol.unh.edu. [2606:4100:3880:1234::84]) by smtp-relay.gmail.com with ESMTPS id d9443c01a7336-29034f82126sm1045785ad.68.2025.10.08.18.24.01 (version=TLS1_2 cipher=ECDHE-ECDSA-AES128-GCM-SHA256 bits=128/128); Wed, 08 Oct 2025 18:24:02 -0700 (PDT) X-Relaying-Domain: iol.unh.edu Date: Wed, 08 Oct 2025 18:24:02 -0700 (PDT) Message-ID: <68e70eb2.170a0220.26e3af.5eaeSMTPIN_ADDED_MISSING@mx.google.com> Received: from [172.21.0.2] (unknown [172.18.0.240]) by postal.iol.unh.edu (Postfix) with ESMTP id 123706051830; Wed, 8 Oct 2025 21:24:01 -0400 (EDT) Subject: |SUCCESS| pw157322 [PATCH] compressdev: fix device ID validation che From: dpdklab@iol.unh.edu To: Test Report Cc: dpdk-test-reports@iol.unh.edu, Akhil Goyal In-Reply-To: <20251008074532.3066685-1-ashishg@marvell.com> References: <20251008074532.3066685-1-ashishg@marvell.com> Content-Type: text/plain X-BeenThere: test-report@dpdk.org X-Mailman-Version: 2.1.29 Precedence: list List-Id: automatic DPDK test reports List-Unsubscribe: , List-Archive: List-Post: List-Help: List-Subscribe: , Errors-To: test-report-bounces@dpdk.org Test-Label: iol-compile-amd64-testing Test-Status: SUCCESS http://dpdk.org/patch/157322 _Testing PASS_ Submitter: Ashish Gupta Date: Wednesday, October 08 2025 07:45:23 DPDK git baseline: Repo:dpdk-next-crypto Branch: master CommitID:2aa7141a4e2c78e3cce03dbd613532a2166123c1 157322 --> testing pass Upstream job id: Generic-DPDK-Compile-Meson#432553 Test environment and result as below: +-------------------------------+-------------------------+-------------------+--------------------+----------------------+-------------------+------------------+ | Environment | dpdk_llvm_clang_compile | dpdk_msvc_compile | dpdk_meson_compile | dpdk_mingw64_compile | dpdk_compile_spdk | dpdk_compile_ovs | +===============================+=========================+===================+====================+======================+===================+==================+ | Windows Server 2022 | PASS | PASS | SKIPPED | PASS | SKIPPED | SKIPPED | +-------------------------------+-------------------------+-------------------+--------------------+----------------------+-------------------+------------------+ | FreeBSD 14.2 | SKIPPED | SKIPPED | PASS | SKIPPED | SKIPPED | SKIPPED | +-------------------------------+-------------------------+-------------------+--------------------+----------------------+-------------------+------------------+ | Ubuntu 20.04 | SKIPPED | SKIPPED | PASS | SKIPPED | SKIPPED | SKIPPED | +-------------------------------+-------------------------+-------------------+--------------------+----------------------+-------------------+------------------+ | CentOS Stream 9 | SKIPPED | SKIPPED | PASS | SKIPPED | PASS | SKIPPED | +-------------------------------+-------------------------+-------------------+--------------------+----------------------+-------------------+------------------+ | CentOS Stream 10 | SKIPPED | SKIPPED | PASS | SKIPPED | SKIPPED | SKIPPED | +-------------------------------+-------------------------+-------------------+--------------------+----------------------+-------------------+------------------+ | Debian GNU/Linux 12 | SKIPPED | SKIPPED | PASS | SKIPPED | PASS | SKIPPED | +-------------------------------+-------------------------+-------------------+--------------------+----------------------+-------------------+------------------+ | Fedora Linux 42 | SKIPPED | SKIPPED | PASS | SKIPPED | PASS | PASS | +-------------------------------+-------------------------+-------------------+--------------------+----------------------+-------------------+------------------+ | openSUSE Leap 15.6 | SKIPPED | SKIPPED | PASS | SKIPPED | SKIPPED | SKIPPED | +-------------------------------+-------------------------+-------------------+--------------------+----------------------+-------------------+------------------+ | Red Hat Enterprise Linux 8.10 | SKIPPED | SKIPPED | PASS | SKIPPED | SKIPPED | SKIPPED | +-------------------------------+-------------------------+-------------------+--------------------+----------------------+-------------------+------------------+ Windows Server 2022 Kernel: 10.0.20348.2031 Compiler: clang 15.0.7, gcc 14.1.0 (MinGW), and MSVC VS 19.39.33521 FreeBSD 14.2 Kernel: 14.2-RELEASE Compiler: clang 18.1.6 Ubuntu 20.04 Kernel: 4.19 Compiler: gcc gcc (Ubuntu 9.4.0-1ubuntu1~20.04.2) 9.4.0 CentOS Stream 9 Kernel: 5.15 Compiler: gcc gcc (GCC) 11.5.0 20240719 (Red Hat 11.5.0-11) CentOS Stream 10 Kernel: 5.15 Compiler: gcc gcc (GCC) 14.2.1 20250110 (Red Hat 14.2.1-8) Debian GNU/Linux 12 Kernel: 5.15 Compiler: gcc gcc (Debian 12.2.0-14+deb12u1) 12.2.0 Fedora Linux 42 Kernel: 5.15 Compiler: clang gcc (GCC) 15.2.1 20250808 (Red Hat 15.2.1-1) openSUSE Leap 15.6 Kernel: 5.15 Compiler: gcc gcc (SUSE Linux) 7.5.0 Red Hat Enterprise Linux 8.10 Kernel: 5.15 Compiler: gcc gcc (GCC) 8.5.0 20210514 (Red Hat 8.5.0-22) To view detailed results, visit: https://lab.dpdk.org/results/dashboard/patchsets/34235/ UNH-IOL DPDK Community Lab To manage your email subscriptions, visit: https://lab.dpdk.org/results/dashboard/preferences/subscriptions/