From mboxrd@z Thu Jan 1 00:00:00 1970 Return-Path: Received: from mails.dpdk.org (mails.dpdk.org [217.70.189.124]) by inbox.dpdk.org (Postfix) with ESMTP id 78C32488E8 for ; Thu, 9 Oct 2025 03:29:11 +0200 (CEST) Received: from mails.dpdk.org (localhost [127.0.0.1]) by mails.dpdk.org (Postfix) with ESMTP id 580B540277; Thu, 9 Oct 2025 03:29:11 +0200 (CEST) Received: from mail-qt1-f227.google.com (mail-qt1-f227.google.com [209.85.160.227]) by mails.dpdk.org (Postfix) with ESMTP id 189C440277 for ; Thu, 9 Oct 2025 03:29:10 +0200 (CEST) Received: by mail-qt1-f227.google.com with SMTP id d75a77b69052e-4da894db6e9so3957031cf.0 for ; Wed, 08 Oct 2025 18:29:09 -0700 (PDT) DKIM-Signature: v=1; a=rsa-sha256; c=relaxed/relaxed; d=iol.unh.edu; s=unh-iol; t=1759973349; x=1760578149; darn=dpdk.org; h=references:in-reply-to:cc:to:from:subject:message-id:date:from:to :cc:subject:date:message-id:reply-to; bh=4N1Pz9lML+QYAOttaMg/RrC/YnIu7+QA2tOudXDH2lc=; b=cv6Tmnb2AUtZeqRZD0xBkbojrNPM8f8BQqk2VKYFv6aLVdTOXRmm1oBf9mJm6Kosa5 lPhgx/3GSR57uaYqBda4GMFCeI02I4v3pLQUP7IQ7Qbcv8kDoO6uURsSzAozV+bGmmJM HRkre2ZNPTPxHWaBBELNKj0v82oavXjXp3gNs= X-Google-DKIM-Signature: v=1; a=rsa-sha256; c=relaxed/relaxed; d=1e100.net; s=20230601; t=1759973349; x=1760578149; h=references:in-reply-to:cc:to:from:subject:message-id:date :x-gm-message-state:from:to:cc:subject:date:message-id:reply-to; bh=4N1Pz9lML+QYAOttaMg/RrC/YnIu7+QA2tOudXDH2lc=; b=f5gavX0cMOUNrrTF2qAf/f1YgKDslX/2OcGU8UsQRVPFDE1OLX65HZ+U8NeIrJNcJt uCsbKwd5iHBi0XVGZb+Z633qYCxCMdpsSkuCtE2/c08LpCwN4vy6ErdUzLhGr/EdkOjF JUV2TSKQflgtUr0bI2Z7CMcK9i2VScflOSC+OCemd9ft5/KOPmRdyCFe1ZEvbYaJ311i lDoPiqwhjGNLb8nrvj1/cZNUW4ipTJUcODeq6XpCxyzSSinLFcWgs5eOJK7dbkwqonAG 1Ynkyygma3yejPuDsTET0wLfsnISy5H4MMjLVEclZ0bWyIfIxhZRMb9vZp7bKZ6EDor9 1kRg== X-Gm-Message-State: AOJu0Yw/zLvytP3ui5yvPnNCZ3g1tVgu5x5/TOcIHlCt3FaBbUEyxveq hiiWZM1Pk/bBwl9+tPYX4jXlSSJVffBUMIci6a/iMCwG3hKb7m7C8BZ2hA4JOuzDLlaUNepM61p pjEtsO6Pvia9H0bavlFkDRDQe1cMSkTg7yqkMRqPAbuMqPPjGNT7oZePwkxz1 X-Gm-Gg: ASbGncucx0yb5eQ/LCG6Dj4bOVAp7FhsPDYo5rVzj2B30VlxEWy7pnY7uL3yX34Q//U PksjIMrABswzxPqwTnsjKCdnEvJMIzvc1pC+g5dhTDrS09uGIEm19iJijmjQVtxPqLpm4n9VWVF RvgRpdSnUOc8NeCbZWYQ4+QjwqTciR8r5uN2l+xb/5kwJEP31uyssA+1d+5ZCKY2rN612FqMAcc qCCcPpdytIv/WjXVIS+WPBA3oTGafsyowBRbRYkWLV+WRJ+Q3ByqAo25VX0sXvdOkCQwLMe150t a79JEgByKFHAm9ZrVykb99aLqx8GkAbNcSu/FKDm8H8n8fKjeOTCqHc= X-Google-Smtp-Source: AGHT+IHoszw8WSRoM8LhPeafZuPus1DMMmbOoAln56glIVu/tc/eYCt/k1hbfaJiMfrq/gqPJFeSodJLHNbM X-Received: by 2002:ac8:5a08:0:b0:4d1:f8e7:e467 with SMTP id d75a77b69052e-4e6ead70a0fmr82931471cf.72.1759973349428; Wed, 08 Oct 2025 18:29:09 -0700 (PDT) Received: from postal.iol.unh.edu (postal.iol.unh.edu. [2606:4100:3880:1234::84]) by smtp-relay.gmail.com with ESMTPS id 6a1803df08f44-878bad61a6csm16859686d6.6.2025.10.08.18.29.09 (version=TLS1_2 cipher=ECDHE-ECDSA-AES128-GCM-SHA256 bits=128/128); Wed, 08 Oct 2025 18:29:09 -0700 (PDT) X-Relaying-Domain: iol.unh.edu Date: Wed, 08 Oct 2025 18:29:09 -0700 (PDT) Message-ID: <68e70fe5.050a0220.247679.a773SMTPIN_ADDED_MISSING@mx.google.com> Received: from [172.21.0.3] (unknown [172.18.0.240]) by postal.iol.unh.edu (Postfix) with ESMTP id BFDE96051830; Wed, 8 Oct 2025 21:29:08 -0400 (EDT) Subject: |SUCCESS| pw157322 [PATCH] compressdev: fix device ID validation che From: dpdklab@iol.unh.edu To: Test Report Cc: dpdk-test-reports@iol.unh.edu, Akhil Goyal In-Reply-To: <20251008074532.3066685-1-ashishg@marvell.com> References: <20251008074532.3066685-1-ashishg@marvell.com> Content-Type: text/plain X-BeenThere: test-report@dpdk.org X-Mailman-Version: 2.1.29 Precedence: list List-Id: automatic DPDK test reports List-Unsubscribe: , List-Archive: List-Post: List-Help: List-Subscribe: , Errors-To: test-report-bounces@dpdk.org Test-Label: iol-compile-amd64-testing Test-Status: SUCCESS http://dpdk.org/patch/157322 _Testing PASS_ Submitter: Ashish Gupta Date: Wednesday, October 08 2025 07:45:23 DPDK git baseline: Repo:dpdk-next-crypto Branch: master CommitID:2aa7141a4e2c78e3cce03dbd613532a2166123c1 157322 --> testing pass Upstream job id: Generic-DPDK-Compile-Meson#432563 Test environment and result as below: +-------------------------------+-------------------------+-------------------+--------------------+----------------------+-------------------+------------------+ | Environment | dpdk_llvm_clang_compile | dpdk_msvc_compile | dpdk_meson_compile | dpdk_mingw64_compile | dpdk_compile_spdk | dpdk_compile_ovs | +===============================+=========================+===================+====================+======================+===================+==================+ | Windows Server 2022 | PASS | PASS | SKIPPED | PASS | SKIPPED | SKIPPED | +-------------------------------+-------------------------+-------------------+--------------------+----------------------+-------------------+------------------+ | FreeBSD 14.2 | SKIPPED | SKIPPED | PASS | SKIPPED | SKIPPED | SKIPPED | +-------------------------------+-------------------------+-------------------+--------------------+----------------------+-------------------+------------------+ | Ubuntu 20.04 | SKIPPED | SKIPPED | PASS | SKIPPED | SKIPPED | SKIPPED | +-------------------------------+-------------------------+-------------------+--------------------+----------------------+-------------------+------------------+ | CentOS Stream 9 | SKIPPED | SKIPPED | PASS | SKIPPED | PASS | SKIPPED | +-------------------------------+-------------------------+-------------------+--------------------+----------------------+-------------------+------------------+ | CentOS Stream 10 | SKIPPED | SKIPPED | PASS | SKIPPED | SKIPPED | SKIPPED | +-------------------------------+-------------------------+-------------------+--------------------+----------------------+-------------------+------------------+ | Debian GNU/Linux 12 | SKIPPED | SKIPPED | PASS | SKIPPED | PASS | SKIPPED | +-------------------------------+-------------------------+-------------------+--------------------+----------------------+-------------------+------------------+ | Fedora Linux 42 | SKIPPED | SKIPPED | PASS | SKIPPED | PASS | PASS | +-------------------------------+-------------------------+-------------------+--------------------+----------------------+-------------------+------------------+ | openSUSE Leap 15.6 | SKIPPED | SKIPPED | PASS | SKIPPED | SKIPPED | SKIPPED | +-------------------------------+-------------------------+-------------------+--------------------+----------------------+-------------------+------------------+ | Red Hat Enterprise Linux 8.10 | SKIPPED | SKIPPED | PASS | SKIPPED | SKIPPED | SKIPPED | +-------------------------------+-------------------------+-------------------+--------------------+----------------------+-------------------+------------------+ | Red Hat Enterprise Linux 9.5 | SKIPPED | SKIPPED | PASS | SKIPPED | SKIPPED | SKIPPED | +-------------------------------+-------------------------+-------------------+--------------------+----------------------+-------------------+------------------+ Windows Server 2022 Kernel: 10.0.20348.2031 Compiler: clang 15.0.7, gcc 14.1.0 (MinGW), and MSVC VS 19.39.33521 FreeBSD 14.2 Kernel: 14.2-RELEASE Compiler: clang 18.1.6 Ubuntu 20.04 Kernel: 4.19 Compiler: gcc gcc (Ubuntu 9.4.0-1ubuntu1~20.04.2) 9.4.0 CentOS Stream 9 Kernel: 5.15 Compiler: gcc gcc (GCC) 11.5.0 20240719 (Red Hat 11.5.0-11) CentOS Stream 10 Kernel: 5.15 Compiler: gcc gcc (GCC) 14.2.1 20250110 (Red Hat 14.2.1-8) Debian GNU/Linux 12 Kernel: 5.15 Compiler: gcc gcc (Debian 12.2.0-14+deb12u1) 12.2.0 Fedora Linux 42 Kernel: 5.15 Compiler: clang gcc (GCC) 15.2.1 20250808 (Red Hat 15.2.1-1) openSUSE Leap 15.6 Kernel: 5.15 Compiler: gcc gcc (SUSE Linux) 7.5.0 Red Hat Enterprise Linux 8.10 Kernel: 5.15 Compiler: gcc gcc (GCC) 8.5.0 20210514 (Red Hat 8.5.0-22) Red Hat Enterprise Linux 9.5 Kernel: 5.15 Compiler: gcc gcc (GCC) 11.5.0 20240719 (Red Hat 11.5.0-2) To view detailed results, visit: https://lab.dpdk.org/results/dashboard/patchsets/34235/ UNH-IOL DPDK Community Lab To manage your email subscriptions, visit: https://lab.dpdk.org/results/dashboard/preferences/subscriptions/