From mboxrd@z Thu Jan 1 00:00:00 1970 Return-Path: Received: from mails.dpdk.org (mails.dpdk.org [217.70.189.124]) by inbox.dpdk.org (Postfix) with ESMTP id C227B488E8 for ; Thu, 9 Oct 2025 03:32:10 +0200 (CEST) Received: from mails.dpdk.org (localhost [127.0.0.1]) by mails.dpdk.org (Postfix) with ESMTP id 9C44C40277; Thu, 9 Oct 2025 03:32:10 +0200 (CEST) Received: from mail-il1-f226.google.com (mail-il1-f226.google.com [209.85.166.226]) by mails.dpdk.org (Postfix) with ESMTP id 96FD340277 for ; Thu, 9 Oct 2025 03:32:08 +0200 (CEST) Received: by mail-il1-f226.google.com with SMTP id e9e14a558f8ab-42f68a0a89aso6510995ab.1 for ; Wed, 08 Oct 2025 18:32:08 -0700 (PDT) DKIM-Signature: v=1; a=rsa-sha256; c=relaxed/relaxed; d=iol.unh.edu; s=unh-iol; t=1759973528; x=1760578328; darn=dpdk.org; h=references:in-reply-to:cc:to:from:subject:message-id:date:from:to :cc:subject:date:message-id:reply-to; bh=tVqe/7TCP22LGO6Cm88ok6VjUuHv3auMHMZyfPSIfuk=; b=D0sqj2u7r1nkTifXkxNqcgLUsuTecehhf8dMGLt3bmU02RBMKg9A2LUnQ2KJEnryPD EaxJe2yl3wHIJOx1FuH9VxcjynKmFgrk71BsiHgNv87wr7q7hHnetA3dZGnyL5NwfTdY y/6K4rtDS8dkonmMrbI4IYz+tW39lcJkQfJis= X-Google-DKIM-Signature: v=1; a=rsa-sha256; c=relaxed/relaxed; d=1e100.net; s=20230601; t=1759973528; x=1760578328; h=references:in-reply-to:cc:to:from:subject:message-id:date :x-gm-message-state:from:to:cc:subject:date:message-id:reply-to; bh=tVqe/7TCP22LGO6Cm88ok6VjUuHv3auMHMZyfPSIfuk=; b=MkgX31AFr8WI7s4zGC6YeIvom8PgRoCAWYc/E1ntoGdPFwbEDVgNoubridOMAV7ixS QTlDEQu3iT+PX8owlJ+AYVjS5W206jxXZIg9f7ZWObAUnikbSrFaMF9NON6itDowY9fG 6m3fhVpxkq+62VffgA4SoMOaCZ7JU81GZRTG2pMwy9LAUfp3twFTRm0DaAwOqljxuCFf hbN4SvE86aJyqnjbj6ZKlkMvrfhqlLdzo/wWGxXwao618JzKjN5Yxhds+eAyL3vtqvhl YFh0WSPvAWk89I6MQ4OvvXrFoucDkjyhhR09Yrt3fizzAkZea0UE9qHO6NpfJQAMhiw5 qmoA== X-Gm-Message-State: AOJu0YxvG41vUOGfBoXXWL3Wr+dwWURKilkqTQUPGC3pc3cg+myY7e5w tZ/Y4aC4i7gmbMsQ/5MWdxRsXUIkiUKA1TLYX6J2C9vwtt6uei+aLPUeN0UXwnKVVyBKFIz4KtA kGEXq1X3bB6+hti1+Q9fB/NAimx5/KMoZZnwwSngpV6Cv X-Gm-Gg: ASbGncsxCP85qWN89xhW94Gs/8JuZgfz20m7k+pex0pQJ9MQK0lcvsZDjms2cM19vKa VQ7w7xtgXx0S52NRRKTyCr03Vo0CwJDx9Ah8Szky5r+qrrYLg1jrOSK19n9laGmurj/R25fPEzx ndbdEfOCJ6R3cVMbeYk/NApv2S7sGFsKAOzO6qerXatuq9YSktsX2S2AoEhWllxfO6BWmMXKBuY 2yfvTfL19eSy4IpfI/ZqMCoMMXyYnEYAvgpHt4qme19IU2kB6lr12+7WJ80j8l7nMmjb0Z67Mqz 6EaPzbf3A6rIqZa6AxA1dVQyplOOwuzPaYTt3k8997AFoPAMG8LuXQBEJYTS4IClpzplGPdZRfw JUQ== X-Google-Smtp-Source: AGHT+IHgdf5bCJHpBEqlJ0SuiHjlYISV2Dit+hwVUn/oQBlL2g6vijWyfqF+xGUC0lQofm3SDQMhYz3L9zTb X-Received: by 2002:a05:6e02:12e4:b0:428:cd3c:6a3c with SMTP id e9e14a558f8ab-42f873dd4famr53117345ab.1.1759973527659; Wed, 08 Oct 2025 18:32:07 -0700 (PDT) Received: from postal.iol.unh.edu (postal.iol.unh.edu. [132.177.123.84]) by smtp-relay.gmail.com with ESMTPS id e9e14a558f8ab-42f9036d6dasm872585ab.35.2025.10.08.18.32.07 (version=TLS1_2 cipher=ECDHE-ECDSA-AES128-GCM-SHA256 bits=128/128); Wed, 08 Oct 2025 18:32:07 -0700 (PDT) X-Relaying-Domain: iol.unh.edu Date: Wed, 08 Oct 2025 18:32:07 -0700 (PDT) Message-ID: <68e71097.920a0220.22b089.4d7dSMTPIN_ADDED_MISSING@mx.google.com> Received: from [172.21.0.2] (unknown [172.18.0.240]) by postal.iol.unh.edu (Postfix) with ESMTP id 289986051830; Wed, 8 Oct 2025 21:32:07 -0400 (EDT) Subject: |SUCCESS| pw157322 [PATCH] compressdev: fix device ID validation che From: dpdklab@iol.unh.edu To: Test Report Cc: dpdk-test-reports@iol.unh.edu, Akhil Goyal In-Reply-To: <20251008074532.3066685-1-ashishg@marvell.com> References: <20251008074532.3066685-1-ashishg@marvell.com> Content-Type: text/plain X-BeenThere: test-report@dpdk.org X-Mailman-Version: 2.1.29 Precedence: list List-Id: automatic DPDK test reports List-Unsubscribe: , List-Archive: List-Post: List-Help: List-Subscribe: , Errors-To: test-report-bounces@dpdk.org Test-Label: iol-compile-amd64-testing Test-Status: SUCCESS http://dpdk.org/patch/157322 _Testing PASS_ Submitter: Ashish Gupta Date: Wednesday, October 08 2025 07:45:23 DPDK git baseline: Repo:dpdk-next-crypto Branch: master CommitID:2aa7141a4e2c78e3cce03dbd613532a2166123c1 157322 --> testing pass Upstream job id: Generic-DPDK-Compile-Meson#432564 Test environment and result as below: +-------------------------------+-------------------------+-------------------+--------------------+----------------------+-------------------+------------------+ | Environment | dpdk_llvm_clang_compile | dpdk_msvc_compile | dpdk_meson_compile | dpdk_mingw64_compile | dpdk_compile_spdk | dpdk_compile_ovs | +===============================+=========================+===================+====================+======================+===================+==================+ | Windows Server 2022 | PASS | PASS | SKIPPED | PASS | SKIPPED | SKIPPED | +-------------------------------+-------------------------+-------------------+--------------------+----------------------+-------------------+------------------+ | FreeBSD 14.2 | SKIPPED | SKIPPED | PASS | SKIPPED | SKIPPED | SKIPPED | +-------------------------------+-------------------------+-------------------+--------------------+----------------------+-------------------+------------------+ | Ubuntu 20.04 | SKIPPED | SKIPPED | PASS | SKIPPED | SKIPPED | SKIPPED | +-------------------------------+-------------------------+-------------------+--------------------+----------------------+-------------------+------------------+ | CentOS Stream 9 | SKIPPED | SKIPPED | PASS | SKIPPED | PASS | SKIPPED | +-------------------------------+-------------------------+-------------------+--------------------+----------------------+-------------------+------------------+ | CentOS Stream 10 | SKIPPED | SKIPPED | PASS | SKIPPED | SKIPPED | SKIPPED | +-------------------------------+-------------------------+-------------------+--------------------+----------------------+-------------------+------------------+ | Debian GNU/Linux 12 | SKIPPED | SKIPPED | PASS | SKIPPED | PASS | SKIPPED | +-------------------------------+-------------------------+-------------------+--------------------+----------------------+-------------------+------------------+ | Fedora Linux 42 | SKIPPED | SKIPPED | PASS | SKIPPED | PASS | PASS | +-------------------------------+-------------------------+-------------------+--------------------+----------------------+-------------------+------------------+ | openSUSE Leap 15.6 | SKIPPED | SKIPPED | PASS | SKIPPED | SKIPPED | SKIPPED | +-------------------------------+-------------------------+-------------------+--------------------+----------------------+-------------------+------------------+ | Red Hat Enterprise Linux 8.10 | SKIPPED | SKIPPED | PASS | SKIPPED | SKIPPED | SKIPPED | +-------------------------------+-------------------------+-------------------+--------------------+----------------------+-------------------+------------------+ | Red Hat Enterprise Linux 9.5 | SKIPPED | SKIPPED | PASS | SKIPPED | SKIPPED | SKIPPED | +-------------------------------+-------------------------+-------------------+--------------------+----------------------+-------------------+------------------+ Windows Server 2022 Kernel: 10.0.20348.2031 Compiler: clang 15.0.7, gcc 14.1.0 (MinGW), and MSVC VS 19.39.33521 FreeBSD 14.2 Kernel: 14.2-RELEASE Compiler: clang 18.1.6 Ubuntu 20.04 Kernel: 4.19 Compiler: gcc gcc (Ubuntu 9.4.0-1ubuntu1~20.04.2) 9.4.0 CentOS Stream 9 Kernel: 5.15 Compiler: gcc gcc (GCC) 11.5.0 20240719 (Red Hat 11.5.0-11) CentOS Stream 10 Kernel: 5.15 Compiler: gcc gcc (GCC) 14.2.1 20250110 (Red Hat 14.2.1-8) Debian GNU/Linux 12 Kernel: 5.15 Compiler: gcc gcc (Debian 12.2.0-14+deb12u1) 12.2.0 Fedora Linux 42 Kernel: 5.15 Compiler: clang gcc (GCC) 15.2.1 20250808 (Red Hat 15.2.1-1) openSUSE Leap 15.6 Kernel: 5.15 Compiler: gcc gcc (SUSE Linux) 7.5.0 Red Hat Enterprise Linux 8.10 Kernel: 5.15 Compiler: gcc gcc (GCC) 8.5.0 20210514 (Red Hat 8.5.0-22) Red Hat Enterprise Linux 9.5 Kernel: 5.15 Compiler: gcc gcc (GCC) 11.5.0 20240719 (Red Hat 11.5.0-2) To view detailed results, visit: https://lab.dpdk.org/results/dashboard/patchsets/34235/ UNH-IOL DPDK Community Lab To manage your email subscriptions, visit: https://lab.dpdk.org/results/dashboard/preferences/subscriptions/