From mboxrd@z Thu Jan 1 00:00:00 1970 Return-Path: Received: from mails.dpdk.org (mails.dpdk.org [217.70.189.124]) by inbox.dpdk.org (Postfix) with ESMTP id 953E3488E8 for ; Thu, 9 Oct 2025 03:42:25 +0200 (CEST) Received: from mails.dpdk.org (localhost [127.0.0.1]) by mails.dpdk.org (Postfix) with ESMTP id 781C340277; Thu, 9 Oct 2025 03:42:25 +0200 (CEST) Received: from mail-pg1-f227.google.com (mail-pg1-f227.google.com [209.85.215.227]) by mails.dpdk.org (Postfix) with ESMTP id B9FD640277 for ; Thu, 9 Oct 2025 03:42:23 +0200 (CEST) Received: by mail-pg1-f227.google.com with SMTP id 41be03b00d2f7-b551350adfaso328138a12.3 for ; Wed, 08 Oct 2025 18:42:23 -0700 (PDT) DKIM-Signature: v=1; a=rsa-sha256; c=relaxed/relaxed; d=iol.unh.edu; s=unh-iol; t=1759974143; x=1760578943; darn=dpdk.org; h=references:in-reply-to:cc:to:from:subject:message-id:date:from:to :cc:subject:date:message-id:reply-to; bh=wV7gblC5lpoMyDcDtQ1KCvTeVY21JMXLru+EZO/a2oA=; b=F0eQn9IIryijINmcnZNSChtj0YKJxOfAnOt+Sf0y3B6riqLWoik/8yZGr7d0EzovEj +VBgxjbeOJ6kGaKN4K7nopA3lLxTGuYtmHMKud2Upunz6rqcPqsRIBQ3vlw6/C13SKlY urOisto4GC8HWVsZhXCHd8lwm4HrAqJbG6pkg= X-Google-DKIM-Signature: v=1; a=rsa-sha256; c=relaxed/relaxed; d=1e100.net; s=20230601; t=1759974143; x=1760578943; h=references:in-reply-to:cc:to:from:subject:message-id:date :x-gm-message-state:from:to:cc:subject:date:message-id:reply-to; bh=wV7gblC5lpoMyDcDtQ1KCvTeVY21JMXLru+EZO/a2oA=; b=hEFamcH6IGk72W9fJyD052kVD+ZmLwqnSTbvwXobmV+DsyCpMGlRcR0y1WKsxS1tTe /KXF/0A3FH3qHv4t/fNvkj8yx8jiHSBWupmvUSk6CZ1a5a3a+0Izq73LG90cMz7YOMoX wSODToscAfaElJg1XR3NhhGgqB4FcEGCsKKkO2TQuZKsTilShCpDRAg7258QQjOM0tAj algrUQWqSFWSb/4R1A0UktdwpBcCdKqJrCc5XTV5o1bYD7t2udagh5o8DJQ3xFOfYRhs 7YV55xCneaxFwzq1z8U0S5QOfavgwhlZvR09uUb3D7rVgrBGvLgLNuyGCQzco6TzKF4E In3Q== X-Gm-Message-State: AOJu0Yw7bAD6boh+82Bo/Zcn8Q2n1lyXqx1F2Fab+whhFAZ3hG//w0+3 RVsWK+z1ZEiLPLrF3kztP1S+e9VGGCty0/ufvBgJYFn/BCqFWzuQWqTH1sXWz81JNpfDxOPLKyE JyKZboZknFb7cbcahBoMpyIylV5tzf0E1ppDJa6qytGWD X-Gm-Gg: ASbGncuXyd3JJ8fqfiHWSH7M+Kv5JXVSgilwxUrjxXj/1/jwVL/bs8SZNW7xVPo6Ky2 L5ypjdEofmGOxn/vm2WSn1qlcawHT0348jE6nDXcGOBX+uY7VdJiub8yIBNBNQnZAOrHixB/cPw OI4bfHgVqh5Q11dFi+9IbRuMdYR7fSuZ0yu4ggMa5Igm1LfuC8FBeXnetzwOZfo13YSY9P6sYZk m6Bdqf7D2SbdUXULKpzBl851KXp5GwEeeY50O7v+FogiVo5AhgHqikJyA4BMfaVay5myoP4x9qL lMkvSgoZGl2FlC2TMxAsX0CqzZEUJpEDIURclB1wjvXu7I0dBQ+DLnQeIgq64v02yiJafVS3T7w D1Q== X-Google-Smtp-Source: AGHT+IHHelUKpYRwTYO3EjiRJ7VGWdqAKxSH1HMgmeLBML/yJYITxmS63cNZUe7BMEmJRvFAFbEwnu66Vpua X-Received: by 2002:a17:902:d545:b0:27e:da3a:32bc with SMTP id d9443c01a7336-290273eca19mr75672445ad.33.1759974142831; Wed, 08 Oct 2025 18:42:22 -0700 (PDT) Received: from postal.iol.unh.edu (postal.iol.unh.edu. [132.177.123.84]) by smtp-relay.gmail.com with ESMTPS id d9443c01a7336-29034df7392sm1139165ad.6.2025.10.08.18.42.22 (version=TLS1_2 cipher=ECDHE-ECDSA-AES128-GCM-SHA256 bits=128/128); Wed, 08 Oct 2025 18:42:22 -0700 (PDT) X-Relaying-Domain: iol.unh.edu Date: Wed, 08 Oct 2025 18:42:22 -0700 (PDT) Message-ID: <68e712fe.170a0220.287ec8.66aaSMTPIN_ADDED_MISSING@mx.google.com> Received: from [172.21.0.3] (unknown [172.18.0.240]) by postal.iol.unh.edu (Postfix) with ESMTP id 2CF0F6051830; Wed, 8 Oct 2025 21:42:22 -0400 (EDT) Subject: |SUCCESS| pw157322 [PATCH] compressdev: fix device ID validation che From: dpdklab@iol.unh.edu To: Test Report Cc: dpdk-test-reports@iol.unh.edu, Akhil Goyal In-Reply-To: <20251008074532.3066685-1-ashishg@marvell.com> References: <20251008074532.3066685-1-ashishg@marvell.com> Content-Type: text/plain X-BeenThere: test-report@dpdk.org X-Mailman-Version: 2.1.29 Precedence: list List-Id: automatic DPDK test reports List-Unsubscribe: , List-Archive: List-Post: List-Help: List-Subscribe: , Errors-To: test-report-bounces@dpdk.org Test-Label: iol-compile-amd64-testing Test-Status: SUCCESS http://dpdk.org/patch/157322 _Testing PASS_ Submitter: Ashish Gupta Date: Wednesday, October 08 2025 07:45:23 DPDK git baseline: Repo:dpdk-next-crypto Branch: master CommitID:2aa7141a4e2c78e3cce03dbd613532a2166123c1 157322 --> testing pass Upstream job id: Generic-DPDK-Compile-Meson#432566 Test environment and result as below: +-------------------------------+-------------------------+-------------------+--------------------+----------------------+-------------------+------------------+ | Environment | dpdk_llvm_clang_compile | dpdk_msvc_compile | dpdk_meson_compile | dpdk_mingw64_compile | dpdk_compile_spdk | dpdk_compile_ovs | +===============================+=========================+===================+====================+======================+===================+==================+ | Windows Server 2022 | PASS | PASS | SKIPPED | PASS | SKIPPED | SKIPPED | +-------------------------------+-------------------------+-------------------+--------------------+----------------------+-------------------+------------------+ | FreeBSD 14.2 | SKIPPED | SKIPPED | PASS | SKIPPED | SKIPPED | SKIPPED | +-------------------------------+-------------------------+-------------------+--------------------+----------------------+-------------------+------------------+ | Ubuntu 20.04 | SKIPPED | SKIPPED | PASS | SKIPPED | SKIPPED | SKIPPED | +-------------------------------+-------------------------+-------------------+--------------------+----------------------+-------------------+------------------+ | CentOS Stream 9 | SKIPPED | SKIPPED | PASS | SKIPPED | PASS | SKIPPED | +-------------------------------+-------------------------+-------------------+--------------------+----------------------+-------------------+------------------+ | CentOS Stream 10 | SKIPPED | SKIPPED | PASS | SKIPPED | SKIPPED | SKIPPED | +-------------------------------+-------------------------+-------------------+--------------------+----------------------+-------------------+------------------+ | Debian GNU/Linux 12 | SKIPPED | SKIPPED | PASS | SKIPPED | PASS | SKIPPED | +-------------------------------+-------------------------+-------------------+--------------------+----------------------+-------------------+------------------+ | Fedora Linux 42 | SKIPPED | SKIPPED | PASS | SKIPPED | PASS | PASS | +-------------------------------+-------------------------+-------------------+--------------------+----------------------+-------------------+------------------+ | openSUSE Leap 15.6 | SKIPPED | SKIPPED | PASS | SKIPPED | SKIPPED | SKIPPED | +-------------------------------+-------------------------+-------------------+--------------------+----------------------+-------------------+------------------+ | Red Hat Enterprise Linux 8.10 | SKIPPED | SKIPPED | PASS | SKIPPED | SKIPPED | SKIPPED | +-------------------------------+-------------------------+-------------------+--------------------+----------------------+-------------------+------------------+ | Red Hat Enterprise Linux 9.5 | SKIPPED | SKIPPED | PASS | SKIPPED | SKIPPED | SKIPPED | +-------------------------------+-------------------------+-------------------+--------------------+----------------------+-------------------+------------------+ | Ubuntu 22.04 | SKIPPED | SKIPPED | PASS | SKIPPED | PASS | SKIPPED | +-------------------------------+-------------------------+-------------------+--------------------+----------------------+-------------------+------------------+ Windows Server 2022 Kernel: 10.0.20348.2031 Compiler: clang 15.0.7, gcc 14.1.0 (MinGW), and MSVC VS 19.39.33521 FreeBSD 14.2 Kernel: 14.2-RELEASE Compiler: clang 18.1.6 Ubuntu 20.04 Kernel: 4.19 Compiler: gcc gcc (Ubuntu 9.4.0-1ubuntu1~20.04.2) 9.4.0 CentOS Stream 9 Kernel: 5.15 Compiler: gcc gcc (GCC) 11.5.0 20240719 (Red Hat 11.5.0-11) CentOS Stream 10 Kernel: 5.15 Compiler: gcc gcc (GCC) 14.2.1 20250110 (Red Hat 14.2.1-8) Debian GNU/Linux 12 Kernel: 5.15 Compiler: gcc gcc (Debian 12.2.0-14+deb12u1) 12.2.0 Fedora Linux 42 Kernel: 5.15 Compiler: clang gcc (GCC) 15.2.1 20250808 (Red Hat 15.2.1-1) openSUSE Leap 15.6 Kernel: 5.15 Compiler: gcc gcc (SUSE Linux) 7.5.0 Red Hat Enterprise Linux 8.10 Kernel: 5.15 Compiler: gcc gcc (GCC) 8.5.0 20210514 (Red Hat 8.5.0-22) Red Hat Enterprise Linux 9.5 Kernel: 5.15 Compiler: gcc gcc (GCC) 11.5.0 20240719 (Red Hat 11.5.0-2) Ubuntu 22.04 Kernel: 5.15 Compiler: gcc gcc (Ubuntu 11.4.0-1ubuntu1~22.04) 11.4.0 To view detailed results, visit: https://lab.dpdk.org/results/dashboard/patchsets/34235/ UNH-IOL DPDK Community Lab To manage your email subscriptions, visit: https://lab.dpdk.org/results/dashboard/preferences/subscriptions/