From mboxrd@z Thu Jan 1 00:00:00 1970 Return-Path: Received: from mails.dpdk.org (mails.dpdk.org [217.70.189.124]) by inbox.dpdk.org (Postfix) with ESMTP id 93227488E8 for ; Thu, 9 Oct 2025 03:53:24 +0200 (CEST) Received: from mails.dpdk.org (localhost [127.0.0.1]) by mails.dpdk.org (Postfix) with ESMTP id 66C1F40277; Thu, 9 Oct 2025 03:53:24 +0200 (CEST) Received: from mail-qv1-f99.google.com (mail-qv1-f99.google.com [209.85.219.99]) by mails.dpdk.org (Postfix) with ESMTP id 5687840277 for ; Thu, 9 Oct 2025 03:53:22 +0200 (CEST) Received: by mail-qv1-f99.google.com with SMTP id 6a1803df08f44-879b99b7ca8so5530756d6.0 for ; Wed, 08 Oct 2025 18:53:22 -0700 (PDT) DKIM-Signature: v=1; a=rsa-sha256; c=relaxed/relaxed; d=iol.unh.edu; s=unh-iol; t=1759974801; x=1760579601; darn=dpdk.org; h=references:in-reply-to:cc:to:from:subject:message-id:date:from:to :cc:subject:date:message-id:reply-to; bh=Ui+eL2T2uSNO8e9LEhWVFkOcZvpOa74ziXQsZrAYjr4=; b=hyzLHYt0lIfaPiAskHL7792FhKYdx+mxuV7VKph6QUT5cHLyX1vGo0u7+iZZxS5uHc jW99QxNIS6N72mOGlSCjCh2WyhmPtFgTa2ZYad1qUOI46GChqTf4FJDGnn76++V7s0EQ P58k+TVtfB1eSmGqlcgVWUAvKCgmnmejqKSss= X-Google-DKIM-Signature: v=1; a=rsa-sha256; c=relaxed/relaxed; d=1e100.net; s=20230601; t=1759974801; x=1760579601; h=references:in-reply-to:cc:to:from:subject:message-id:date :x-gm-message-state:from:to:cc:subject:date:message-id:reply-to; bh=Ui+eL2T2uSNO8e9LEhWVFkOcZvpOa74ziXQsZrAYjr4=; b=YN/YaEL7Gr/5nVfRRjT/a93qVUiI/ZlsuUZnC84x7Z5wL7FaYy9k/2RHxEKHurmRQE 6zGxzHmxp7EjzvnPEJTWzSwwH0mpIILVPrW5MuCfDk36IqXWabdjzJInoSVUrgPv4xUn m/HAP32ioBpYaZ+X06Nau60Uip7XApsiHWEPZEpxxO7P1rF3qpYNgBq5zoS4Bj5DA3n9 I5G0YC1GXZjgVc56/FFG/i4z8Mw8OXCV6oQHb8vegu1+t1fUn93gY7awoiEd5PFPuBep 3uPCCioCmNy0iyoVPFYs5GvU+W04hojAxqB2f8iUsCAHjGhDna16PjxD6RqS6QeV/MuM 3U/Q== X-Gm-Message-State: AOJu0Yx9vL2OVgJQJbc3t3r31UOJ9W65VN3rgH4OZX3jWoA2VW3vtSqR Uj7O4jq4c0PrfQ8Yk17/wXUnLdByfbcMHMNtPufJWbE84HO+K0ekaldTivf1FZ2PR4/rY0wUSQT CqPWlfrYYB7aHHIetUKjCF/mQF2HnSGOxCv1/CsL6hkY1cFmIfJjc8qw3wqoJ X-Gm-Gg: ASbGncu/5tbzS13Eg+czNOWh9O0bLETrm8O6ObPBhGouqwaakF0Jg/jt1v1huoGacK2 OA2WxPjNLkKnDsB7kJlscWvM3ekXvfHoGdeBd87ecq5eU0skCNtE7sbngjLN6vAwdrLZ+5pIcDI MomIt7do8ly0JuOa7wgpNUcLBkhY0EA7adcnbXFuN0GORasxGug8ECCgzCn6bpZWJN6CtgKMfRq vxS+IOxitAJS+7y9Tz3sIloRipT4vL52BbvsVu+k9xD8jPcQU+JqjbUfQd7zuMVRlzN+i40ErHt JBVVeURs10arsYPEvF7RIQUl22P7n1qn0L5vHHk5ElJEuWkqgJA8Ljg= X-Google-Smtp-Source: AGHT+IFZlQPFpCw8TZ8MWsCbTnat3szekn3cTY3cpK7MAM2MICRrIcxuezNNUh3DgkR5g4Y6WXtvuFJTJHwU X-Received: by 2002:a05:6214:f0f:b0:775:b23f:8d52 with SMTP id 6a1803df08f44-87b2103c6c7mr82886666d6.4.1759974801376; Wed, 08 Oct 2025 18:53:21 -0700 (PDT) Received: from postal.iol.unh.edu (postal.iol.unh.edu. [2606:4100:3880:1234::84]) by smtp-relay.gmail.com with ESMTPS id 6a1803df08f44-878bac6bcc5sm16171796d6.5.2025.10.08.18.53.21 (version=TLS1_2 cipher=ECDHE-ECDSA-AES128-GCM-SHA256 bits=128/128); Wed, 08 Oct 2025 18:53:21 -0700 (PDT) X-Relaying-Domain: iol.unh.edu Date: Wed, 08 Oct 2025 18:53:21 -0700 (PDT) Message-ID: <68e71591.050a0220.2ffb26.696dSMTPIN_ADDED_MISSING@mx.google.com> Received: from [172.21.0.3] (unknown [172.18.0.240]) by postal.iol.unh.edu (Postfix) with ESMTP id D0B996051830; Wed, 8 Oct 2025 21:53:20 -0400 (EDT) Subject: |SUCCESS| pw157322 [PATCH] compressdev: fix device ID validation che From: dpdklab@iol.unh.edu To: Test Report Cc: dpdk-test-reports@iol.unh.edu, Akhil Goyal In-Reply-To: <20251008074532.3066685-1-ashishg@marvell.com> References: <20251008074532.3066685-1-ashishg@marvell.com> Content-Type: text/plain X-BeenThere: test-report@dpdk.org X-Mailman-Version: 2.1.29 Precedence: list List-Id: automatic DPDK test reports List-Unsubscribe: , List-Archive: List-Post: List-Help: List-Subscribe: , Errors-To: test-report-bounces@dpdk.org Test-Label: iol-compile-amd64-testing Test-Status: SUCCESS http://dpdk.org/patch/157322 _Testing PASS_ Submitter: Ashish Gupta Date: Wednesday, October 08 2025 07:45:23 DPDK git baseline: Repo:dpdk-next-crypto Branch: master CommitID:2aa7141a4e2c78e3cce03dbd613532a2166123c1 157322 --> testing pass Upstream job id: Generic-DPDK-Compile-Meson#432568 Test environment and result as below: +-------------------------------+-------------------------+-------------------+--------------------+----------------------+-------------------+------------------+ | Environment | dpdk_llvm_clang_compile | dpdk_msvc_compile | dpdk_meson_compile | dpdk_mingw64_compile | dpdk_compile_spdk | dpdk_compile_ovs | +===============================+=========================+===================+====================+======================+===================+==================+ | Windows Server 2022 | PASS | PASS | SKIPPED | PASS | SKIPPED | SKIPPED | +-------------------------------+-------------------------+-------------------+--------------------+----------------------+-------------------+------------------+ | FreeBSD 14.2 | SKIPPED | SKIPPED | PASS | SKIPPED | SKIPPED | SKIPPED | +-------------------------------+-------------------------+-------------------+--------------------+----------------------+-------------------+------------------+ | Ubuntu 20.04 | SKIPPED | SKIPPED | PASS | SKIPPED | SKIPPED | SKIPPED | +-------------------------------+-------------------------+-------------------+--------------------+----------------------+-------------------+------------------+ | CentOS Stream 9 | SKIPPED | SKIPPED | PASS | SKIPPED | PASS | SKIPPED | +-------------------------------+-------------------------+-------------------+--------------------+----------------------+-------------------+------------------+ | CentOS Stream 10 | SKIPPED | SKIPPED | PASS | SKIPPED | SKIPPED | SKIPPED | +-------------------------------+-------------------------+-------------------+--------------------+----------------------+-------------------+------------------+ | Debian GNU/Linux 12 | SKIPPED | SKIPPED | PASS | SKIPPED | PASS | SKIPPED | +-------------------------------+-------------------------+-------------------+--------------------+----------------------+-------------------+------------------+ | Fedora Linux 42 | SKIPPED | SKIPPED | PASS | SKIPPED | PASS | PASS | +-------------------------------+-------------------------+-------------------+--------------------+----------------------+-------------------+------------------+ | openSUSE Leap 15.6 | SKIPPED | SKIPPED | PASS | SKIPPED | SKIPPED | SKIPPED | +-------------------------------+-------------------------+-------------------+--------------------+----------------------+-------------------+------------------+ | Red Hat Enterprise Linux 8.10 | SKIPPED | SKIPPED | PASS | SKIPPED | SKIPPED | SKIPPED | +-------------------------------+-------------------------+-------------------+--------------------+----------------------+-------------------+------------------+ | Red Hat Enterprise Linux 9.5 | SKIPPED | SKIPPED | PASS | SKIPPED | SKIPPED | SKIPPED | +-------------------------------+-------------------------+-------------------+--------------------+----------------------+-------------------+------------------+ | Ubuntu 22.04 | SKIPPED | SKIPPED | PASS | SKIPPED | PASS | SKIPPED | +-------------------------------+-------------------------+-------------------+--------------------+----------------------+-------------------+------------------+ | Ubuntu 24.04 | SKIPPED | SKIPPED | PASS | SKIPPED | PASS | PASS | +-------------------------------+-------------------------+-------------------+--------------------+----------------------+-------------------+------------------+ Windows Server 2022 Kernel: 10.0.20348.2031 Compiler: clang 15.0.7, gcc 14.1.0 (MinGW), and MSVC VS 19.39.33521 FreeBSD 14.2 Kernel: 14.2-RELEASE Compiler: clang 18.1.6 Ubuntu 20.04 Kernel: 4.19 Compiler: gcc gcc (Ubuntu 9.4.0-1ubuntu1~20.04.2) 9.4.0 CentOS Stream 9 Kernel: 5.15 Compiler: gcc gcc (GCC) 11.5.0 20240719 (Red Hat 11.5.0-11) CentOS Stream 10 Kernel: 5.15 Compiler: gcc gcc (GCC) 14.2.1 20250110 (Red Hat 14.2.1-8) Debian GNU/Linux 12 Kernel: 5.15 Compiler: gcc gcc (Debian 12.2.0-14+deb12u1) 12.2.0 Fedora Linux 42 Kernel: 5.15 Compiler: clang gcc (GCC) 15.2.1 20250808 (Red Hat 15.2.1-1) openSUSE Leap 15.6 Kernel: 5.15 Compiler: gcc gcc (SUSE Linux) 7.5.0 Red Hat Enterprise Linux 8.10 Kernel: 5.15 Compiler: gcc gcc (GCC) 8.5.0 20210514 (Red Hat 8.5.0-22) Red Hat Enterprise Linux 9.5 Kernel: 5.15 Compiler: gcc gcc (GCC) 11.5.0 20240719 (Red Hat 11.5.0-2) Ubuntu 22.04 Kernel: 5.15 Compiler: gcc gcc (Ubuntu 11.4.0-1ubuntu1~22.04) 11.4.0 Ubuntu 24.04 Kernel: 5.15 Compiler: gcc gcc (Ubuntu 13.3.0-6ubuntu2~24.04) 13.3.0 To view detailed results, visit: https://lab.dpdk.org/results/dashboard/patchsets/34235/ UNH-IOL DPDK Community Lab To manage your email subscriptions, visit: https://lab.dpdk.org/results/dashboard/preferences/subscriptions/