From mboxrd@z Thu Jan 1 00:00:00 1970 Return-Path: Received: from mails.dpdk.org (mails.dpdk.org [217.70.189.124]) by inbox.dpdk.org (Postfix) with ESMTP id B26F4488E8 for ; Thu, 9 Oct 2025 04:17:30 +0200 (CEST) Received: from mails.dpdk.org (localhost [127.0.0.1]) by mails.dpdk.org (Postfix) with ESMTP id 8E1AC40277; Thu, 9 Oct 2025 04:17:30 +0200 (CEST) Received: from mail-pg1-f226.google.com (mail-pg1-f226.google.com [209.85.215.226]) by mails.dpdk.org (Postfix) with ESMTP id 9F58540277 for ; Thu, 9 Oct 2025 04:17:29 +0200 (CEST) Received: by mail-pg1-f226.google.com with SMTP id 41be03b00d2f7-b632a6b9effso257961a12.1 for ; Wed, 08 Oct 2025 19:17:29 -0700 (PDT) DKIM-Signature: v=1; a=rsa-sha256; c=relaxed/relaxed; d=iol.unh.edu; s=unh-iol; t=1759976248; x=1760581048; darn=dpdk.org; h=references:in-reply-to:cc:to:from:subject:message-id:date:from:to :cc:subject:date:message-id:reply-to; bh=iaA2rswPzvBVnFD+RWKqqts+R0tUDR7On6JIUaS951Q=; b=EyAsPxbiCQlgRbRYln8yO37glfyIM79bR1gwOGiE4d+CJUonpEsTVQNrZEg9Ejr3qS EinUFZShjXBXK9xD9Vj+sDgN4ZT5iBUQt1kvpGCcEdW/uukQXHm/L4YeCAJL2E79mSWG q/JFQV/BuloAKqMKXT+vo8fT/XtyIEIxye+J0= X-Google-DKIM-Signature: v=1; a=rsa-sha256; c=relaxed/relaxed; d=1e100.net; s=20230601; t=1759976248; x=1760581048; h=references:in-reply-to:cc:to:from:subject:message-id:date :x-gm-message-state:from:to:cc:subject:date:message-id:reply-to; bh=iaA2rswPzvBVnFD+RWKqqts+R0tUDR7On6JIUaS951Q=; b=DCNy/LCSazNvhm0tHgzWRd+j5+3XZmB05i2eLM78NrWvXzM4KMXkVzZ9lx626p9NGZ oLF/wzkv+MHwa40d5jHytNgEBVbm886FqdFevai6W3bjjvqT1u6YJVaWVshe3QXZer2H 8vI9QiZQgNYQ16jq7CCpKGKYW4MXIG9X1lbyXbp5Kjw8VDJJ7lDV8McT32+l1c4NCdGj HM3xUBkRw+MDYWN8wXsq/QBoyeBJBG3C7CbEGO/nNVaRNtA3sZ1/QxKjhoHc6gTwYj/X sht2XpCJeRib1k3gebXCd4TALtm2NdfaZkLVBtRmujblKUUaPDAkojAsPPDlO9j+dfyH 383Q== X-Gm-Message-State: AOJu0YxdzIlrALa6ZeYij40c7MabVo2QrmMDxiqqqWzgNkHtbyYWInNi uzEHyS8x5wSwwbcWka8KFgE63yKeoofDYNvlMUybPywOq+axtnrOUtpwObJtoI0qNou0e94tsW3 NH+z9+4edBvGhZA5CboKa6gol1bwuqIaZXXmpX9RBCbNV X-Gm-Gg: ASbGncsKlvN/eW094vVfR0/OwS52vhGXaurwlY1lbtqbHk86acr3Droqf3V5zFdzYwh /vF8VMgEVtGi6qHKCvIeLUU1wnfsez1K+qv3J3cOI7PnQDpMYV4VvZiv8UNBV4nGvpDT8mFHuMQ qkWEoiV/EhQgYnk8eK2X14DhF4Ydabp/zCRgmab9VMmfBs7nE++K5V03dPlifwMOasHkTQKdvwh Qn/CqzIP/dE6140K2ZwRKdlEOg61DTr1+c+EC3ZxO9yggK9Q5T6OqyfXJfNtLsIGMsPkgpBAkOh UfzZ3gEIvmL9+c6wIyamn2Nz8x4G/DGp4wL0NrDy9rynWb87lUV4JFhld+u1XogpP5oQJPuQSZI 5+w== X-Google-Smtp-Source: AGHT+IGRiItIg6FGlHbBtfbX3ihVPbPoH/Ah+RDxcazPeAnAFZQtVjV60ANWF6oslF7FYNk0BXP8cXRs8j+w X-Received: by 2002:a17:903:298e:b0:28e:756c:7082 with SMTP id d9443c01a7336-29027374b38mr72659475ad.15.1759976248561; Wed, 08 Oct 2025 19:17:28 -0700 (PDT) Received: from postal.iol.unh.edu (postal.iol.unh.edu. [132.177.123.84]) by smtp-relay.gmail.com with ESMTPS id d9443c01a7336-29034f2b31csm1145035ad.55.2025.10.08.19.17.28 (version=TLS1_2 cipher=ECDHE-ECDSA-AES128-GCM-SHA256 bits=128/128); Wed, 08 Oct 2025 19:17:28 -0700 (PDT) X-Relaying-Domain: iol.unh.edu Date: Wed, 08 Oct 2025 19:17:28 -0700 (PDT) Message-ID: <68e71b38.170a0220.106f47.675fSMTPIN_ADDED_MISSING@mx.google.com> Received: from [172.21.0.3] (unknown [172.18.0.240]) by postal.iol.unh.edu (Postfix) with ESMTP id C195F60003EA; Wed, 8 Oct 2025 22:17:27 -0400 (EDT) Subject: |SUCCESS| pw157322 [PATCH] compressdev: fix device ID validation che From: dpdklab@iol.unh.edu To: Test Report Cc: dpdk-test-reports@iol.unh.edu, Akhil Goyal In-Reply-To: <20251008074532.3066685-1-ashishg@marvell.com> References: <20251008074532.3066685-1-ashishg@marvell.com> Content-Type: text/plain X-BeenThere: test-report@dpdk.org X-Mailman-Version: 2.1.29 Precedence: list List-Id: automatic DPDK test reports List-Unsubscribe: , List-Archive: List-Post: List-Help: List-Subscribe: , Errors-To: test-report-bounces@dpdk.org Test-Label: iol-compile-amd64-testing Test-Status: SUCCESS http://dpdk.org/patch/157322 _Testing PASS_ Submitter: Ashish Gupta Date: Wednesday, October 08 2025 07:45:23 DPDK git baseline: Repo:dpdk-next-crypto Branch: master CommitID:2aa7141a4e2c78e3cce03dbd613532a2166123c1 157322 --> testing pass Upstream job id: Generic-DPDK-Compile-Meson#432572 Test environment and result as below: +-------------------------------+-------------------------+-------------------+--------------------+----------------------+-------------------+------------------+ | Environment | dpdk_llvm_clang_compile | dpdk_msvc_compile | dpdk_meson_compile | dpdk_mingw64_compile | dpdk_compile_spdk | dpdk_compile_ovs | +===============================+=========================+===================+====================+======================+===================+==================+ | Windows Server 2022 | PASS | PASS | SKIPPED | PASS | SKIPPED | SKIPPED | +-------------------------------+-------------------------+-------------------+--------------------+----------------------+-------------------+------------------+ | FreeBSD 14.2 | SKIPPED | SKIPPED | PASS | SKIPPED | SKIPPED | SKIPPED | +-------------------------------+-------------------------+-------------------+--------------------+----------------------+-------------------+------------------+ | Ubuntu 20.04 | SKIPPED | SKIPPED | PASS | SKIPPED | SKIPPED | SKIPPED | +-------------------------------+-------------------------+-------------------+--------------------+----------------------+-------------------+------------------+ | CentOS Stream 9 | SKIPPED | SKIPPED | PASS | SKIPPED | PASS | SKIPPED | +-------------------------------+-------------------------+-------------------+--------------------+----------------------+-------------------+------------------+ | CentOS Stream 10 | SKIPPED | SKIPPED | PASS | SKIPPED | SKIPPED | SKIPPED | +-------------------------------+-------------------------+-------------------+--------------------+----------------------+-------------------+------------------+ | Debian GNU/Linux 12 | SKIPPED | SKIPPED | PASS | SKIPPED | PASS | SKIPPED | +-------------------------------+-------------------------+-------------------+--------------------+----------------------+-------------------+------------------+ | Fedora Linux 42 | SKIPPED | SKIPPED | PASS | SKIPPED | PASS | PASS | +-------------------------------+-------------------------+-------------------+--------------------+----------------------+-------------------+------------------+ | openSUSE Leap 15.6 | SKIPPED | SKIPPED | PASS | SKIPPED | SKIPPED | SKIPPED | +-------------------------------+-------------------------+-------------------+--------------------+----------------------+-------------------+------------------+ | Red Hat Enterprise Linux 8.10 | SKIPPED | SKIPPED | PASS | SKIPPED | SKIPPED | SKIPPED | +-------------------------------+-------------------------+-------------------+--------------------+----------------------+-------------------+------------------+ | Red Hat Enterprise Linux 9.5 | SKIPPED | SKIPPED | PASS | SKIPPED | SKIPPED | SKIPPED | +-------------------------------+-------------------------+-------------------+--------------------+----------------------+-------------------+------------------+ | Ubuntu 22.04 | SKIPPED | SKIPPED | PASS | SKIPPED | PASS | SKIPPED | +-------------------------------+-------------------------+-------------------+--------------------+----------------------+-------------------+------------------+ | Ubuntu 24.04 | SKIPPED | SKIPPED | PASS | SKIPPED | PASS | PASS | +-------------------------------+-------------------------+-------------------+--------------------+----------------------+-------------------+------------------+ | Alpine Linux 3.22.0 | SKIPPED | SKIPPED | PASS | SKIPPED | SKIPPED | SKIPPED | +-------------------------------+-------------------------+-------------------+--------------------+----------------------+-------------------+------------------+ Windows Server 2022 Kernel: 10.0.20348.2031 Compiler: clang 15.0.7, gcc 14.1.0 (MinGW), and MSVC VS 19.39.33521 FreeBSD 14.2 Kernel: 14.2-RELEASE Compiler: clang 18.1.6 Ubuntu 20.04 Kernel: 4.19 Compiler: gcc gcc (Ubuntu 9.4.0-1ubuntu1~20.04.2) 9.4.0 CentOS Stream 9 Kernel: 5.15 Compiler: gcc gcc (GCC) 11.5.0 20240719 (Red Hat 11.5.0-11) CentOS Stream 10 Kernel: 5.15 Compiler: gcc gcc (GCC) 14.2.1 20250110 (Red Hat 14.2.1-8) Debian GNU/Linux 12 Kernel: 5.15 Compiler: gcc gcc (Debian 12.2.0-14+deb12u1) 12.2.0 Fedora Linux 42 Kernel: 5.15 Compiler: clang gcc (GCC) 15.2.1 20250808 (Red Hat 15.2.1-1) openSUSE Leap 15.6 Kernel: 5.15 Compiler: gcc gcc (SUSE Linux) 7.5.0 Red Hat Enterprise Linux 8.10 Kernel: 5.15 Compiler: gcc gcc (GCC) 8.5.0 20210514 (Red Hat 8.5.0-22) Red Hat Enterprise Linux 9.5 Kernel: 5.15 Compiler: gcc gcc (GCC) 11.5.0 20240719 (Red Hat 11.5.0-2) Ubuntu 22.04 Kernel: 5.15 Compiler: gcc gcc (Ubuntu 11.4.0-1ubuntu1~22.04) 11.4.0 Ubuntu 24.04 Kernel: 5.15 Compiler: gcc gcc (Ubuntu 13.3.0-6ubuntu2~24.04) 13.3.0 Alpine Linux 3.22.0 Kernel: 5.15 Compiler: gcc gcc (Alpine 14.2.0) 14.2.0 To view detailed results, visit: https://lab.dpdk.org/results/dashboard/patchsets/34235/ UNH-IOL DPDK Community Lab To manage your email subscriptions, visit: https://lab.dpdk.org/results/dashboard/preferences/subscriptions/