From mboxrd@z Thu Jan 1 00:00:00 1970 Return-Path: Received: from mails.dpdk.org (mails.dpdk.org [217.70.189.124]) by inbox.dpdk.org (Postfix) with ESMTP id 4111B488E8 for ; Thu, 9 Oct 2025 04:45:45 +0200 (CEST) Received: from mails.dpdk.org (localhost [127.0.0.1]) by mails.dpdk.org (Postfix) with ESMTP id B5F4B40277; Thu, 9 Oct 2025 04:45:44 +0200 (CEST) Received: from mail-qv1-f97.google.com (mail-qv1-f97.google.com [209.85.219.97]) by mails.dpdk.org (Postfix) with ESMTP id 1A1BC40277 for ; Thu, 9 Oct 2025 04:45:43 +0200 (CEST) Received: by mail-qv1-f97.google.com with SMTP id 6a1803df08f44-78ea15d3489so4851986d6.3 for ; Wed, 08 Oct 2025 19:45:43 -0700 (PDT) DKIM-Signature: v=1; a=rsa-sha256; c=relaxed/relaxed; d=iol.unh.edu; s=unh-iol; t=1759977942; x=1760582742; darn=dpdk.org; h=references:in-reply-to:cc:to:from:subject:message-id:date:from:to :cc:subject:date:message-id:reply-to; bh=83PSHy0rreqJhm9/wnCBc7OV8vNkuh0i3QcofTgMp+U=; b=fLyFlyG+2R2YXVnAUHpI7QhVWBt3cC1plsAXwAuQQQMeXiIvO6YxWNzhU2lH/94UN7 fcVL3+uxH6c6ARueUxFgAfh6ZqZoRpY7cR1GMazZWpniAqOU2uSOlzhaiWdYIDEWMrhV PDq+QSWGFLQjK1jRaEpvXPC8zFuGaQiQzbxZo= X-Google-DKIM-Signature: v=1; a=rsa-sha256; c=relaxed/relaxed; d=1e100.net; s=20230601; t=1759977942; x=1760582742; h=references:in-reply-to:cc:to:from:subject:message-id:date :x-gm-message-state:from:to:cc:subject:date:message-id:reply-to; bh=83PSHy0rreqJhm9/wnCBc7OV8vNkuh0i3QcofTgMp+U=; b=UvAiHceiFNB6sL6zYYdc/ruutGmonR5gt0HJJaY2d8oWVm2v95sQUinm7BezgWZLCy kgEd6PtECccNrHGq9I5KA+oJ7uv6APIBNkdUO47XU8oECvzbS/HuydBApVSEN599xC67 T/8dkpnB9RUuuQTmJcgyV0N65TXcmZXVOE0693KEjTnN1WWazqRjf/MNeVxEinAhOJBv jx42TM7LINjgb/TW4VpEZPL7qh7TnYLMfYIuVIF9aNVOzTmWKfAX0JQ/L7MHEXPJFSxs 6xYOG76fLTdemm9iAI5Fy7F0qUTlQKkScQfwtr80GhHtu/f89UiP5bgQgCavnOnI4isn 9k+g== X-Gm-Message-State: AOJu0YwySF8e8+8pvKgtw3I3vDEfLZpVbq1QW/SIPDw28YnKg2ZCrUBn 6vzTZqpsTtycDgKGTckC2OISFvrOSEkZyJz7NpI1JrsJTpVO7Yr1d3vMqMQ9syLz1NkMkfa5Phx BGWzlaCbwdCY8pjMli8z23sSLVpIdGgfYAxqtq7MoLFA8 X-Gm-Gg: ASbGnctmmAtnU5OPf2LVpgnYZOs9BWIrhmTuSh3hSknfoT9/LJkFlhmRYVe+6K2+9or +piyOLw4yizWGrKjIX9rzfhwEYfvw27qyKS+fC++noIJd9Blzu7YrVVRv61ngbdnRsA5uINaxSI vsk5VGT7iOjJYtwHGfKF/0p/cQ5Rfe2HLnu1VXDdULSazYu1xX50wyK50488SzJK4uC7W7x7ms/ 31qy6PzRG//LHyxEGdeNrh64Avpf7Ua+ZyStUh3F6GnXBOfLnz7xsZDHCsiDoyN5VQZWqWXc+mt LTzkcsdFzjVgWh7Jpy0rcqclTf+fFLXjOhEmZ2NyGGzbKAfJFbDBdcqeXo9d3b+F7yxyZcx3YYQ 1hg== X-Google-Smtp-Source: AGHT+IEzjyqcAVMTTCGuvmiyYKua4D8CSk9K6+pbOJZDaUhSfTkZikB+ucn4B+NWonTQFKd/JBGiV8opfosD X-Received: by 2002:a05:6214:c44:b0:86b:8ee3:99b4 with SMTP id 6a1803df08f44-87b2ef3589dmr69951936d6.35.1759977942461; Wed, 08 Oct 2025 19:45:42 -0700 (PDT) Received: from postal.iol.unh.edu (postal.iol.unh.edu. [132.177.123.84]) by smtp-relay.gmail.com with ESMTPS id 6a1803df08f44-878bb8297cdsm16973726d6.18.2025.10.08.19.45.42 (version=TLS1_2 cipher=ECDHE-ECDSA-AES128-GCM-SHA256 bits=128/128); Wed, 08 Oct 2025 19:45:42 -0700 (PDT) X-Relaying-Domain: iol.unh.edu Date: Wed, 08 Oct 2025 19:45:42 -0700 (PDT) Message-ID: <68e721d6.050a0220.398ca9.b514SMTPIN_ADDED_MISSING@mx.google.com> Received: from [172.21.0.2] (unknown [172.18.0.240]) by postal.iol.unh.edu (Postfix) with ESMTP id 259776051830; Wed, 8 Oct 2025 22:45:42 -0400 (EDT) Subject: |SUCCESS| pw157315-157319 [PATCH] [v2,5/5] net/dpaa: Fix coverity is From: dpdklab@iol.unh.edu To: Test Report Cc: dpdk-test-reports@iol.unh.edu, Stephen Hemminger In-Reply-To: <20251008043519.2461707-6-g.singh@nxp.com> References: <20251008043519.2461707-6-g.singh@nxp.com> Content-Type: text/plain X-BeenThere: test-report@dpdk.org X-Mailman-Version: 2.1.29 Precedence: list List-Id: automatic DPDK test reports List-Unsubscribe: , List-Archive: List-Post: List-Help: List-Subscribe: , Errors-To: test-report-bounces@dpdk.org Test-Label: iol-compile-arm64-testing Test-Status: SUCCESS http://dpdk.org/patch/157319 _Testing PASS_ Submitter: Gagandeep Singh Date: Wednesday, October 08 2025 04:35:19 DPDK git baseline: Repo:dpdk-next-net Branch: master CommitID:c04bbd131b2c14b3049bf86d3ef367b34e6fdf1e 157315-157319 --> testing pass Upstream job id: Generic-DPDK-Compile-Meson#432482 Test environment and result as below: +------------------------------+--------------------+ | Environment | dpdk_meson_compile | +==============================+====================+ | Red Hat Enterprise Linux 9.5 | PASS | +------------------------------+--------------------+ | Ubuntu 20.04 | PASS | +------------------------------+--------------------+ | Debian GNU/Linux 12 | PASS | +------------------------------+--------------------+ | Fedora Linux 42 | PASS | +------------------------------+--------------------+ | Ubuntu 22.04 | PASS | +------------------------------+--------------------+ | Ubuntu 24.04 | PASS | +------------------------------+--------------------+ | CentOS Stream 9 | PASS | +------------------------------+--------------------+ | CentOS Stream 10 | PASS | +------------------------------+--------------------+ Red Hat Enterprise Linux 9.5 Kernel: 5.4 Compiler: gcc gcc (GCC) 11.5.0 20240719 (Red Hat 11.5.0-2) Ubuntu 20.04 Kernel: 5.15 Compiler: aarch64-linux-gnu-gcc gcc (Ubuntu 9.4.0-1ubuntu1~20.04.2) 9.4.0 Debian GNU/Linux 12 Kernel: 5.4 Compiler: gcc gcc (Debian 12.2.0-14+deb12u1) 12.2.0 Fedora Linux 42 Kernel: 5.4 Compiler: gcc gcc (GCC) 15.2.1 20250808 (Red Hat 15.2.1-1) Ubuntu 22.04 Kernel: 5.4 Compiler: gcc gcc (Ubuntu 11.4.0-1ubuntu1~22.04) 11.4.0 Ubuntu 24.04 Kernel: 5.4 Compiler: gcc gcc (Ubuntu 13.3.0-6ubuntu2~24.04) 13.3.0 CentOS Stream 9 Kernel: 5.4 Compiler: gcc gcc (GCC) 11.5.0 20240719 (Red Hat 11.5.0-11) CentOS Stream 10 Kernel: 5.4 Compiler: gcc gcc (GCC) 14.2.1 20250110 (Red Hat 14.2.1-8) To view detailed results, visit: https://lab.dpdk.org/results/dashboard/patchsets/34232/ UNH-IOL DPDK Community Lab To manage your email subscriptions, visit: https://lab.dpdk.org/results/dashboard/preferences/subscriptions/