From mboxrd@z Thu Jan 1 00:00:00 1970 Return-Path: Received: from mails.dpdk.org (mails.dpdk.org [217.70.189.124]) by inbox.dpdk.org (Postfix) with ESMTP id 250DD488E8 for ; Thu, 9 Oct 2025 05:05:41 +0200 (CEST) Received: from mails.dpdk.org (localhost [127.0.0.1]) by mails.dpdk.org (Postfix) with ESMTP id 0B55F40277; Thu, 9 Oct 2025 05:05:41 +0200 (CEST) Received: from mail-io1-f98.google.com (mail-io1-f98.google.com [209.85.166.98]) by mails.dpdk.org (Postfix) with ESMTP id 4308240277 for ; Thu, 9 Oct 2025 05:05:40 +0200 (CEST) Received: by mail-io1-f98.google.com with SMTP id ca18e2360f4ac-938bf212b72so15688439f.1 for ; Wed, 08 Oct 2025 20:05:40 -0700 (PDT) DKIM-Signature: v=1; a=rsa-sha256; c=relaxed/relaxed; d=iol.unh.edu; s=unh-iol; t=1759979139; x=1760583939; darn=dpdk.org; h=references:in-reply-to:cc:to:from:subject:message-id:date:from:to :cc:subject:date:message-id:reply-to; bh=4bQmrkeYKWoCe7N7o80P6CUY/B3LlqlhpXbwZEh35TQ=; b=bIpXevIlkHpd8iY2Y6gu+8Cq1W5nWTviqcFj/OUAyPnekKwNqOnVrW4vMjvs5TQnMC Lfdg0+gvtsfmlsKihHthbxSFpLJkZBGICmjJ56rA2Tv658kh/TZioP7inSQ5mTxFIRBp RGMtB45uXmozqnyiTOwGD0jO570uwJ4AvLHNI= X-Google-DKIM-Signature: v=1; a=rsa-sha256; c=relaxed/relaxed; d=1e100.net; s=20230601; t=1759979139; x=1760583939; h=references:in-reply-to:cc:to:from:subject:message-id:date :x-gm-message-state:from:to:cc:subject:date:message-id:reply-to; bh=4bQmrkeYKWoCe7N7o80P6CUY/B3LlqlhpXbwZEh35TQ=; b=Ehl2qihIuSuhQDYc5/Sa+OSn8BiIayUpTW7yzeJAD5R+PFbuCOovq3m8mjmBZTD7w4 MxAV4rDz0yLeFBfdP7KUk9NlNzRMxWZR64kNVVUQeDIZGS9TndFwApVAMRVudABlVm8B s/uJew14mkLk5ToYgX1MO625LlSuKSxXFpK4J6VVfsQ/JDYqwrYPWLL0mcu8GhsJyZPB j2usS1I1qNNJxDJH65+GOBFSzudAS/jpxVPlCg7LJsYQn8jafbkymHRab7O6//fJGKNv U0u55YGGyBAGKHX3JwuQff5qdW6/fjxTQSBSMTp/9MS1WoDxMPxW73eZ5cvW2xaapOdE 3MkA== X-Gm-Message-State: AOJu0YwdaEQPdwSTld1odzrkEqnOaJFW6F9Fc/u6ppJje3F7mFRIRX8a JJ//be1Yhhkr1E8IXQQrcF2nNwQrR5uq6veZ0pP77LNwUKAQLQYuoX/s0xQyEz6GLceptKBl9+q sTY8Ly92Q1kT1QpgwSYc4n0hS7OMdQN1CiQQlOuv9N8pv X-Gm-Gg: ASbGncvGaUCeyQ4vvA2+noavZDZlNOb1Xb3kEeknczBPQ2dKA9kmXnrYEBl1qf8Mmxd ZdBO2zjjONrSI1UfEFmuz/SIZyxYzjFxmNuH4rKK84W3hpT4CmvRsFD7jI9bVYKhSvFLuMYe4/P jqB1eoqOACQgNrjUhq7GFdJa0MSz/3AymlGwnCQuA5iiwbwn1rhj6tBPddIQa+jxcJQaIlJWfZ7 9BoI47QTcp4BPR8RjpXclBx/fTsutGpVb6HK36igqHqDtHJ5wsJuH9z0W7kkR8nTyOZs7LAahIh JoQ2qwCYAhMZuoCEqLKi6Xw9tGXLNx+dbVb00MXi01Y0gtzbokQoEQDmQsHCoExtNPme9emSpYw r/g== X-Google-Smtp-Source: AGHT+IEab7yBsxU4PGWrVNIeXGrAqM9V3yNPYULM7bNvjWFHjGoeFdtKFSU4AO/v3O+QlHFH0H+3kaos1Mv5 X-Received: by 2002:a05:6e02:1805:b0:42a:7339:94a3 with SMTP id e9e14a558f8ab-42f87358472mr49927865ab.1.1759979139392; Wed, 08 Oct 2025 20:05:39 -0700 (PDT) Received: from postal.iol.unh.edu (postal.iol.unh.edu. [132.177.123.84]) by smtp-relay.gmail.com with ESMTPS id e9e14a558f8ab-42f90360596sm970385ab.31.2025.10.08.20.05.39 (version=TLS1_2 cipher=ECDHE-ECDSA-AES128-GCM-SHA256 bits=128/128); Wed, 08 Oct 2025 20:05:39 -0700 (PDT) X-Relaying-Domain: iol.unh.edu Date: Wed, 08 Oct 2025 20:05:39 -0700 (PDT) Message-ID: <68e72683.050a0220.28b3f3.6058SMTPIN_ADDED_MISSING@mx.google.com> Received: from [172.21.0.2] (unknown [172.18.0.240]) by postal.iol.unh.edu (Postfix) with ESMTP id C2C9E60003EA; Wed, 8 Oct 2025 23:05:38 -0400 (EDT) Subject: |SUCCESS| pw157320 [PATCH] app/crypto-perf: add ECDSA P192/P224/P521 From: dpdklab@iol.unh.edu To: Test Report Cc: dpdk-test-reports@iol.unh.edu, Akhil Goyal In-Reply-To: <20251008054059.3934959-1-rchiluka@marvell.com> References: <20251008054059.3934959-1-rchiluka@marvell.com> Content-Type: text/plain X-BeenThere: test-report@dpdk.org X-Mailman-Version: 2.1.29 Precedence: list List-Id: automatic DPDK test reports List-Unsubscribe: , List-Archive: List-Post: List-Help: List-Subscribe: , Errors-To: test-report-bounces@dpdk.org Test-Label: iol-unit-arm64-testing Test-Status: SUCCESS http://dpdk.org/patch/157320 _Testing PASS_ Submitter: Rupesh Chiluka Date: Wednesday, October 08 2025 05:40:59 DPDK git baseline: Repo:dpdk-next-crypto Branch: master CommitID:2aa7141a4e2c78e3cce03dbd613532a2166123c1 157320 --> testing pass Upstream job id: Generic-Unit-Test-DPDK#379494 Test environment and result as below: +------------------------------+----------------+--------------+------------------------------+---------------------------+ | Environment | dpdk_unit_test | lpm_autotest | cryptodev_sw_snow3g_autotest | cryptodev_sw_zuc_autotest | +==============================+================+==============+==============================+===========================+ | CentOS Stream 9 | PASS | SKIPPED | SKIPPED | SKIPPED | +------------------------------+----------------+--------------+------------------------------+---------------------------+ | CentOS Stream 10 | PASS | SKIPPED | SKIPPED | SKIPPED | +------------------------------+----------------+--------------+------------------------------+---------------------------+ | Debian GNU/Linux 12 | PASS | SKIPPED | SKIPPED | SKIPPED | +------------------------------+----------------+--------------+------------------------------+---------------------------+ | Fedora Linux 40 | PASS | SKIPPED | SKIPPED | SKIPPED | +------------------------------+----------------+--------------+------------------------------+---------------------------+ | Ubuntu 22.04 | PASS | SKIPPED | SKIPPED | SKIPPED | +------------------------------+----------------+--------------+------------------------------+---------------------------+ | Fedora Linux 41 | PASS | SKIPPED | SKIPPED | SKIPPED | +------------------------------+----------------+--------------+------------------------------+---------------------------+ | Fedora Linux 42 | PASS | SKIPPED | SKIPPED | SKIPPED | +------------------------------+----------------+--------------+------------------------------+---------------------------+ | Ubuntu 20.04 | PASS | PASS | SKIPPED | SKIPPED | +------------------------------+----------------+--------------+------------------------------+---------------------------+ | Red Hat Enterprise Linux 9.5 | PASS | SKIPPED | SKIPPED | SKIPPED | +------------------------------+----------------+--------------+------------------------------+---------------------------+ | Ubuntu 24.04 | PASS | SKIPPED | SKIPPED | SKIPPED | +------------------------------+----------------+--------------+------------------------------+---------------------------+ | Debian 12 (arm) | SKIPPED | SKIPPED | PASS | PASS | +------------------------------+----------------+--------------+------------------------------+---------------------------+ CentOS Stream 9 Kernel: 5.4 Compiler: gcc gcc (GCC) 11.5.0 20240719 (Red Hat 11.5.0-11) CentOS Stream 10 Kernel: 5.4 Compiler: gcc gcc (GCC) 14.2.1 20250110 (Red Hat 14.2.1-8) Debian GNU/Linux 12 Kernel: 5.4 Compiler: gcc gcc (Debian 12.2.0-14+deb12u1) 12.2.0 Fedora Linux 40 Kernel: 5.4 Compiler: gcc gcc (GCC) 14.2.1 20240912 (Red Hat 14.2.1-3) Ubuntu 22.04 Kernel: 5.15 Compiler: gcc gcc (Ubuntu 11.4.0-1ubuntu1~22.04.2) 11.4.0 Fedora Linux 41 Kernel: 5.4 Compiler: gcc gcc (GCC) 14.3.1 20250523 (Red Hat 14.3.1-1) Fedora Linux 42 Kernel: 5.4 Compiler: clang gcc (GCC) 15.2.1 20250808 (Red Hat 15.2.1-1) Ubuntu 20.04 Kernel: 5.4 Compiler: gcc gcc (Ubuntu 9.4.0-1ubuntu1~20.04.2) 9.4.0 Red Hat Enterprise Linux 9.5 Kernel: 5.4 Compiler: gcc gcc (GCC) 11.5.0 20240719 (Red Hat 11.5.0-2) Ubuntu 24.04 Kernel: 5.4 Compiler: gcc gcc (Ubuntu 13.3.0-6ubuntu2~24.04) 13.3.0 Debian 12 (arm) Kernel: Depends on container host Compiler: gcc (Debian 12.2.0-14) 12.2.0 To view detailed results, visit: https://lab.dpdk.org/results/dashboard/patchsets/34233/ UNH-IOL DPDK Community Lab To manage your email subscriptions, visit: https://lab.dpdk.org/results/dashboard/preferences/subscriptions/