From mboxrd@z Thu Jan 1 00:00:00 1970 Return-Path: Received: from mails.dpdk.org (mails.dpdk.org [217.70.189.124]) by inbox.dpdk.org (Postfix) with ESMTP id 186BB488E8 for ; Thu, 9 Oct 2025 05:20:14 +0200 (CEST) Received: from mails.dpdk.org (localhost [127.0.0.1]) by mails.dpdk.org (Postfix) with ESMTP id 1129740277; Thu, 9 Oct 2025 05:20:14 +0200 (CEST) Received: from mail-io1-f98.google.com (mail-io1-f98.google.com [209.85.166.98]) by mails.dpdk.org (Postfix) with ESMTP id AB64D40277 for ; Thu, 9 Oct 2025 05:20:12 +0200 (CEST) Received: by mail-io1-f98.google.com with SMTP id ca18e2360f4ac-90926724bceso43798139f.1 for ; Wed, 08 Oct 2025 20:20:12 -0700 (PDT) DKIM-Signature: v=1; a=rsa-sha256; c=relaxed/relaxed; d=iol.unh.edu; s=unh-iol; t=1759980012; x=1760584812; darn=dpdk.org; h=cc:to:from:subject:message-id:date:from:to:cc:subject:date :message-id:reply-to; bh=chR7C+mX9JtVceKwGrnwNmHo1nbK6A9t9tildptBGT4=; b=Q8RFfw6kN6pvjhWnvpbkABsDwvgUQF8w1UhgNK2SkUBVEMl4Y3X7dZKEM8LDhV0HRC Kq1k6Y1xQiHXhmVVRPpIMIQo/M8zFuqkQUdqKY/G490cGuHtq3oHUuwPYK6ujf4c31CQ 1zvvm2B1r5Am0Z1BHISc/GUzJcgUpyQBdGANw= X-Google-DKIM-Signature: v=1; a=rsa-sha256; c=relaxed/relaxed; d=1e100.net; s=20230601; t=1759980012; x=1760584812; h=cc:to:from:subject:message-id:date:x-gm-message-state:from:to:cc :subject:date:message-id:reply-to; bh=chR7C+mX9JtVceKwGrnwNmHo1nbK6A9t9tildptBGT4=; b=GwSXsu3GZmrctY9ZEPBCMi1ErJpEgH18moCXAWPXtCW7yrLw+4+tjdaQIvQ2SsyAsC 16dvrg66j3Ih+3X+mIqyGv4BGadsDABLfw64ERk07GwEFTEaaOUAcbxt+bBodgthlxVj TPZ9WWuYmA5a5sKKH2VqeO/8d4qDmA3QqXPoDKFrUFbASyDmxuT+WKLDWRBLdWyGFdQT RQVFDN4We+GXXbmEx+0B2iUVMwXEe30Lm7AZtZQiqSVD5+pnwtz3yuvVTyhIH14UNUH2 IK7AcnnS2+4N815DEc9IfMb0/i7V09dvcyBUDLY8xcJvATLwsfFuZGJXFVp4GJxDtTNQ HrOw== X-Gm-Message-State: AOJu0YzL+TxWRX/5H3ZlRpG8vvoHalul9RiUmPC8/kwlvf3B48UrvM/r VPvKHtWtS0tTve4GysNYrDCxn3s/jWZxN0cookuZZI8bmB3dv4rSRRS0SoBCus5uJcib7yOmAdu RCq04OL8RZB00GmqkHehPiDE9dePNyteH5rte4BVKmBItwo/FtQ1B X-Gm-Gg: ASbGncvVJtPOyrm7V6Hflt8jVdxuWQ+LPMijxPuoLyM7j7bLSz8mZ8G7Im4hJGjlwSN c0MdeDVeTqZ9w8TfIMvFLaClh0Khl7mR4YWwCn/KWnNCBfR672963ZQOiGmpj/p1oLFW+TR7nM6 ZPCIcBi0b06YaRNVzMfS7Pzz77+ao0nodYlT3AR+5Lk5xNolf1YsuZFpZRDT5hbLAd0rWy/mJOv oK/owISx6TMy4DvmczQo05PmC+9O/5WLkTA227209BYm04axkQCQ/2wNuToH2jVscoIy0hANzzW jZ6Mc4MycTNQoGze7xUYh5UX4x7RCT1faMrfHPswTu8hpavXFtSop60= X-Google-Smtp-Source: AGHT+IFECJi+DfBmp598+JgB1/hMyqRfJZQl3TdmdY4S87lRVWtK80KB4Bc99YV0LNYnOULg6v7q2nMuAVGM X-Received: by 2002:a05:6602:1483:b0:913:48f3:27a3 with SMTP id ca18e2360f4ac-93bd1994a84mr694774639f.14.1759980011948; Wed, 08 Oct 2025 20:20:11 -0700 (PDT) Received: from postal.iol.unh.edu (postal.iol.unh.edu. [2606:4100:3880:1234::84]) by smtp-relay.gmail.com with ESMTPS id ca18e2360f4ac-93bdb286ed1sm8918939f.8.2025.10.08.20.20.11 (version=TLS1_2 cipher=ECDHE-ECDSA-AES128-GCM-SHA256 bits=128/128); Wed, 08 Oct 2025 20:20:11 -0700 (PDT) X-Relaying-Domain: iol.unh.edu Date: Wed, 08 Oct 2025 20:20:11 -0700 (PDT) Message-ID: <68e729eb.050a0220.2f4807.4e80SMTPIN_ADDED_MISSING@mx.google.com> Received: from [172.21.0.3] (unknown [172.18.0.240]) by postal.iol.unh.edu (Postfix) with ESMTP id 77DA86051830; Wed, 8 Oct 2025 23:20:11 -0400 (EDT) Subject: |SUCCESS| [GIT MASTER] b287e404643aeab5bb5db084c142789df187844e From: dpdklab@iol.unh.edu To: Test Report Cc: dpdk-test-reports@iol.unh.edu, Xueming Li , Christian Ehrhardt , Kevin Traynor , Luca Boccassi Content-Type: text/plain X-BeenThere: test-report@dpdk.org X-Mailman-Version: 2.1.29 Precedence: list List-Id: automatic DPDK test reports List-Unsubscribe: , List-Archive: List-Post: List-Help: List-Subscribe: , Errors-To: test-report-bounces@dpdk.org _Testing PASS_ Branch: tags/v24.11 b287e404643aeab5bb5db084c142789df187844e --> testing pass Upstream job id: Generic-DPDK-Compile-Meson#432461 Test environment and result as below: +------------------------------+--------------------+ | Environment | dpdk_meson_compile | +==============================+====================+ | Red Hat Enterprise Linux 9.5 | PASS | +------------------------------+--------------------+ | Ubuntu 20.04 | PASS | +------------------------------+--------------------+ | Debian GNU/Linux 12 | PASS | +------------------------------+--------------------+ | Fedora Linux 42 | PASS | +------------------------------+--------------------+ | Ubuntu 22.04 | PASS | +------------------------------+--------------------+ | Ubuntu 24.04 | PASS | +------------------------------+--------------------+ | CentOS Stream 9 | PASS | +------------------------------+--------------------+ | CentOS Stream 10 | PASS | +------------------------------+--------------------+ Red Hat Enterprise Linux 9.5 Kernel: 5.4 Compiler: gcc gcc (GCC) 11.5.0 20240719 (Red Hat 11.5.0-2) Ubuntu 20.04 Kernel: 5.15 Compiler: aarch64-linux-gnu-gcc gcc (Ubuntu 9.4.0-1ubuntu1~20.04.2) 9.4.0 Debian GNU/Linux 12 Kernel: 5.4 Compiler: gcc gcc (Debian 12.2.0-14+deb12u1) 12.2.0 Fedora Linux 42 Kernel: 5.4 Compiler: gcc gcc (GCC) 15.2.1 20250808 (Red Hat 15.2.1-1) Ubuntu 22.04 Kernel: 5.4 Compiler: gcc gcc (Ubuntu 11.4.0-1ubuntu1~22.04) 11.4.0 Ubuntu 24.04 Kernel: 5.4 Compiler: gcc gcc (Ubuntu 13.3.0-6ubuntu2~24.04) 13.3.0 CentOS Stream 9 Kernel: 5.4 Compiler: gcc gcc (GCC) 11.5.0 20240719 (Red Hat 11.5.0-11) CentOS Stream 10 Kernel: 5.4 Compiler: gcc gcc (GCC) 14.2.1 20250110 (Red Hat 14.2.1-8) To view detailed results, visit: https://lab.dpdk.org/results/dashboard/tarballs/35138/ UNH-IOL DPDK Community Lab To manage your email subscriptions, visit: https://lab.dpdk.org/results/dashboard/preferences/subscriptions/