From mboxrd@z Thu Jan 1 00:00:00 1970 Return-Path: Received: from mails.dpdk.org (mails.dpdk.org [217.70.189.124]) by inbox.dpdk.org (Postfix) with ESMTP id 9C11E488E8 for ; Thu, 9 Oct 2025 05:53:57 +0200 (CEST) Received: from mails.dpdk.org (localhost [127.0.0.1]) by mails.dpdk.org (Postfix) with ESMTP id 6C12640277; Thu, 9 Oct 2025 05:53:57 +0200 (CEST) Received: from mail-qv1-f97.google.com (mail-qv1-f97.google.com [209.85.219.97]) by mails.dpdk.org (Postfix) with ESMTP id 56CA140277 for ; Thu, 9 Oct 2025 05:53:56 +0200 (CEST) Received: by mail-qv1-f97.google.com with SMTP id 6a1803df08f44-8738c6fdbe8so7214646d6.1 for ; Wed, 08 Oct 2025 20:53:56 -0700 (PDT) DKIM-Signature: v=1; a=rsa-sha256; c=relaxed/relaxed; d=iol.unh.edu; s=unh-iol; t=1759982035; x=1760586835; darn=dpdk.org; h=references:in-reply-to:cc:to:from:subject:message-id:date:from:to :cc:subject:date:message-id:reply-to; bh=Ib786H/W6F5YNBT9+F3880YoVQmVJhtsWhmtcyHndpo=; b=X37M93/CrKca/C+rJ/n0dpXlzk0El2h5lsFQB5z9aBpCfSZmdk0Z6igbzlh/JYDLzp Zj16lxJEv84l/PFNkM+1OG9p6fZEnPONCep1rozG3XsLRypfn+yl+Snj6Ryr7CQgHncK EoP7u+hiULy7qZ+Sv2dDStmHcwXQeiGWPd6YU= X-Google-DKIM-Signature: v=1; a=rsa-sha256; c=relaxed/relaxed; d=1e100.net; s=20230601; t=1759982035; x=1760586835; h=references:in-reply-to:cc:to:from:subject:message-id:date :x-gm-message-state:from:to:cc:subject:date:message-id:reply-to; bh=Ib786H/W6F5YNBT9+F3880YoVQmVJhtsWhmtcyHndpo=; b=BWo885F0v8Cxa4WR5bUVF8wIIBQWVBc1dxUoL4gpC4UtMfYN5AoV/BJnLS6cDdchxM vIyIXFE0C333gtZjMThEnKEPeRGQ+Xg8xomzMKOA2B6L7AK2cjB93qQQG+0TWBkiuvuh QkQhMOTa+SFE0YVx8zKTXOBGXepx6xeEwxDq7NcoGc6l+zkzD0JDqUbfnqoH1hMs+xwg xtzZyMvh3QP4fZsV/ZXqYDJ4Eiu6ZNAehWzv4JY5QUQ3Hbs+wmEsOuCe2ZaGE8dtf92u P1xVgrmFJVBimQMVyQ7wX8ejIeaChwjLIhlQb4/p+OHdxcx2DjKQTt6jwjdORqSUS14m GN3w== X-Gm-Message-State: AOJu0YyGym7CQWDows+/ZrD1QWh4hy541KImycgD/nyygV8+JzniXfXq H9Ol2ZMEEPAF3OcCNXTn60wlp8GkLj11Y8kIohZyvBIEp+Bd/DHk9Id4ad7npe9I28a1ShhL0No OjbUNchLdBHPSdQxn6Tm+N7ebk5/xKRZ1OtelbR+Jci5d9rM4yewRuPUClJjU X-Gm-Gg: ASbGncuT3VjDwPpz+UwMHls97Dg39kIX4oEdVRlJYeN4P7AJFbW0CZplmRFEvZhMg7y V4XyYDKvw8g7ni7MoK1CCqYISuvt1adc/s3YV8uMbq9WPoNYUOQWEA17gHRm6XC/KgKb92MOScO roj70TAgT8cciaa9mDR0jlZUpH1Cv+iJfO7BLa05+t+Suz3DC5zzyjZWkDMFqCDYzHM/pfbEVOC dfR5/VPjmlXOEPDafD6E450DGj+bf6G6VKr6C/XK0VCvoW9eorFEd784ftZkYcie2I7NapDEnJ4 qEa8cAoBmCqKGwmGWJUOBnHvYk2YqXLbKKB532Sp7PRlcNn4FyPt0zw= X-Google-Smtp-Source: AGHT+IGBZhHIskHICJ5zfz95f3MzHICv7Unx597tshSD9eQ2XzkaCpszBkC9G7+tt8+oMAxtMLswLvJGVgp0 X-Received: by 2002:a05:6214:2b0f:b0:7a5:cd51:e7d9 with SMTP id 6a1803df08f44-87a051f9147mr117484476d6.7.1759982035614; Wed, 08 Oct 2025 20:53:55 -0700 (PDT) Received: from postal.iol.unh.edu (postal.iol.unh.edu. [2606:4100:3880:1234::84]) by smtp-relay.gmail.com with ESMTPS id 6a1803df08f44-878be144636sm16810716d6.32.2025.10.08.20.53.55 (version=TLS1_2 cipher=ECDHE-ECDSA-AES128-GCM-SHA256 bits=128/128); Wed, 08 Oct 2025 20:53:55 -0700 (PDT) X-Relaying-Domain: iol.unh.edu Date: Wed, 08 Oct 2025 20:53:55 -0700 (PDT) Message-ID: <68e731d3.050a0220.10822f.a27aSMTPIN_ADDED_MISSING@mx.google.com> Received: from [172.21.0.2] (unknown [172.18.0.240]) by postal.iol.unh.edu (Postfix) with ESMTP id 4ABDD6051830; Wed, 8 Oct 2025 23:53:55 -0400 (EDT) Subject: |SUCCESS| pw157321 [PATCH] [v6] net/intel: add IDPF PCI class ID sup From: dpdklab@iol.unh.edu To: Test Report Cc: dpdk-test-reports@iol.unh.edu, Bruce Richardson In-Reply-To: <20251006181239.362664-1-venkatesh.vemula@intel.com> References: <20251006181239.362664-1-venkatesh.vemula@intel.com> Content-Type: text/plain X-BeenThere: test-report@dpdk.org X-Mailman-Version: 2.1.29 Precedence: list List-Id: automatic DPDK test reports List-Unsubscribe: , List-Archive: List-Post: List-Help: List-Subscribe: , Errors-To: test-report-bounces@dpdk.org Test-Label: iol-unit-arm64-testing Test-Status: SUCCESS http://dpdk.org/patch/157321 _Testing PASS_ Submitter: Venkatesh Vemula Date: Monday, October 06 2025 18:12:39 DPDK git baseline: Repo:dpdk-next-net-intel Branch: master CommitID:e7d8cc7ef4df3552575525697079d3c957cfcdaf 157321 --> testing pass Upstream job id: Generic-Unit-Test-DPDK#379515 Test environment and result as below: +------------------------------+----------------+--------------+---------------------------+------------------------------+ | Environment | dpdk_unit_test | lpm_autotest | cryptodev_sw_zuc_autotest | cryptodev_sw_snow3g_autotest | +==============================+================+==============+===========================+==============================+ | CentOS Stream 9 | PASS | SKIPPED | SKIPPED | SKIPPED | +------------------------------+----------------+--------------+---------------------------+------------------------------+ | Debian GNU/Linux 12 | PASS | SKIPPED | SKIPPED | SKIPPED | +------------------------------+----------------+--------------+---------------------------+------------------------------+ | CentOS Stream 10 | PASS | SKIPPED | SKIPPED | SKIPPED | +------------------------------+----------------+--------------+---------------------------+------------------------------+ | Ubuntu 22.04 | PASS | SKIPPED | SKIPPED | SKIPPED | +------------------------------+----------------+--------------+---------------------------+------------------------------+ | Fedora Linux 40 | PASS | SKIPPED | SKIPPED | SKIPPED | +------------------------------+----------------+--------------+---------------------------+------------------------------+ | Fedora Linux 41 | PASS | SKIPPED | SKIPPED | SKIPPED | +------------------------------+----------------+--------------+---------------------------+------------------------------+ | Fedora Linux 42 | PASS | SKIPPED | SKIPPED | SKIPPED | +------------------------------+----------------+--------------+---------------------------+------------------------------+ | Red Hat Enterprise Linux 9.5 | PASS | SKIPPED | SKIPPED | SKIPPED | +------------------------------+----------------+--------------+---------------------------+------------------------------+ | Ubuntu 24.04 | PASS | SKIPPED | SKIPPED | SKIPPED | +------------------------------+----------------+--------------+---------------------------+------------------------------+ | Ubuntu 20.04 | PASS | PASS | SKIPPED | SKIPPED | +------------------------------+----------------+--------------+---------------------------+------------------------------+ | Debian 12 (arm) | SKIPPED | SKIPPED | PASS | PASS | +------------------------------+----------------+--------------+---------------------------+------------------------------+ CentOS Stream 9 Kernel: 5.4 Compiler: gcc gcc (GCC) 11.5.0 20240719 (Red Hat 11.5.0-11) Debian GNU/Linux 12 Kernel: 5.4 Compiler: gcc gcc (Debian 12.2.0-14+deb12u1) 12.2.0 CentOS Stream 10 Kernel: 5.4 Compiler: gcc gcc (GCC) 14.2.1 20250110 (Red Hat 14.2.1-8) Ubuntu 22.04 Kernel: 5.15 Compiler: gcc gcc (Ubuntu 11.4.0-1ubuntu1~22.04.2) 11.4.0 Fedora Linux 40 Kernel: 5.4 Compiler: clang gcc (GCC) 14.2.1 20240912 (Red Hat 14.2.1-3) Fedora Linux 41 Kernel: 5.4 Compiler: gcc gcc (GCC) 14.3.1 20250523 (Red Hat 14.3.1-1) Fedora Linux 42 Kernel: 5.4 Compiler: clang gcc (GCC) 15.2.1 20250808 (Red Hat 15.2.1-1) Red Hat Enterprise Linux 9.5 Kernel: 5.4 Compiler: gcc gcc (GCC) 11.5.0 20240719 (Red Hat 11.5.0-2) Ubuntu 24.04 Kernel: 5.4 Compiler: gcc gcc (Ubuntu 13.3.0-6ubuntu2~24.04) 13.3.0 Ubuntu 20.04 Kernel: 5.4 Compiler: gcc gcc (Ubuntu 9.4.0-1ubuntu1~20.04.2) 9.4.0 Debian 12 (arm) Kernel: Depends on container host Compiler: gcc (Debian 12.2.0-14) 12.2.0 To view detailed results, visit: https://lab.dpdk.org/results/dashboard/patchsets/34234/ UNH-IOL DPDK Community Lab To manage your email subscriptions, visit: https://lab.dpdk.org/results/dashboard/preferences/subscriptions/