From mboxrd@z Thu Jan 1 00:00:00 1970 Return-Path: Received: from mails.dpdk.org (mails.dpdk.org [217.70.189.124]) by inbox.dpdk.org (Postfix) with ESMTP id 9C9F6488EA for ; Thu, 9 Oct 2025 06:14:12 +0200 (CEST) Received: from mails.dpdk.org (localhost [127.0.0.1]) by mails.dpdk.org (Postfix) with ESMTP id 7B19440277; Thu, 9 Oct 2025 06:14:12 +0200 (CEST) Received: from mail-pl1-f226.google.com (mail-pl1-f226.google.com [209.85.214.226]) by mails.dpdk.org (Postfix) with ESMTP id 0604240277 for ; Thu, 9 Oct 2025 06:14:11 +0200 (CEST) Received: by mail-pl1-f226.google.com with SMTP id d9443c01a7336-279e2554b6fso3669925ad.2 for ; Wed, 08 Oct 2025 21:14:10 -0700 (PDT) DKIM-Signature: v=1; a=rsa-sha256; c=relaxed/relaxed; d=iol.unh.edu; s=unh-iol; t=1759983250; x=1760588050; darn=dpdk.org; h=references:in-reply-to:cc:to:from:subject:message-id:date:from:to :cc:subject:date:message-id:reply-to; bh=R7i7wPTwUUBVgq/hlkBtSNUedodTpAVb9Zw4XI7Jri4=; b=g0Ar6P5IhfJdfzdWJeGBkbIy11RdpmKUg+K112ot3ytaeWzz9H/QC3KPTAWJG1Kc56 ZYhrD/te/546q4vFhi46ZLP1NVc8GWm6enETQI6G6ZAn337WhkUw0kMWU+ODt2ZZdnWk k/DhdN444s/WAtBrOUnBkpQtvEXET9U2eSecA= X-Google-DKIM-Signature: v=1; a=rsa-sha256; c=relaxed/relaxed; d=1e100.net; s=20230601; t=1759983250; x=1760588050; h=references:in-reply-to:cc:to:from:subject:message-id:date :x-gm-message-state:from:to:cc:subject:date:message-id:reply-to; bh=R7i7wPTwUUBVgq/hlkBtSNUedodTpAVb9Zw4XI7Jri4=; b=tlhpenCG6UvsNijJWk+ADWn1HunUwLomgoogwfH2eNjnLnQhhG2ixPuKfR4I2pJQJd DjsQO+raiADM769zuAadLFBIsIcDsYBxTE8mCGZHFMqFbv4tveiW8Si5ZwJ+bUaJYMJ5 nq1a4dBy4q7aWaBNRxVv1hcNRETfEHtPwiEgv0MJNdz6BgK4P7sHyb3YGwG07VGYeE3m 5Idpln0r9UrINaAit/d1q8WKCUX0fq8MAd2fjMPLqpHgXVl8o/JU097AHXH+xAwcFRlt Nd2yG5/2kQj44D/+FAYsa2Ca7gUkfhSLz9g+X7z3XqZZZEzipK6IvEHWusK0vbTUzgXO twpA== X-Gm-Message-State: AOJu0Yx8TQ+i/kMYMaUtxQDGBqUtXQRbG46mrEGBBQUmFNMqD9QXDNlv N0yQLR69FhvPzvygPWrmraFzXeAtCROrYWdH9UOxof4fjCz4yMuJGlRDJly5dtvV4aTiXsSOsuG QzHkdWtXpNMBNaBJ+RWod0mWto347HlVWlXjxQl/BeeX0 X-Gm-Gg: ASbGncvWkA8o0xXOoTSFH2l1PMuDi2GWeIHkcHicwplCAzrh2UfYdg+PwuST+muTC+v OPsVYhA1E+kv5XvLF2ZdYL6waa2jkpBmogirafTSH0zEzKPbkgssyloQKX9GZf2tmeasDnYt1xT AGB7y19IMsW01l7K/R+wwhtHGaKIMp5+BudfvubukCCjCUOLTyS5V1NWN44YUBEXvy87G7GHfpJ 6AUoMefXX+mZOOIa7Mc6wwsWRB3Pj+8G8QbuYK7cJVHdVjjGxSU3LCJi6VxIPRgzqARngGgwC9S ZtZ1flWNaMnRxsDtddPkGKIA7XKeBWBx9gRCNO+ax6UIHNQ/YNh0+GZLMJxEmLI9RIPWs/Vt+ez y1w== X-Google-Smtp-Source: AGHT+IGXo8q2+xtFiuFOntXZhPtDxOvbxD6JSBYrKnhX0CReWKF4+2k7+iRoSCP/HlmSmJlQIwPAhmdQoYWg X-Received: by 2002:a17:902:ce11:b0:27a:6c30:49c with SMTP id d9443c01a7336-2902739a207mr79700465ad.27.1759983250177; Wed, 08 Oct 2025 21:14:10 -0700 (PDT) Received: from postal.iol.unh.edu (postal.iol.unh.edu. [132.177.123.84]) by smtp-relay.gmail.com with ESMTPS id d9443c01a7336-29034f86a63sm1353625ad.74.2025.10.08.21.14.10 (version=TLS1_2 cipher=ECDHE-ECDSA-AES128-GCM-SHA256 bits=128/128); Wed, 08 Oct 2025 21:14:10 -0700 (PDT) X-Relaying-Domain: iol.unh.edu Date: Wed, 08 Oct 2025 21:14:10 -0700 (PDT) Message-ID: <68e73692.170a0220.3007f3.7832SMTPIN_ADDED_MISSING@mx.google.com> Received: from [172.21.0.6] (unknown [172.18.0.240]) by postal.iol.unh.edu (Postfix) with ESMTP id 9C1CA6051830; Thu, 9 Oct 2025 00:14:09 -0400 (EDT) Subject: |SUCCESS| pw157323-157328 [PATCH] [v2,6/6] vhost: changes to functio From: dpdklab@iol.unh.edu To: Test Report Cc: dpdk-test-reports@iol.unh.edu, Chenbo Xia , Maxime Coquelin In-Reply-To: <20251008090444.2689652-7-pravin.bathija@dell.com> References: <20251008090444.2689652-7-pravin.bathija@dell.com> Content-Type: text/plain X-BeenThere: test-report@dpdk.org X-Mailman-Version: 2.1.29 Precedence: list List-Id: automatic DPDK test reports List-Unsubscribe: , List-Archive: List-Post: List-Help: List-Subscribe: , Errors-To: test-report-bounces@dpdk.org Test-Label: iol-compile-amd64-testing Test-Status: SUCCESS http://dpdk.org/patch/157328 _Testing PASS_ Submitter: Bathija, Pravin Date: Wednesday, October 08 2025 09:04:44 DPDK git baseline: Repo:dpdk-next-virtio Branch: master CommitID:4159ea62922ce41566c7bab44655ad78bee85458 157323-157328 --> testing pass Upstream job id: Generic-DPDK-Compile-Meson#432597 Test environment and result as below: +-------------------------------+--------------------+-------------------------+-------------------+----------------------+-------------------+------------------+ | Environment | dpdk_meson_compile | dpdk_llvm_clang_compile | dpdk_msvc_compile | dpdk_mingw64_compile | dpdk_compile_spdk | dpdk_compile_ovs | +===============================+====================+=========================+===================+======================+===================+==================+ | Ubuntu 20.04 | PASS | SKIPPED | SKIPPED | SKIPPED | SKIPPED | SKIPPED | +-------------------------------+--------------------+-------------------------+-------------------+----------------------+-------------------+------------------+ | FreeBSD 14.2 | PASS | SKIPPED | SKIPPED | SKIPPED | SKIPPED | SKIPPED | +-------------------------------+--------------------+-------------------------+-------------------+----------------------+-------------------+------------------+ | CentOS Stream 9 | PASS | SKIPPED | SKIPPED | SKIPPED | PASS | SKIPPED | +-------------------------------+--------------------+-------------------------+-------------------+----------------------+-------------------+------------------+ | CentOS Stream 10 | PASS | SKIPPED | SKIPPED | SKIPPED | SKIPPED | SKIPPED | +-------------------------------+--------------------+-------------------------+-------------------+----------------------+-------------------+------------------+ | Debian GNU/Linux 12 | PASS | SKIPPED | SKIPPED | SKIPPED | PASS | SKIPPED | +-------------------------------+--------------------+-------------------------+-------------------+----------------------+-------------------+------------------+ | Fedora Linux 42 | PASS | SKIPPED | SKIPPED | SKIPPED | PASS | PASS | +-------------------------------+--------------------+-------------------------+-------------------+----------------------+-------------------+------------------+ | openSUSE Leap 15.6 | PASS | SKIPPED | SKIPPED | SKIPPED | SKIPPED | SKIPPED | +-------------------------------+--------------------+-------------------------+-------------------+----------------------+-------------------+------------------+ | Red Hat Enterprise Linux 8.10 | PASS | SKIPPED | SKIPPED | SKIPPED | SKIPPED | SKIPPED | +-------------------------------+--------------------+-------------------------+-------------------+----------------------+-------------------+------------------+ | Red Hat Enterprise Linux 9.5 | PASS | SKIPPED | SKIPPED | SKIPPED | SKIPPED | SKIPPED | +-------------------------------+--------------------+-------------------------+-------------------+----------------------+-------------------+------------------+ | Ubuntu 22.04 | PASS | SKIPPED | SKIPPED | SKIPPED | PASS | SKIPPED | +-------------------------------+--------------------+-------------------------+-------------------+----------------------+-------------------+------------------+ | Ubuntu 24.04 | PASS | SKIPPED | SKIPPED | SKIPPED | PASS | PASS | +-------------------------------+--------------------+-------------------------+-------------------+----------------------+-------------------+------------------+ | Alpine Linux 3.22.0 | PASS | SKIPPED | SKIPPED | SKIPPED | SKIPPED | SKIPPED | +-------------------------------+--------------------+-------------------------+-------------------+----------------------+-------------------+------------------+ | Windows Server 2022 | SKIPPED | PASS | PASS | PASS | SKIPPED | SKIPPED | +-------------------------------+--------------------+-------------------------+-------------------+----------------------+-------------------+------------------+ Ubuntu 20.04 Kernel: 4.19 Compiler: gcc gcc (Ubuntu 9.4.0-1ubuntu1~20.04.2) 9.4.0 FreeBSD 14.2 Kernel: 14.2-RELEASE Compiler: clang 18.1.6 CentOS Stream 9 Kernel: 5.15 Compiler: gcc gcc (GCC) 11.5.0 20240719 (Red Hat 11.5.0-11) CentOS Stream 10 Kernel: 5.15 Compiler: gcc gcc (GCC) 14.2.1 20250110 (Red Hat 14.2.1-8) Debian GNU/Linux 12 Kernel: 5.15 Compiler: gcc gcc (Debian 12.2.0-14+deb12u1) 12.2.0 Fedora Linux 42 Kernel: 5.15 Compiler: clang gcc (GCC) 15.2.1 20250808 (Red Hat 15.2.1-1) openSUSE Leap 15.6 Kernel: 5.15 Compiler: gcc gcc (SUSE Linux) 7.5.0 Red Hat Enterprise Linux 8.10 Kernel: 5.15 Compiler: gcc gcc (GCC) 8.5.0 20210514 (Red Hat 8.5.0-22) Red Hat Enterprise Linux 9.5 Kernel: 5.15 Compiler: gcc gcc (GCC) 11.5.0 20240719 (Red Hat 11.5.0-2) Ubuntu 22.04 Kernel: 5.15 Compiler: gcc gcc (Ubuntu 11.4.0-1ubuntu1~22.04) 11.4.0 Ubuntu 24.04 Kernel: 5.15 Compiler: gcc gcc (Ubuntu 13.3.0-6ubuntu2~24.04) 13.3.0 Alpine Linux 3.22.0 Kernel: 5.15 Compiler: gcc gcc (Alpine 14.2.0) 14.2.0 Windows Server 2022 Kernel: 10.0.20348.2031 Compiler: clang 15.0.7, gcc 14.1.0 (MinGW), and MSVC VS 19.39.33521 To view detailed results, visit: https://lab.dpdk.org/results/dashboard/patchsets/34236/ UNH-IOL DPDK Community Lab To manage your email subscriptions, visit: https://lab.dpdk.org/results/dashboard/preferences/subscriptions/