From mboxrd@z Thu Jan 1 00:00:00 1970 Return-Path: Received: from mails.dpdk.org (mails.dpdk.org [217.70.189.124]) by inbox.dpdk.org (Postfix) with ESMTP id A2FC9488EA for ; Thu, 9 Oct 2025 06:14:53 +0200 (CEST) Received: from mails.dpdk.org (localhost [127.0.0.1]) by mails.dpdk.org (Postfix) with ESMTP id 9985640277; Thu, 9 Oct 2025 06:14:53 +0200 (CEST) Received: from mail-il1-f225.google.com (mail-il1-f225.google.com [209.85.166.225]) by mails.dpdk.org (Postfix) with ESMTP id A827B40277 for ; Thu, 9 Oct 2025 06:14:52 +0200 (CEST) Received: by mail-il1-f225.google.com with SMTP id e9e14a558f8ab-42f7a4bf805so5804105ab.2 for ; Wed, 08 Oct 2025 21:14:52 -0700 (PDT) DKIM-Signature: v=1; a=rsa-sha256; c=relaxed/relaxed; d=iol.unh.edu; s=unh-iol; t=1759983292; x=1760588092; darn=dpdk.org; h=references:in-reply-to:cc:to:from:subject:message-id:date:from:to :cc:subject:date:message-id:reply-to; bh=M/bL4d6PYNePBcpUpQJ9MwsAotfFb42v0pNOmiE+4oc=; b=N3bA2zRPq20qs0hb3xhIMDRyn/uwiua+R6ByfXJHyYkXGMXOKkj01eDAEX/IDNsSMX K0Y3t8gK3FPZ4H/G9Z6xxbALJ8j91+5rKvVHHU9S7HyiesvaqHeOnay7h8217jM/apKx 3qOjLAo0tPoM8PQ7DrCuN5nki1DtKT/xkFybY= X-Google-DKIM-Signature: v=1; a=rsa-sha256; c=relaxed/relaxed; d=1e100.net; s=20230601; t=1759983292; x=1760588092; h=references:in-reply-to:cc:to:from:subject:message-id:date :x-gm-message-state:from:to:cc:subject:date:message-id:reply-to; bh=M/bL4d6PYNePBcpUpQJ9MwsAotfFb42v0pNOmiE+4oc=; b=UbUCSpv/ihOWOZbkhAHX3w4dIiXJZuVQSLAlbmXoukH2j0ylNGoc/0RnM+1VeSaBuI R0+hr5rKeQ3AZtr603Z1PBVZgBPjH8vGGfTEvjpeu+d2WFaCdzz1kAj58bI2He3+QQxY 9sdgJ8XG+ays2B0IYE7KLRKVQZlPv+aAvsfjj2lMJd7sPLnkPDXBGI4BoxE9oyp3qSp0 ZilXNozgy17SZXxh0jlEaRYbw1/yE/gARoIfABYhPUvMF9Z3+eEMx8K4B+mIRAvB/4ha LYxm6O9M1eyQHI4Jz/MpS4gfjR+AwnSg3C/B6YU5ik/mjvhS87cVyQaQNQgTRGNkZu2R 0wIg== X-Gm-Message-State: AOJu0YyhUKUFMF8MpD/P49cx8bQdtgGuuDxKOJf/z3dIPtIx6lZIkdfv awcz8Y8cEaCds8ygb1kviRAyxLJlazV+WPZMBYpAd58bm9BHqrVm5N9BXjHxAbIq5hivjsrOyXk oJRAfCmOhQQGE4UkBohHL3VC1wWNJxoEmsi/NAIOfs3kSRtXs2TLgodXVdbX1 X-Gm-Gg: ASbGncvU40oT+3MWAVhgrZihNB27aTzZ7lRq287sEB3UT2PorrKg+NOVblRU0S4qjVo 87LimxUUoLo0Eu7t7W/Sa1CAa+W2P/fOEU3/WZlWLGDY3HhcL7n/Cdq25pv6Q4pC3M7kmg9aejA H8Od7irGHAF8k7UFTB3LcoXK9WXM1C9StJ7+hPhcACpIaXp4hll/mxVo8QuQQ2jq4TFwqHVk71w Co7qvJYvamRCycnPKErDFUYVB6jbngdJYkVC1ple5thConTyi8ksXTk+2yY629lluCXBYi27Swb 5Ylsig0No2lQ2Flr6DeJF+FgWYA0KN2Ha+ZBd012O3ujwatn3PjRZBc= X-Google-Smtp-Source: AGHT+IEat/JvK3NtpeEG9CzMDC1xp6mp2bYBl1h9rK1wXVNJF5hYNi0ai0B5w0hZri86mtaD41o2UZNm75Zo X-Received: by 2002:a05:6e02:2783:b0:42d:8b09:f541 with SMTP id e9e14a558f8ab-42f8736a490mr63413935ab.14.1759983291700; Wed, 08 Oct 2025 21:14:51 -0700 (PDT) Received: from postal.iol.unh.edu (postal.iol.unh.edu. [2606:4100:3880:1234::84]) by smtp-relay.gmail.com with ESMTPS id 8926c6da1cb9f-57b5eaa412fsm1635811173.2.2025.10.08.21.14.51 (version=TLS1_2 cipher=ECDHE-ECDSA-AES128-GCM-SHA256 bits=128/128); Wed, 08 Oct 2025 21:14:51 -0700 (PDT) X-Relaying-Domain: iol.unh.edu Date: Wed, 08 Oct 2025 21:14:51 -0700 (PDT) Message-ID: <68e736bb.050a0220.cd73c.785eSMTPIN_ADDED_MISSING@mx.google.com> Received: from [172.21.0.7] (unknown [172.18.0.240]) by postal.iol.unh.edu (Postfix) with ESMTP id 5F0826051830; Thu, 9 Oct 2025 00:14:51 -0400 (EDT) Subject: |SUCCESS| pw157329 [PATCH] [v2] compressdev: update device ID valida From: dpdklab@iol.unh.edu To: Test Report Cc: dpdk-test-reports@iol.unh.edu, Akhil Goyal In-Reply-To: <20251008094555.3078441-1-ashishg@marvell.com> References: <20251008094555.3078441-1-ashishg@marvell.com> Content-Type: text/plain X-BeenThere: test-report@dpdk.org X-Mailman-Version: 2.1.29 Precedence: list List-Id: automatic DPDK test reports List-Unsubscribe: , List-Archive: List-Post: List-Help: List-Subscribe: , Errors-To: test-report-bounces@dpdk.org Test-Label: iol-compile-amd64-testing Test-Status: SUCCESS http://dpdk.org/patch/157329 _Testing PASS_ Submitter: Ashish Gupta Date: Wednesday, October 08 2025 09:45:24 DPDK git baseline: Repo:dpdk-next-crypto Branch: master CommitID:2aa7141a4e2c78e3cce03dbd613532a2166123c1 157329 --> testing pass Upstream job id: Generic-DPDK-Compile-Meson#432606 Test environment and result as below: +-------------------------------+--------------------+-------------------+-------------------------+----------------------+-------------------+------------------+ | Environment | dpdk_meson_compile | dpdk_msvc_compile | dpdk_llvm_clang_compile | dpdk_mingw64_compile | dpdk_compile_spdk | dpdk_compile_ovs | +===============================+====================+===================+=========================+======================+===================+==================+ | Ubuntu 20.04 | PASS | SKIPPED | SKIPPED | SKIPPED | SKIPPED | SKIPPED | +-------------------------------+--------------------+-------------------+-------------------------+----------------------+-------------------+------------------+ | FreeBSD 14.2 | PASS | SKIPPED | SKIPPED | SKIPPED | SKIPPED | SKIPPED | +-------------------------------+--------------------+-------------------+-------------------------+----------------------+-------------------+------------------+ | CentOS Stream 9 | PASS | SKIPPED | SKIPPED | SKIPPED | PASS | SKIPPED | +-------------------------------+--------------------+-------------------+-------------------------+----------------------+-------------------+------------------+ | CentOS Stream 10 | PASS | SKIPPED | SKIPPED | SKIPPED | SKIPPED | SKIPPED | +-------------------------------+--------------------+-------------------+-------------------------+----------------------+-------------------+------------------+ | Debian GNU/Linux 12 | PASS | SKIPPED | SKIPPED | SKIPPED | PASS | SKIPPED | +-------------------------------+--------------------+-------------------+-------------------------+----------------------+-------------------+------------------+ | Fedora Linux 42 | PASS | SKIPPED | SKIPPED | SKIPPED | PASS | PASS | +-------------------------------+--------------------+-------------------+-------------------------+----------------------+-------------------+------------------+ | openSUSE Leap 15.6 | PASS | SKIPPED | SKIPPED | SKIPPED | SKIPPED | SKIPPED | +-------------------------------+--------------------+-------------------+-------------------------+----------------------+-------------------+------------------+ | Red Hat Enterprise Linux 9.5 | PASS | SKIPPED | SKIPPED | SKIPPED | SKIPPED | SKIPPED | +-------------------------------+--------------------+-------------------+-------------------------+----------------------+-------------------+------------------+ | Red Hat Enterprise Linux 8.10 | PASS | SKIPPED | SKIPPED | SKIPPED | SKIPPED | SKIPPED | +-------------------------------+--------------------+-------------------+-------------------------+----------------------+-------------------+------------------+ | Ubuntu 22.04 | PASS | SKIPPED | SKIPPED | SKIPPED | PASS | SKIPPED | +-------------------------------+--------------------+-------------------+-------------------------+----------------------+-------------------+------------------+ | Ubuntu 24.04 | PASS | SKIPPED | SKIPPED | SKIPPED | PASS | PASS | +-------------------------------+--------------------+-------------------+-------------------------+----------------------+-------------------+------------------+ | Alpine Linux 3.22.0 | PASS | SKIPPED | SKIPPED | SKIPPED | SKIPPED | SKIPPED | +-------------------------------+--------------------+-------------------+-------------------------+----------------------+-------------------+------------------+ | Windows Server 2022 | SKIPPED | PASS | PASS | PASS | SKIPPED | SKIPPED | +-------------------------------+--------------------+-------------------+-------------------------+----------------------+-------------------+------------------+ Ubuntu 20.04 Kernel: 4.19 Compiler: gcc gcc (Ubuntu 9.4.0-1ubuntu1~20.04.2) 9.4.0 FreeBSD 14.2 Kernel: 14.2-RELEASE Compiler: clang 18.1.6 CentOS Stream 9 Kernel: 5.15 Compiler: gcc gcc (GCC) 11.5.0 20240719 (Red Hat 11.5.0-11) CentOS Stream 10 Kernel: 5.15 Compiler: gcc gcc (GCC) 14.2.1 20250110 (Red Hat 14.2.1-8) Debian GNU/Linux 12 Kernel: 5.15 Compiler: gcc gcc (Debian 12.2.0-14+deb12u1) 12.2.0 Fedora Linux 42 Kernel: 5.15 Compiler: clang gcc (GCC) 15.2.1 20250808 (Red Hat 15.2.1-1) openSUSE Leap 15.6 Kernel: 5.15 Compiler: gcc gcc (SUSE Linux) 7.5.0 Red Hat Enterprise Linux 9.5 Kernel: 5.15 Compiler: gcc gcc (GCC) 11.5.0 20240719 (Red Hat 11.5.0-2) Red Hat Enterprise Linux 8.10 Kernel: 5.15 Compiler: gcc gcc (GCC) 8.5.0 20210514 (Red Hat 8.5.0-22) Ubuntu 22.04 Kernel: 5.15 Compiler: gcc gcc (Ubuntu 11.4.0-1ubuntu1~22.04) 11.4.0 Ubuntu 24.04 Kernel: 5.15 Compiler: gcc gcc (Ubuntu 13.3.0-6ubuntu2~24.04) 13.3.0 Alpine Linux 3.22.0 Kernel: 5.15 Compiler: gcc gcc (Alpine 14.2.0) 14.2.0 Windows Server 2022 Kernel: 10.0.20348.2031 Compiler: clang 15.0.7, gcc 14.1.0 (MinGW), and MSVC VS 19.39.33521 To view detailed results, visit: https://lab.dpdk.org/results/dashboard/patchsets/34237/ UNH-IOL DPDK Community Lab To manage your email subscriptions, visit: https://lab.dpdk.org/results/dashboard/preferences/subscriptions/