From mboxrd@z Thu Jan 1 00:00:00 1970 Return-Path: Received: from mails.dpdk.org (mails.dpdk.org [217.70.189.124]) by inbox.dpdk.org (Postfix) with ESMTP id C8345488EA for ; Thu, 9 Oct 2025 06:15:51 +0200 (CEST) Received: from mails.dpdk.org (localhost [127.0.0.1]) by mails.dpdk.org (Postfix) with ESMTP id BF9F440277; Thu, 9 Oct 2025 06:15:51 +0200 (CEST) Received: from mail-vs1-f100.google.com (mail-vs1-f100.google.com [209.85.217.100]) by mails.dpdk.org (Postfix) with ESMTP id 6D36C40277 for ; Thu, 9 Oct 2025 06:15:50 +0200 (CEST) Received: by mail-vs1-f100.google.com with SMTP id ada2fe7eead31-50f8bf5c518so610045137.3 for ; Wed, 08 Oct 2025 21:15:50 -0700 (PDT) DKIM-Signature: v=1; a=rsa-sha256; c=relaxed/relaxed; d=iol.unh.edu; s=unh-iol; t=1759983350; x=1760588150; darn=dpdk.org; h=references:in-reply-to:cc:to:from:subject:message-id:date:from:to :cc:subject:date:message-id:reply-to; bh=duzUY/2C7jTTeZIhSrHH3fVzw9bZMcZ9XUez6vkFpuw=; b=SRKlZ7HV2PB/fzS3ZViEKypxmKPbS6/As0azuTVp9zIk+VNDdm35/PrNCpmmEf+f9G 0HNkPMkd4YN/2iQi1Aoutk+5ZnokNhKRqS6kqcbGRHgdV1+HP2+Hn4/+hsQVrykpDSj7 PG0J+t2FA7fhUf6+fk7hPT8rhD6LvFw06G00Y= X-Google-DKIM-Signature: v=1; a=rsa-sha256; c=relaxed/relaxed; d=1e100.net; s=20230601; t=1759983350; x=1760588150; h=references:in-reply-to:cc:to:from:subject:message-id:date :x-gm-message-state:from:to:cc:subject:date:message-id:reply-to; bh=duzUY/2C7jTTeZIhSrHH3fVzw9bZMcZ9XUez6vkFpuw=; b=JiARxklSUxmuytbUGIfR+P9oZ/lh5ot03/KzUOukXrbkPDthD2YTTikV6XuDkgV6XN lJ/rMIC2nbOqU8z0BtOhjkuVUVEvqqruiI7t/kKGjYP/nT9ltREt8l6vS3/OaJOExVuu /+09G81SL86knRmaU+ZeUpAnt3ErHa86e9HGaWCnxO9OYfQIm9+ZKgB3sDSBmz3O55IY 5RA+pXEMFmHhzlWrSfbWdC/bDY53A7b+wZxaMmvcYgaqqkoiy3swMLhColVJdRxxP/sm 6l9oAQLhW8BBNTh5hU62R5htrpuG/hSVtp8g5lFuIo3/gG1JHtJTYeqoUYtD0IIwxKW3 VF5w== X-Gm-Message-State: AOJu0YxsCQ5uEMqvZyXgbG35PT8sY98qx+FpR7/N/4wTEJMkugrMLiv/ zfYyvkZr9hMOHQTUtgZG4Fdzb4xW3dB808vgQhVtwbPByDzzaKclr6BEWxbObkKF2nCB68JDzKQ J+N5+P0PH+RMeW/XY4M6X3Qg6O+f71YDOx25PAlSDFAHYnN4sVcqO6E82N/LR X-Gm-Gg: ASbGnctrxzcgTeBwc6Vb8Qse6gyXuMm+eroH4040BGgiLyEWood0wQ699+Iqz2wbWap tsPU1yogHPTboXuYt1MSr3BPn98M8iMEOVVv07sok4Y/zGXcDRB/INlXQGuOjhJNHBO3PLQwxae +o+unWyhTu3vSL05vmsl6DPgjBb4Xqymuh5gdXNxEdHTNkLkG5xzRFkCn6F69i4GUWztGkbCYFE RnjlO1a0UygBAm9EOoz12nfJk4FfJnEKn2l9BV4eyXgzTRj68YmoY8/i72q6pAstmUAo68N1JRX AgG+48bv+KR1HfmnApO7o983YE2MqR0AKswFj0Ylh2zrlzLRFVyI8u8= X-Google-Smtp-Source: AGHT+IGPIIXBOnqziuvYumrIH3ZLSeGalvybWdgWCD/sksiH5p45Ph9kFqs6I9U2UOJlGs0M7i7+qce/WlH2 X-Received: by 2002:a05:6102:1a12:10b0:5d5:f53b:c993 with SMTP id ada2fe7eead31-5d5f53bcdb1mr91395137.24.1759983349766; Wed, 08 Oct 2025 21:15:49 -0700 (PDT) Received: from postal.iol.unh.edu (postal.iol.unh.edu. [2606:4100:3880:1234::84]) by smtp-relay.gmail.com with ESMTPS id 71dfb90a1353d-5523cffea47sm1898396e0c.4.2025.10.08.21.15.49 (version=TLS1_2 cipher=ECDHE-ECDSA-AES128-GCM-SHA256 bits=128/128); Wed, 08 Oct 2025 21:15:49 -0700 (PDT) X-Relaying-Domain: iol.unh.edu Date: Wed, 08 Oct 2025 21:15:49 -0700 (PDT) Message-ID: <68e736f5.050a0220.2ac891.6cc0SMTPIN_ADDED_MISSING@mx.google.com> Received: from [172.21.0.3] (unknown [172.18.0.240]) by postal.iol.unh.edu (Postfix) with ESMTP id 6CE196051830; Thu, 9 Oct 2025 00:15:49 -0400 (EDT) Subject: |SUCCESS| pw157330 [PATCH] [v2] compressdev: update device ID valida From: dpdklab@iol.unh.edu To: Test Report Cc: dpdk-test-reports@iol.unh.edu, Akhil Goyal In-Reply-To: <20251008095950.3078552-1-ashishg@marvell.com> References: <20251008095950.3078552-1-ashishg@marvell.com> Content-Type: text/plain X-BeenThere: test-report@dpdk.org X-Mailman-Version: 2.1.29 Precedence: list List-Id: automatic DPDK test reports List-Unsubscribe: , List-Archive: List-Post: List-Help: List-Subscribe: , Errors-To: test-report-bounces@dpdk.org Test-Label: iol-compile-amd64-testing Test-Status: SUCCESS http://dpdk.org/patch/157330 _Testing PASS_ Submitter: Ashish Gupta Date: Wednesday, October 08 2025 09:59:41 DPDK git baseline: Repo:dpdk-next-crypto Branch: master CommitID:2aa7141a4e2c78e3cce03dbd613532a2166123c1 157330 --> testing pass Upstream job id: Generic-DPDK-Compile-Meson#432632 Test environment and result as below: +-------------------------------+--------------------+-------------------+-------------------------+----------------------+-------------------+------------------+ | Environment | dpdk_meson_compile | dpdk_msvc_compile | dpdk_llvm_clang_compile | dpdk_mingw64_compile | dpdk_compile_spdk | dpdk_compile_ovs | +===============================+====================+===================+=========================+======================+===================+==================+ | FreeBSD 14.2 | PASS | SKIPPED | SKIPPED | SKIPPED | SKIPPED | SKIPPED | +-------------------------------+--------------------+-------------------+-------------------------+----------------------+-------------------+------------------+ | Ubuntu 20.04 | PASS | SKIPPED | SKIPPED | SKIPPED | SKIPPED | SKIPPED | +-------------------------------+--------------------+-------------------+-------------------------+----------------------+-------------------+------------------+ | CentOS Stream 9 | PASS | SKIPPED | SKIPPED | SKIPPED | PASS | SKIPPED | +-------------------------------+--------------------+-------------------+-------------------------+----------------------+-------------------+------------------+ | CentOS Stream 10 | PASS | SKIPPED | SKIPPED | SKIPPED | SKIPPED | SKIPPED | +-------------------------------+--------------------+-------------------+-------------------------+----------------------+-------------------+------------------+ | Debian GNU/Linux 12 | PASS | SKIPPED | SKIPPED | SKIPPED | PASS | SKIPPED | +-------------------------------+--------------------+-------------------+-------------------------+----------------------+-------------------+------------------+ | Fedora Linux 42 | PASS | SKIPPED | SKIPPED | SKIPPED | PASS | PASS | +-------------------------------+--------------------+-------------------+-------------------------+----------------------+-------------------+------------------+ | openSUSE Leap 15.6 | PASS | SKIPPED | SKIPPED | SKIPPED | SKIPPED | SKIPPED | +-------------------------------+--------------------+-------------------+-------------------------+----------------------+-------------------+------------------+ | Red Hat Enterprise Linux 8.10 | PASS | SKIPPED | SKIPPED | SKIPPED | SKIPPED | SKIPPED | +-------------------------------+--------------------+-------------------+-------------------------+----------------------+-------------------+------------------+ | Red Hat Enterprise Linux 9.5 | PASS | SKIPPED | SKIPPED | SKIPPED | SKIPPED | SKIPPED | +-------------------------------+--------------------+-------------------+-------------------------+----------------------+-------------------+------------------+ | Ubuntu 22.04 | PASS | SKIPPED | SKIPPED | SKIPPED | PASS | SKIPPED | +-------------------------------+--------------------+-------------------+-------------------------+----------------------+-------------------+------------------+ | Ubuntu 24.04 | PASS | SKIPPED | SKIPPED | SKIPPED | PASS | PASS | +-------------------------------+--------------------+-------------------+-------------------------+----------------------+-------------------+------------------+ | Alpine Linux 3.22.0 | PASS | SKIPPED | SKIPPED | SKIPPED | SKIPPED | SKIPPED | +-------------------------------+--------------------+-------------------+-------------------------+----------------------+-------------------+------------------+ | Windows Server 2022 | SKIPPED | PASS | PASS | PASS | SKIPPED | SKIPPED | +-------------------------------+--------------------+-------------------+-------------------------+----------------------+-------------------+------------------+ FreeBSD 14.2 Kernel: 14.2-RELEASE Compiler: clang 18.1.6 Ubuntu 20.04 Kernel: 4.19 Compiler: gcc gcc (Ubuntu 9.4.0-1ubuntu1~20.04.2) 9.4.0 CentOS Stream 9 Kernel: 5.15 Compiler: gcc gcc (GCC) 11.5.0 20240719 (Red Hat 11.5.0-11) CentOS Stream 10 Kernel: 5.15 Compiler: gcc gcc (GCC) 14.2.1 20250110 (Red Hat 14.2.1-8) Debian GNU/Linux 12 Kernel: 5.15 Compiler: gcc gcc (Debian 12.2.0-14+deb12u1) 12.2.0 Fedora Linux 42 Kernel: 5.15 Compiler: clang gcc (GCC) 15.2.1 20250808 (Red Hat 15.2.1-1) openSUSE Leap 15.6 Kernel: 5.15 Compiler: gcc gcc (SUSE Linux) 7.5.0 Red Hat Enterprise Linux 8.10 Kernel: 5.15 Compiler: gcc gcc (GCC) 8.5.0 20210514 (Red Hat 8.5.0-22) Red Hat Enterprise Linux 9.5 Kernel: 5.15 Compiler: gcc gcc (GCC) 11.5.0 20240719 (Red Hat 11.5.0-2) Ubuntu 22.04 Kernel: 5.15 Compiler: gcc gcc (Ubuntu 11.4.0-1ubuntu1~22.04) 11.4.0 Ubuntu 24.04 Kernel: 5.15 Compiler: gcc gcc (Ubuntu 13.3.0-6ubuntu2~24.04) 13.3.0 Alpine Linux 3.22.0 Kernel: 5.15 Compiler: gcc gcc (Alpine 14.2.0) 14.2.0 Windows Server 2022 Kernel: 10.0.20348.2031 Compiler: clang 15.0.7, gcc 14.1.0 (MinGW), and MSVC VS 19.39.33521 To view detailed results, visit: https://lab.dpdk.org/results/dashboard/patchsets/34238/ UNH-IOL DPDK Community Lab To manage your email subscriptions, visit: https://lab.dpdk.org/results/dashboard/preferences/subscriptions/