From mboxrd@z Thu Jan 1 00:00:00 1970 Return-Path: Received: from mails.dpdk.org (mails.dpdk.org [217.70.189.124]) by inbox.dpdk.org (Postfix) with ESMTP id 271BA488EA for ; Thu, 9 Oct 2025 06:17:31 +0200 (CEST) Received: from mails.dpdk.org (localhost [127.0.0.1]) by mails.dpdk.org (Postfix) with ESMTP id 2004A40277; Thu, 9 Oct 2025 06:17:31 +0200 (CEST) Received: from mail-yw1-f227.google.com (mail-yw1-f227.google.com [209.85.128.227]) by mails.dpdk.org (Postfix) with ESMTP id E6F9340277 for ; Thu, 9 Oct 2025 06:17:29 +0200 (CEST) Received: by mail-yw1-f227.google.com with SMTP id 00721157ae682-71d603cebd9so6389567b3.1 for ; Wed, 08 Oct 2025 21:17:29 -0700 (PDT) DKIM-Signature: v=1; a=rsa-sha256; c=relaxed/relaxed; d=iol.unh.edu; s=unh-iol; t=1759983449; x=1760588249; darn=dpdk.org; h=cc:to:from:subject:message-id:date:from:to:cc:subject:date :message-id:reply-to; bh=Wufhrcb5dVMgcgce4xuOax6Hwveu0f+9DLApnr0EfiI=; b=ba/+ISVM7YxpLENEAT8vNPAHe1wIVUxqSIS236QdrwBSPlrDXYIukzNLH5KoBzjp3y x6pqbG00GrVmn8IvKsN4LiIH40gPr1SKhzImW0651Fefq8szEsA2UKT5iXX6IarJR/tk DhCmN1pDdo9i0DaTicIeE/l+Xqp9XC0tMbi44= X-Google-DKIM-Signature: v=1; a=rsa-sha256; c=relaxed/relaxed; d=1e100.net; s=20230601; t=1759983449; x=1760588249; h=cc:to:from:subject:message-id:date:x-gm-message-state:from:to:cc :subject:date:message-id:reply-to; bh=Wufhrcb5dVMgcgce4xuOax6Hwveu0f+9DLApnr0EfiI=; b=BxpO2Iryh4ysvY1isnnhrh++PD/C/rZXZTLwr5f054zUARQhipcdlPrRU0fAfVO7YI 8hTgCWIUirWPtc+J50TCC+aw16N7GK5IWM6J/zmN1ekQIukXbsu/fD091iGCeVJjMBLJ Hs6+HDRvGXSSEAZj5/J4rTRa9IqqKgdfxSfFOoGMEyoq+FKXrn/jaXaB+2IX3duuGoCL 8yHzMSk2bEwKDCHXymq+NI3ztiwNmPJaiY9o2FWGbaXdQB60fZgCqgfa6tvMDa7VMpTl or5LUiF5NEfBmAQb/l6kGHyJ/W3Yuma6QjP/KQRyZVqLs7/OKHwIR+hbEIpR7K6nHga9 5vkA== X-Gm-Message-State: AOJu0Yyy9Ld+UDHToxCPn/Sgxufd3rVlVFXM3akcR/evKQ9A+oBdO+vr /rnGoRwW2nr7LO1UB3diFOjghUBPw/LM2gsZsV7ufLpSA8xaL1giwSK/Ymhv+A76lhGc0AA+v7o ozk63KAorzE4g5wpPuQFi+o8hCZnJJh5v7Bdd8GsLV6K8 X-Gm-Gg: ASbGncu+0IjHwAjLDeJkDTa3FoatzoN2NvIwaRxt5xot6xH9UITPrtTCrlB1uC/r5d6 dRqiNfHvT5Cy/VzAF7j6pFO+LKgTBKutuhhBhrQimzcj4YzyuRGmQPoCw4sfA9us0UUQ6wAqx1/ xVyq6KgMUPYeiCV/3+3HiCUMwmvpjEugCXLAAeOkxI6z6vQCy/LDGr0HSFWkLilqWjpHZjUhfG/ qX+qVgvflJHnQuo3kbNQHBltQ+5n3rHEDkSBlO6tFQ0Ju+KbZWeLoq5556S9gvyeDt0BPrtq7GN MFDNk9Orakvj9QgpXWLs2SvjlRz6hFn2mTaIBXb1iBEB1/EHVq/z5m41XZx6uk3zOz0IcF1Od9G SxA== X-Google-Smtp-Source: AGHT+IFPC4KhWfSn6Ioc/QofLGUVx9G1j+Dixj08714C8KwuSZI5lPq3M5CBWDpo0TA9b3vLiSR5CD9KemKY X-Received: by 2002:a05:690c:f02:b0:77f:772e:6218 with SMTP id 00721157ae682-780e165a887mr78371747b3.19.1759983449153; Wed, 08 Oct 2025 21:17:29 -0700 (PDT) Received: from postal.iol.unh.edu (postal.iol.unh.edu. [132.177.123.84]) by smtp-relay.gmail.com with ESMTPS id 00721157ae682-77fa2b09699sm8720287b3.6.2025.10.08.21.17.29 (version=TLS1_2 cipher=ECDHE-ECDSA-AES128-GCM-SHA256 bits=128/128); Wed, 08 Oct 2025 21:17:29 -0700 (PDT) X-Relaying-Domain: iol.unh.edu Date: Wed, 08 Oct 2025 21:17:29 -0700 (PDT) Message-ID: <68e73759.050a0220.13ce37.e7d8SMTPIN_ADDED_MISSING@mx.google.com> Received: from [172.21.0.2] (unknown [172.18.0.240]) by postal.iol.unh.edu (Postfix) with ESMTP id C11B56051830; Thu, 9 Oct 2025 00:17:28 -0400 (EDT) Subject: |SUCCESS| [GIT MASTER] 21c1fe280a2480dcd7edbb3e51cc2f9a37c1c6e0 From: dpdklab@iol.unh.edu To: Test Report Cc: dpdk-test-reports@iol.unh.edu, Bruce Richardson Content-Type: text/plain X-BeenThere: test-report@dpdk.org X-Mailman-Version: 2.1.29 Precedence: list List-Id: automatic DPDK test reports List-Unsubscribe: , List-Archive: List-Post: List-Help: List-Subscribe: , Errors-To: test-report-bounces@dpdk.org _Testing PASS_ Branch: dpdk-next-net-intel 21c1fe280a2480dcd7edbb3e51cc2f9a37c1c6e0 --> testing pass Upstream job id: Generic-DPDK-Compile-Meson#432660 Test environment and result as below: +-------------------------------+--------------------+-------------------+-------------------------+----------------------+-------------------+------------------+ | Environment | dpdk_meson_compile | dpdk_msvc_compile | dpdk_llvm_clang_compile | dpdk_mingw64_compile | dpdk_compile_spdk | dpdk_compile_ovs | +===============================+====================+===================+=========================+======================+===================+==================+ | Ubuntu 20.04 | PASS | SKIPPED | SKIPPED | SKIPPED | SKIPPED | SKIPPED | +-------------------------------+--------------------+-------------------+-------------------------+----------------------+-------------------+------------------+ | FreeBSD 14.2 | PASS | SKIPPED | SKIPPED | SKIPPED | SKIPPED | SKIPPED | +-------------------------------+--------------------+-------------------+-------------------------+----------------------+-------------------+------------------+ | CentOS Stream 9 | PASS | SKIPPED | SKIPPED | SKIPPED | PASS | SKIPPED | +-------------------------------+--------------------+-------------------+-------------------------+----------------------+-------------------+------------------+ | CentOS Stream 10 | PASS | SKIPPED | SKIPPED | SKIPPED | SKIPPED | SKIPPED | +-------------------------------+--------------------+-------------------+-------------------------+----------------------+-------------------+------------------+ | Debian GNU/Linux 12 | PASS | SKIPPED | SKIPPED | SKIPPED | PASS | SKIPPED | +-------------------------------+--------------------+-------------------+-------------------------+----------------------+-------------------+------------------+ | Fedora Linux 42 | PASS | SKIPPED | SKIPPED | SKIPPED | PASS | PASS | +-------------------------------+--------------------+-------------------+-------------------------+----------------------+-------------------+------------------+ | openSUSE Leap 15.6 | PASS | SKIPPED | SKIPPED | SKIPPED | SKIPPED | SKIPPED | +-------------------------------+--------------------+-------------------+-------------------------+----------------------+-------------------+------------------+ | Red Hat Enterprise Linux 8.10 | PASS | SKIPPED | SKIPPED | SKIPPED | SKIPPED | SKIPPED | +-------------------------------+--------------------+-------------------+-------------------------+----------------------+-------------------+------------------+ | Red Hat Enterprise Linux 9.5 | PASS | SKIPPED | SKIPPED | SKIPPED | SKIPPED | SKIPPED | +-------------------------------+--------------------+-------------------+-------------------------+----------------------+-------------------+------------------+ | Ubuntu 22.04 | PASS | SKIPPED | SKIPPED | SKIPPED | PASS | SKIPPED | +-------------------------------+--------------------+-------------------+-------------------------+----------------------+-------------------+------------------+ | Ubuntu 24.04 | PASS | SKIPPED | SKIPPED | SKIPPED | PASS | PASS | +-------------------------------+--------------------+-------------------+-------------------------+----------------------+-------------------+------------------+ | Alpine Linux 3.22.0 | PASS | SKIPPED | SKIPPED | SKIPPED | SKIPPED | SKIPPED | +-------------------------------+--------------------+-------------------+-------------------------+----------------------+-------------------+------------------+ | Windows Server 2022 | SKIPPED | PASS | PASS | PASS | SKIPPED | SKIPPED | +-------------------------------+--------------------+-------------------+-------------------------+----------------------+-------------------+------------------+ Ubuntu 20.04 Kernel: 4.19 Compiler: gcc gcc (Ubuntu 9.4.0-1ubuntu1~20.04.2) 9.4.0 FreeBSD 14.2 Kernel: 14.2-RELEASE Compiler: clang 18.1.6 CentOS Stream 9 Kernel: 5.15 Compiler: gcc gcc (GCC) 11.5.0 20240719 (Red Hat 11.5.0-11) CentOS Stream 10 Kernel: 5.15 Compiler: gcc gcc (GCC) 14.2.1 20250110 (Red Hat 14.2.1-8) Debian GNU/Linux 12 Kernel: 5.15 Compiler: gcc gcc (Debian 12.2.0-14+deb12u1) 12.2.0 Fedora Linux 42 Kernel: 5.15 Compiler: clang gcc (GCC) 15.2.1 20250808 (Red Hat 15.2.1-1) openSUSE Leap 15.6 Kernel: 5.15 Compiler: gcc gcc (SUSE Linux) 7.5.0 Red Hat Enterprise Linux 8.10 Kernel: 5.15 Compiler: gcc gcc (GCC) 8.5.0 20210514 (Red Hat 8.5.0-22) Red Hat Enterprise Linux 9.5 Kernel: 5.15 Compiler: gcc gcc (GCC) 11.5.0 20240719 (Red Hat 11.5.0-2) Ubuntu 22.04 Kernel: 5.15 Compiler: gcc gcc (Ubuntu 11.4.0-1ubuntu1~22.04) 11.4.0 Ubuntu 24.04 Kernel: 5.15 Compiler: gcc gcc (Ubuntu 13.3.0-6ubuntu2~24.04) 13.3.0 Alpine Linux 3.22.0 Kernel: 5.15 Compiler: gcc gcc (Alpine 14.2.0) 14.2.0 Windows Server 2022 Kernel: 10.0.20348.2031 Compiler: clang 15.0.7, gcc 14.1.0 (MinGW), and MSVC VS 19.39.33521 To view detailed results, visit: https://lab.dpdk.org/results/dashboard/tarballs/35147/ UNH-IOL DPDK Community Lab To manage your email subscriptions, visit: https://lab.dpdk.org/results/dashboard/preferences/subscriptions/