From mboxrd@z Thu Jan 1 00:00:00 1970 Return-Path: Received: from mails.dpdk.org (mails.dpdk.org [217.70.189.124]) by inbox.dpdk.org (Postfix) with ESMTP id 99BD7488EA for ; Thu, 9 Oct 2025 06:19:58 +0200 (CEST) Received: from mails.dpdk.org (localhost [127.0.0.1]) by mails.dpdk.org (Postfix) with ESMTP id 9416740277; Thu, 9 Oct 2025 06:19:58 +0200 (CEST) Received: from mail-yw1-f225.google.com (mail-yw1-f225.google.com [209.85.128.225]) by mails.dpdk.org (Postfix) with ESMTP id 2579440277 for ; Thu, 9 Oct 2025 06:19:58 +0200 (CEST) Received: by mail-yw1-f225.google.com with SMTP id 00721157ae682-73b4e3d0756so6464007b3.3 for ; Wed, 08 Oct 2025 21:19:58 -0700 (PDT) DKIM-Signature: v=1; a=rsa-sha256; c=relaxed/relaxed; d=iol.unh.edu; s=unh-iol; t=1759983597; x=1760588397; darn=dpdk.org; h=cc:to:from:subject:message-id:date:from:to:cc:subject:date :message-id:reply-to; bh=g9UZph6M1posiX+E+XHI0oEIx6RiZ/cmLosPkoFlzqk=; b=IaK0fQnsF3WReSzH+UjeierhMVLtAdxfM12SgBDtMs7mooWcSauCE9301IyURi8VPz lxpK1+Q6zZfwlVxpG2pnS74BCYlIVfoHrQhWKc9befqdUNFw4/jQlriDS75GmCZ1GAD/ c/MrzxC034c0RN5p2DLBoQDQgvHPRClXpw08k= X-Google-DKIM-Signature: v=1; a=rsa-sha256; c=relaxed/relaxed; d=1e100.net; s=20230601; t=1759983597; x=1760588397; h=cc:to:from:subject:message-id:date:x-gm-message-state:from:to:cc :subject:date:message-id:reply-to; bh=g9UZph6M1posiX+E+XHI0oEIx6RiZ/cmLosPkoFlzqk=; b=vmxzbdtThthD2GAMoiMLqjLHlSXdmX7bvfXRbQkJ2s+70QzyXJHlK/IfPuygHNXmui gM/p6LrEN5hMnICU3rSOwDIsRRSLaiI4gT8wtwKnAQfpx7XdrFX8s9JJmDA0jvmMmCAM QoCnEqmSDGJlKbnNWEM3klG6dY9/3tbQEVA1tKEQTdrrZSCS5djI6C4Eg+gHbB4h24iF 0DZbkNcW66phSesL7z4BHQKz05rRWf+rDjle/X7RMiB8w3sqzUDNgtiZjxQAwfHQLHzr xYLr1eAlh1QWoYu7fn5PhG0Wl5WDr/9L7KvG1Co/wIRqfangqcMLbaFtXigbhp9WitT6 EuIg== X-Gm-Message-State: AOJu0YzxGOucFdUsWgYZ7Y84H0PSNwUrD5McxtSXDhwhbHaSgEwgESeA XRqUGDSfR+WFTYOH7Pc5SPtNLteZSshfliXEpKr5JapCauZxBsrUCDxEhQqia1HH8Q76+lRVu85 YFHC8EkuFSPYYG8NVGb4WhtoADo6lgAYkQa+q X-Gm-Gg: ASbGnct6yQTPeVL28Y1TrSKXbMOEG9VrAykcHvYLtWDxeERX4u8RdWRMGjOhzOx1TZG P4w3066u5dVJXadSeJ81rtrQv7D0oo0zan+DDu5hTer16sgi/a97uzB8z7YUdiYtTulzlwrS86D V4WA0sZ35TQhWFpeBbIdX76nuxmgJWgglGGfsPbGjsUO12XnpbUjGu4y3Jcfty50fn3qYbfvokv HZzvVdnBZXW/GvWeuTUM1rjEiIf801fNVeocbEoO+wCaxm0L4r2haG1x7ZSw+hONVWDZkuEFvv+ ytsb81O2mPDOOcA75IUDQrGO1QiW/JO2lyLLoAgi4j2IWNXsrnRgt0CCWTwF4jgTCACSMFveAZ9 J0w== X-Google-Smtp-Source: AGHT+IFi4RH/JtwNdApkwLI2PPbUsoQi0fH/QnDMT141YRj8SYW4zCK9vtSAU0DFL8N/2Rgoui1ybOZVRNAO X-Received: by 2002:a05:690c:6d8c:b0:726:9be4:97d4 with SMTP id 00721157ae682-780e171d696mr64372607b3.37.1759983597550; Wed, 08 Oct 2025 21:19:57 -0700 (PDT) Received: from postal.iol.unh.edu (postal.iol.unh.edu. [132.177.123.84]) by smtp-relay.gmail.com with ESMTPS id 00721157ae682-77f81d2d3b8sm11046617b3.34.2025.10.08.21.19.57 (version=TLS1_2 cipher=ECDHE-ECDSA-AES128-GCM-SHA256 bits=128/128); Wed, 08 Oct 2025 21:19:57 -0700 (PDT) X-Relaying-Domain: iol.unh.edu Date: Wed, 08 Oct 2025 21:19:57 -0700 (PDT) Message-ID: <68e737ed.050a0220.23ef7c.b2bcSMTPIN_ADDED_MISSING@mx.google.com> Received: from [172.21.0.2] (unknown [172.18.0.240]) by postal.iol.unh.edu (Postfix) with ESMTP id 3CCAD6051830; Thu, 9 Oct 2025 00:19:57 -0400 (EDT) Subject: |SUCCESS| [GIT MASTER] b287e404643aeab5bb5db084c142789df187844e From: dpdklab@iol.unh.edu To: Test Report Cc: dpdk-test-reports@iol.unh.edu, Xueming Li , Christian Ehrhardt , Kevin Traynor , Luca Boccassi Content-Type: text/plain X-BeenThere: test-report@dpdk.org X-Mailman-Version: 2.1.29 Precedence: list List-Id: automatic DPDK test reports List-Unsubscribe: , List-Archive: List-Post: List-Help: List-Subscribe: , Errors-To: test-report-bounces@dpdk.org _Testing PASS_ Branch: tags/v24.11 b287e404643aeab5bb5db084c142789df187844e --> testing pass Upstream job id: Windows-Compile-DPDK-Native#31508 Test environment and result as below: +---------------------+--------------------+-------------------+-------------------------+----------------------+ | Environment | dpdk_meson_compile | dpdk_msvc_compile | dpdk_llvm_clang_compile | dpdk_mingw64_compile | +=====================+====================+===================+=========================+======================+ | Ubuntu 20.04 | PASS | SKIPPED | SKIPPED | SKIPPED | +---------------------+--------------------+-------------------+-------------------------+----------------------+ | FreeBSD 14.2 | PASS | SKIPPED | SKIPPED | SKIPPED | +---------------------+--------------------+-------------------+-------------------------+----------------------+ | Windows Server 2022 | SKIPPED | PASS | PASS | PASS | +---------------------+--------------------+-------------------+-------------------------+----------------------+ Ubuntu 20.04 Kernel: 4.19 Compiler: gcc gcc (Ubuntu 9.4.0-1ubuntu1~20.04.2) 9.4.0 FreeBSD 14.2 Kernel: 14.2-RELEASE Compiler: clang 18.1.6 Windows Server 2022 Kernel: 10.0.20348.2031 Compiler: clang 15.0.7, gcc 14.1.0 (MinGW), and MSVC VS 19.39.33521 To view detailed results, visit: https://lab.dpdk.org/results/dashboard/tarballs/35151/ UNH-IOL DPDK Community Lab To manage your email subscriptions, visit: https://lab.dpdk.org/results/dashboard/preferences/subscriptions/