From mboxrd@z Thu Jan 1 00:00:00 1970 Return-Path: Received: from mails.dpdk.org (mails.dpdk.org [217.70.189.124]) by inbox.dpdk.org (Postfix) with ESMTP id 93C9F488EA for ; Thu, 9 Oct 2025 06:27:40 +0200 (CEST) Received: from mails.dpdk.org (localhost [127.0.0.1]) by mails.dpdk.org (Postfix) with ESMTP id 723EE40277; Thu, 9 Oct 2025 06:27:40 +0200 (CEST) Received: from mail-il1-f227.google.com (mail-il1-f227.google.com [209.85.166.227]) by mails.dpdk.org (Postfix) with ESMTP id 629B640277 for ; Thu, 9 Oct 2025 06:27:39 +0200 (CEST) Received: by mail-il1-f227.google.com with SMTP id e9e14a558f8ab-42f5e9e4314so5562845ab.0 for ; Wed, 08 Oct 2025 21:27:39 -0700 (PDT) DKIM-Signature: v=1; a=rsa-sha256; c=relaxed/relaxed; d=iol.unh.edu; s=unh-iol; t=1759984058; x=1760588858; darn=dpdk.org; h=cc:to:from:subject:message-id:date:from:to:cc:subject:date :message-id:reply-to; bh=QHmvXRXilAKJdEUioEW0cVdRimUV6AN3QChxG8+cUFA=; b=RPpNBhoUIkaOM+MZoyz7OHABMTrzJaVhWImgfFtIqEXMhQCpPAmdaO7JljQAFYraO0 JarM5yJOCpe4Fpqn8z1GHZ1WskJJcKcvnc3f4+p1IEykzCgn23N7UAW6DPRtlqAh3BXl 5QWR5TVixq8a3kOPEHwnxJbmez4SY/QTgLRBs= X-Google-DKIM-Signature: v=1; a=rsa-sha256; c=relaxed/relaxed; d=1e100.net; s=20230601; t=1759984058; x=1760588858; h=cc:to:from:subject:message-id:date:x-gm-message-state:from:to:cc :subject:date:message-id:reply-to; bh=QHmvXRXilAKJdEUioEW0cVdRimUV6AN3QChxG8+cUFA=; b=ERmHJq3hZqtNfggzZWvuxChEfkJAOlfTnb5ZE++yElkyYx1VmbEHg2poXRd0b6zZJv lDcALvu0RjW6jN4ns0e5QI1ypvjPfDm/j+LX4lSuUJIE2AMd6vR4hTyYWUQccTqdqGT1 Iu1kNqHi74rqfcoNTiPq+DwfZ3ziFDORJUoGzxoxOJJhiQO3A0zbDKgNMS//R8jLO7QD tkakmuO8nUNp+uJzC5gYhZlWynbSM7xK6OM5F+szejKF5M90cWMZ2akZ6VGDF2W9afCH qrgQ4d5AJ9CLSnW+y9DU40UZNZz2BhkESUSH180YHaGW+X3nZWxkF16ZDMtGahqddZ/e pe9Q== X-Gm-Message-State: AOJu0YzufJyfJaWx6+LPDP6xmrNXN9oeldxAF8Oq22IC/aK6Ifx4i61L J+4CGit3He0G5fHKFMdsojnxGxhwyhR+afDrqhRn8Sss9kgmqmNtL63L6e8BE1dMZfuDNg89cJF 5r65mzWxr5MT+iRlp6sXP7aCdsEa+0DFChyD0 X-Gm-Gg: ASbGncts6iyKBdthP41Tmgm6CV0Ol/yp03xP7yed2tB1/a3KR9EMKpgbTdRjl4AMkxg D4KpNntH9PiHuKO1/rv4N0/2+F3zls6MNASgqjxMpXzp9kKSAG+P4NEk959vBgnSxwC+EalxQ1y cUtvD21oEKZNntZn17Ej+/vceyzNhljdOoLUDFe56wlyaIrbd3+LCye7lWtGqETsM1HjwauJZfr W38gifNsNbZ/FLIu9h6dg2kivwK7IWZrZ9Y4SwlMERcPR5vrzm1ehFqIbsV5hldHEuyXfbyB0Wc ONTJDO5oqn8RWUhBROWbx7g5y0Udfg8IMUXnNNJIbp4B5MtMuKhm6+HTHNUu2Zyp+9LXyaaXT2G KAg== X-Google-Smtp-Source: AGHT+IFChe/+km7XPJfL/1gkZz42f96Ua78X5IP+LqxWgkT4Mj82OpLVmOV1G6RXymHXef+Lkuu6HIgE6so1 X-Received: by 2002:a05:6e02:3c04:b0:42e:712c:b15 with SMTP id e9e14a558f8ab-42f87351fefmr52614345ab.1.1759984057538; Wed, 08 Oct 2025 21:27:37 -0700 (PDT) Received: from postal.iol.unh.edu (postal.iol.unh.edu. [132.177.123.84]) by smtp-relay.gmail.com with ESMTPS id 8926c6da1cb9f-57b5ed6b5fbsm1572538173.40.2025.10.08.21.27.37 (version=TLS1_2 cipher=ECDHE-ECDSA-AES128-GCM-SHA256 bits=128/128); Wed, 08 Oct 2025 21:27:37 -0700 (PDT) X-Relaying-Domain: iol.unh.edu Date: Wed, 08 Oct 2025 21:27:37 -0700 (PDT) Message-ID: <68e739b9.050a0220.62594.35ecSMTPIN_ADDED_MISSING@mx.google.com> Received: from [172.21.0.2] (unknown [172.18.0.240]) by postal.iol.unh.edu (Postfix) with ESMTP id 0D00C6051830; Thu, 9 Oct 2025 00:27:37 -0400 (EDT) Subject: |SUCCESS| [GIT MASTER] 3b43ce3f4a54468e7ef65760c2fd7b4d6ee6d9fc From: dpdklab@iol.unh.edu To: Test Report Cc: dpdk-test-reports@iol.unh.edu, Xueming Li , Christian Ehrhardt , Kevin Traynor , Luca Boccassi Content-Type: text/plain X-BeenThere: test-report@dpdk.org X-Mailman-Version: 2.1.29 Precedence: list List-Id: automatic DPDK test reports List-Unsubscribe: , List-Archive: List-Post: List-Help: List-Subscribe: , Errors-To: test-report-bounces@dpdk.org _Testing PASS_ Branch: tags/v22.11 3b43ce3f4a54468e7ef65760c2fd7b4d6ee6d9fc --> testing pass Upstream job id: Windows-Compile-DPDK-Native#31510 Test environment and result as below: +---------------------+--------------------+-------------------------+----------------------+ | Environment | dpdk_meson_compile | dpdk_llvm_clang_compile | dpdk_mingw64_compile | +=====================+====================+=========================+======================+ | Ubuntu 20.04 | PASS | SKIPPED | SKIPPED | +---------------------+--------------------+-------------------------+----------------------+ | FreeBSD 14.2 | PASS | SKIPPED | SKIPPED | +---------------------+--------------------+-------------------------+----------------------+ | Windows Server 2022 | SKIPPED | PASS | PASS | +---------------------+--------------------+-------------------------+----------------------+ Ubuntu 20.04 Kernel: 4.19 Compiler: gcc gcc (Ubuntu 9.4.0-1ubuntu1~20.04.2) 9.4.0 FreeBSD 14.2 Kernel: 14.2-RELEASE Compiler: clang 18.1.6 Windows Server 2022 Kernel: 10.0.20348.2031 Compiler: clang 15.0.7, gcc 14.1.0 (MinGW), and MSVC VS 19.39.33521 To view detailed results, visit: https://lab.dpdk.org/results/dashboard/tarballs/35152/ UNH-IOL DPDK Community Lab To manage your email subscriptions, visit: https://lab.dpdk.org/results/dashboard/preferences/subscriptions/