From mboxrd@z Thu Jan 1 00:00:00 1970 Return-Path: Received: from mails.dpdk.org (mails.dpdk.org [217.70.189.124]) by inbox.dpdk.org (Postfix) with ESMTP id E4AF5488EA for ; Thu, 9 Oct 2025 06:39:25 +0200 (CEST) Received: from mails.dpdk.org (localhost [127.0.0.1]) by mails.dpdk.org (Postfix) with ESMTP id DA86540277; Thu, 9 Oct 2025 06:39:25 +0200 (CEST) Received: from mail-qk1-f225.google.com (mail-qk1-f225.google.com [209.85.222.225]) by mails.dpdk.org (Postfix) with ESMTP id 42488402E4 for ; Thu, 9 Oct 2025 06:39:24 +0200 (CEST) Received: by mail-qk1-f225.google.com with SMTP id af79cd13be357-86302b5a933so45284285a.0 for ; Wed, 08 Oct 2025 21:39:24 -0700 (PDT) DKIM-Signature: v=1; a=rsa-sha256; c=relaxed/relaxed; d=iol.unh.edu; s=unh-iol; t=1759984763; x=1760589563; darn=dpdk.org; h=references:in-reply-to:cc:to:from:subject:message-id:date:from:to :cc:subject:date:message-id:reply-to; bh=v+GB4V7uDEAXutKSEu/HYD8QFt+NE8aM/6ry0EKXl6c=; b=T18n4U8kqyuhTlFyXetLT9vewTQfm894P6rma8FUVuvf+5vsAO8GJqbY9JgO0N/uzG XDO45w4h9lZN/I3+bxONHpEyq/lYROzuX92Fb0iJbhRYIVugatiqpYQlXYLC5+D0nYd6 8XridNR4rJTrizzoADN3c+KoIUKSYpNYQWiNU= X-Google-DKIM-Signature: v=1; a=rsa-sha256; c=relaxed/relaxed; d=1e100.net; s=20230601; t=1759984763; x=1760589563; h=references:in-reply-to:cc:to:from:subject:message-id:date :x-gm-message-state:from:to:cc:subject:date:message-id:reply-to; bh=v+GB4V7uDEAXutKSEu/HYD8QFt+NE8aM/6ry0EKXl6c=; b=QjEIHLiXZSW6QxmvsjsYRthO6g7FczdepDdhp+ogn4RRziF9qYj2SapFAU6kxqF/d9 BURrQCOyyVESQFLoI4APN71xbKZcChOGp0u1Add3c02F05Twj8lsNNvcaDZzTavAr2o+ QMagOYaIJQBBSxp9AIRAVrazT23jvRAT2LcBYlTYt9f2OizVHzIlH3pDWiiAubxyE/qn jKnq+tIEBq0O5Wn9qmUxiw3cSlHu4GTVxIH39S0zJczKJozFnggqvy4fWvyiIppogCPi dBM4GD2upEjxPinwT2EOi73YIGE+W2tbtIcvMtxJknELzpLjvQMcOqFWRP2zFbQ5SeNy BUvg== X-Gm-Message-State: AOJu0Yx9dRq7moS2TE3R8ANDwgPBKkx1czWN0NMBNyh7vh5lCx3NFswJ LqUnLOJv9ZHnQVFN7RJELALMqz8PQGjjy0kuoK9WwkfUH8B5Si2x5JSZBLaEsulGfYBIDW1k7ta b3w/Ny58tiSEDrrraU7iwoyEQ5qxRhyc+oTfzw6Rvh04O X-Gm-Gg: ASbGncuVmoyYitxn/Xi8OFALkxnvCE6z+uRGfmqW0O8RIOrafgVEf6tFAAW4QVSub9s 9CtH+1d76eS+F3UGQZBgfBHYqmF8ONVX62jwoKye1AS+NL7Yz8SGOKlSob8W1T5XpRI1ql4n2eL vmTBJLq762PHfL8AkM+XLy26ZRK+AdLL0L3nL47xXZ89tcbKhk36WMeLSIbdzdqIjV7Cu361Gyt vtBMhltpeHcXcgFkq1kHYkEkVPYQcQ9UL9mvifMqrwYqy6eoJ2A/EupVY26NqqMS3Ca52xLMJfN 8FATaklyWm5XzoYn7HFZ6jYRU41fn0nzmjUGoCpfakrg3+aXp4HpLGxlrwbuvIElebS4y+4Zca8 Jzg== X-Google-Smtp-Source: AGHT+IFuv9y6pAVY2tOf9FcjDFkF8f6KFUDv/vLtcfC5S2XIM8S9kIcksSoIIZ2JGRxIDl5kzN/3uzezw+Ua X-Received: by 2002:a05:620a:f11:b0:7ff:f2ea:d38c with SMTP id af79cd13be357-883527b6a2fmr843817485a.66.1759984763510; Wed, 08 Oct 2025 21:39:23 -0700 (PDT) Received: from postal.iol.unh.edu (postal.iol.unh.edu. [132.177.123.84]) by smtp-relay.gmail.com with ESMTPS id af79cd13be357-8849f6c261esm14479285a.2.2025.10.08.21.39.23 (version=TLS1_2 cipher=ECDHE-ECDSA-AES128-GCM-SHA256 bits=128/128); Wed, 08 Oct 2025 21:39:23 -0700 (PDT) X-Relaying-Domain: iol.unh.edu Date: Wed, 08 Oct 2025 21:39:23 -0700 (PDT) Message-ID: <68e73c7b.050a0220.3da32e.8739SMTPIN_ADDED_MISSING@mx.google.com> Received: from [172.21.0.2] (unknown [172.18.0.240]) by postal.iol.unh.edu (Postfix) with ESMTP id 1FE136051830; Thu, 9 Oct 2025 00:39:23 -0400 (EDT) Subject: |WARNING| pw157331-157351 [PATCH] [v10,21/21] eal: allow lcore remap From: dpdklab@iol.unh.edu To: Test Report Cc: dpdk-test-reports@iol.unh.edu In-Reply-To: <20251008204244.2288583-22-bruce.richardson@intel.com> References: <20251008204244.2288583-22-bruce.richardson@intel.com> Content-Type: text/plain X-BeenThere: test-report@dpdk.org X-Mailman-Version: 2.1.29 Precedence: list List-Id: automatic DPDK test reports List-Unsubscribe: , List-Archive: List-Post: List-Help: List-Subscribe: , Errors-To: test-report-bounces@dpdk.org Test-Label: iol-compile-amd64-testing Test-Status: WARNING http://dpdk.org/patch/157351 _Testing issues_ Submitter: Bruce Richardson Date: Wednesday, October 08 2025 20:42:44 DPDK git baseline: Repo:dpdk Branch: master CommitID:2b403dd8fb37d0ba13723e44ffc7ee2c2795f838 157331-157351 --> testing issues Upstream job id: Generic-DPDK-Compile-Meson#432690 Test environment and result as below: +-------------------------------+--------------------+-------------------------+-------------------+----------------------+-------------------+------------------+ | Environment | dpdk_meson_compile | dpdk_llvm_clang_compile | dpdk_msvc_compile | dpdk_mingw64_compile | dpdk_compile_spdk | dpdk_compile_ovs | +===============================+====================+=========================+===================+======================+===================+==================+ | Ubuntu 20.04 | PASS | SKIPPED | SKIPPED | SKIPPED | SKIPPED | SKIPPED | +-------------------------------+--------------------+-------------------------+-------------------+----------------------+-------------------+------------------+ | FreeBSD 14.2 | PASS | SKIPPED | SKIPPED | SKIPPED | SKIPPED | SKIPPED | +-------------------------------+--------------------+-------------------------+-------------------+----------------------+-------------------+------------------+ | CentOS Stream 9 | PASS | SKIPPED | SKIPPED | SKIPPED | WARN | SKIPPED | +-------------------------------+--------------------+-------------------------+-------------------+----------------------+-------------------+------------------+ | CentOS Stream 10 | PASS | SKIPPED | SKIPPED | SKIPPED | SKIPPED | SKIPPED | +-------------------------------+--------------------+-------------------------+-------------------+----------------------+-------------------+------------------+ | Debian GNU/Linux 12 | PASS | SKIPPED | SKIPPED | SKIPPED | WARN | SKIPPED | +-------------------------------+--------------------+-------------------------+-------------------+----------------------+-------------------+------------------+ | Fedora Linux 42 | PASS | SKIPPED | SKIPPED | SKIPPED | WARN | PASS | +-------------------------------+--------------------+-------------------------+-------------------+----------------------+-------------------+------------------+ | openSUSE Leap 15.6 | PASS | SKIPPED | SKIPPED | SKIPPED | SKIPPED | SKIPPED | +-------------------------------+--------------------+-------------------------+-------------------+----------------------+-------------------+------------------+ | Red Hat Enterprise Linux 8.10 | PASS | SKIPPED | SKIPPED | SKIPPED | SKIPPED | SKIPPED | +-------------------------------+--------------------+-------------------------+-------------------+----------------------+-------------------+------------------+ | Red Hat Enterprise Linux 9.5 | PASS | SKIPPED | SKIPPED | SKIPPED | SKIPPED | SKIPPED | +-------------------------------+--------------------+-------------------------+-------------------+----------------------+-------------------+------------------+ | Ubuntu 22.04 | PASS | SKIPPED | SKIPPED | SKIPPED | WARN | SKIPPED | +-------------------------------+--------------------+-------------------------+-------------------+----------------------+-------------------+------------------+ | Ubuntu 24.04 | PASS | SKIPPED | SKIPPED | SKIPPED | WARN | PASS | +-------------------------------+--------------------+-------------------------+-------------------+----------------------+-------------------+------------------+ | Alpine Linux 3.22.0 | PASS | SKIPPED | SKIPPED | SKIPPED | SKIPPED | SKIPPED | +-------------------------------+--------------------+-------------------------+-------------------+----------------------+-------------------+------------------+ | Windows Server 2022 | SKIPPED | PASS | PASS | PASS | SKIPPED | SKIPPED | +-------------------------------+--------------------+-------------------------+-------------------+----------------------+-------------------+------------------+ ==== 20 line log output for Ubuntu 24.04 (dpdk_compile_spdk): ==== --- Failed to get log output --- ==== End log output ==== Ubuntu 20.04 Kernel: 4.19 Compiler: gcc gcc (Ubuntu 9.4.0-1ubuntu1~20.04.2) 9.4.0 FreeBSD 14.2 Kernel: 14.2-RELEASE Compiler: clang 18.1.6 CentOS Stream 9 Kernel: 5.15 Compiler: gcc gcc (GCC) 11.5.0 20240719 (Red Hat 11.5.0-11) CentOS Stream 10 Kernel: 5.15 Compiler: gcc gcc (GCC) 14.2.1 20250110 (Red Hat 14.2.1-8) Debian GNU/Linux 12 Kernel: 5.15 Compiler: gcc gcc (Debian 12.2.0-14+deb12u1) 12.2.0 Fedora Linux 42 Kernel: 5.15 Compiler: clang gcc (GCC) 15.2.1 20250808 (Red Hat 15.2.1-1) openSUSE Leap 15.6 Kernel: 5.15 Compiler: gcc gcc (SUSE Linux) 7.5.0 Red Hat Enterprise Linux 8.10 Kernel: 5.15 Compiler: gcc gcc (GCC) 8.5.0 20210514 (Red Hat 8.5.0-22) Red Hat Enterprise Linux 9.5 Kernel: 5.15 Compiler: gcc gcc (GCC) 11.5.0 20240719 (Red Hat 11.5.0-2) Ubuntu 22.04 Kernel: 5.15 Compiler: gcc gcc (Ubuntu 11.4.0-1ubuntu1~22.04) 11.4.0 Ubuntu 24.04 Kernel: 5.15 Compiler: gcc gcc (Ubuntu 13.3.0-6ubuntu2~24.04) 13.3.0 Alpine Linux 3.22.0 Kernel: 5.15 Compiler: gcc gcc (Alpine 14.2.0) 14.2.0 Windows Server 2022 Kernel: 10.0.20348.2031 Compiler: clang 15.0.7, gcc 14.1.0 (MinGW), and MSVC VS 19.39.33521 To view detailed results, visit: https://lab.dpdk.org/results/dashboard/patchsets/34239/ UNH-IOL DPDK Community Lab To manage your email subscriptions, visit: https://lab.dpdk.org/results/dashboard/preferences/subscriptions/