From mboxrd@z Thu Jan 1 00:00:00 1970 Return-Path: Received: from mails.dpdk.org (mails.dpdk.org [217.70.189.124]) by inbox.dpdk.org (Postfix) with ESMTP id D9EA2488EA for ; Thu, 9 Oct 2025 07:09:51 +0200 (CEST) Received: from mails.dpdk.org (localhost [127.0.0.1]) by mails.dpdk.org (Postfix) with ESMTP id B2B1840277; Thu, 9 Oct 2025 07:09:51 +0200 (CEST) Received: from mail-io1-f100.google.com (mail-io1-f100.google.com [209.85.166.100]) by mails.dpdk.org (Postfix) with ESMTP id 7EC7A40277 for ; Thu, 9 Oct 2025 07:09:50 +0200 (CEST) Received: by mail-io1-f100.google.com with SMTP id ca18e2360f4ac-92790f12293so23089939f.2 for ; Wed, 08 Oct 2025 22:09:50 -0700 (PDT) DKIM-Signature: v=1; a=rsa-sha256; c=relaxed/relaxed; d=iol.unh.edu; s=unh-iol; t=1759986590; x=1760591390; darn=dpdk.org; h=references:in-reply-to:cc:to:from:subject:message-id:date:from:to :cc:subject:date:message-id:reply-to; bh=1imxE/INfaPImweyXeS36LOO9GOUY8OdlV9t721rKE4=; b=ARjXkD2Ke7sSPUfbbcHIe9NdC4UwB6njHDEDUnODeBCV4cHwA/6gAmu/XWcuv182Gt 1ew+NxOU/1dMboseDXFsMOinSRno3x44cva3qozJy0RzF+L+AqKuuVdEzADvdSaetG/1 EmI3yk/PTkxr2cfrWivw4xvrEWs+5jAVfOfGA= X-Google-DKIM-Signature: v=1; a=rsa-sha256; c=relaxed/relaxed; d=1e100.net; s=20230601; t=1759986590; x=1760591390; h=references:in-reply-to:cc:to:from:subject:message-id:date :x-gm-message-state:from:to:cc:subject:date:message-id:reply-to; bh=1imxE/INfaPImweyXeS36LOO9GOUY8OdlV9t721rKE4=; b=Rj+hc0uzlOzzbFgbCKBfeUQ7D8FjyNsO9IIjs+wUdGwlo/3tUBLQQ0ZN016MYONLH4 c+7tk2+PSHyNfhWADLpT3afog3i5HLp7KOXpG2r+WLph4+6KG5hVNfFVGWCo4F5br5HC OZD12nV+s7i4TcpTw/m5difgTL9D7SF4ZUt76oneVxccI7Ykc9dy6Ah9pTrj6onCUK8W u5uqfMbDdAK6CLVs/+mR0xO30WYehRqFXGMYllxXo7HmvFk4UREd9GcnTTiTvauYB1kf kO9Jou6V7RkRWP7i9D8giX0E+J7BH6pRlRbpckWRq8OdRl5cDWt1jtXDEFxYjQBlwbib kuZg== X-Gm-Message-State: AOJu0YwFRO4L+ow1gz1fs2qV2O18rlq8zpUK5fUygMtqx4aUgX2M2muT g09hTU6+7jy13uDg2/y7TnkOiXCgonMuUa7QoI1/3PAHxEm3WK5qz45x2jc+RnvkXXFfhLzIw59 xKxaXoDO0hw0JpiZhBoTWbBNetfUNXmZaTzAMWcYua7Ep X-Gm-Gg: ASbGnctserE21GglPoYIC72csnsu5kMfaIs7xvsgyCmLBSQenPMyr2yT9YREojiul1I TcBN0ErXeFJAN/OawLdQ1wmu7IlqR54RzgP4V1pgN/dp4BqzYiVCiBV0DRlM/HEg3b3AOvkfP+D GwKXibWq8rfoWuVhqBe7MU73b9FaIR4H7YDRhdtmbAhMBY1/kpoTKrYDZUCJTy8PVy6UVvwsvAJ P//iPsN+kGMCCGzCNvsF4EdGeTVYFi6Sqyirv5PfDFUOCv5jbamFmLypvNg09EHQ4qislWWi5wc oqaqwRYLF/DCYCnYwIfOyDjOSodA3ZmZlaTm/BNHBgT5HI66PYDhryB4rxjOLmniIApa4teD2Uv H4Q== X-Google-Smtp-Source: AGHT+IFwmuMnkGBwx4sC8MSWTpLssqTf1o4e7JHWx6wqgwhqNplqiWH9tb50pF//QawbuZ/hssPGzNN753Nr X-Received: by 2002:a05:6602:2b03:b0:93b:ba4a:3b67 with SMTP id ca18e2360f4ac-93bd199182emr628670039f.18.1759986589645; Wed, 08 Oct 2025 22:09:49 -0700 (PDT) Received: from postal.iol.unh.edu (postal.iol.unh.edu. [132.177.123.84]) by smtp-relay.gmail.com with ESMTPS id ca18e2360f4ac-93bdb316372sm9135239f.10.2025.10.08.22.09.49 (version=TLS1_2 cipher=ECDHE-ECDSA-AES128-GCM-SHA256 bits=128/128); Wed, 08 Oct 2025 22:09:49 -0700 (PDT) X-Relaying-Domain: iol.unh.edu Date: Wed, 08 Oct 2025 22:09:49 -0700 (PDT) Message-ID: <68e7439d.050a0220.2d2fea.4fceSMTPIN_ADDED_MISSING@mx.google.com> Received: from [172.21.0.2] (unknown [172.18.0.240]) by postal.iol.unh.edu (Postfix) with ESMTP id BCD576051830; Thu, 9 Oct 2025 01:09:48 -0400 (EDT) Subject: |SUCCESS| pw157352 [PATCH] [v1] net/mlx5: fix age checking crash From: dpdklab@iol.unh.edu To: Test Report Cc: dpdk-test-reports@iol.unh.edu In-Reply-To: <20251009022847.100823-1-rongweil@nvidia.com> References: <20251009022847.100823-1-rongweil@nvidia.com> Content-Type: text/plain X-BeenThere: test-report@dpdk.org X-Mailman-Version: 2.1.29 Precedence: list List-Id: automatic DPDK test reports List-Unsubscribe: , List-Archive: List-Post: List-Help: List-Subscribe: , Errors-To: test-report-bounces@dpdk.org Test-Label: iol-unit-amd64-testing Test-Status: SUCCESS http://dpdk.org/patch/157352 _Testing PASS_ Submitter: Rongwei Liu Date: Thursday, October 09 2025 02:28:46 DPDK git baseline: Repo:dpdk-next-net-mlx Branch: master CommitID:2374f33e1d964e100895fd294966380c46f0886d 157352 --> testing pass Upstream job id: Generic-Unit-Test-DPDK#379733 Test environment and result as below: +-------------------------------+----------------+ | Environment | dpdk_unit_test | +===============================+================+ | CentOS Stream 10 | PASS | +-------------------------------+----------------+ | Debian GNU/Linux 12 | PASS | +-------------------------------+----------------+ | Fedora Linux 40 | PASS | +-------------------------------+----------------+ | Fedora Linux 41 | PASS | +-------------------------------+----------------+ | Fedora Linux 42 | PASS | +-------------------------------+----------------+ | Red Hat Enterprise Linux 9.5 | PASS | +-------------------------------+----------------+ | CentOS Stream 9 | PASS | +-------------------------------+----------------+ | Ubuntu 22.04 | PASS | +-------------------------------+----------------+ | Red Hat Enterprise Linux 8.10 | PASS | +-------------------------------+----------------+ | Windows Server 2022 | PASS | +-------------------------------+----------------+ | Ubuntu 20.04 | PASS | +-------------------------------+----------------+ | Ubuntu 24.04 | PASS | +-------------------------------+----------------+ CentOS Stream 10 Kernel: 5.15 Compiler: gcc gcc (GCC) 14.2.1 20250110 (Red Hat 14.2.1-8) Debian GNU/Linux 12 Kernel: 5.15 Compiler: gcc gcc (Debian 12.2.0-14+deb12u1) 12.2.0 Fedora Linux 40 Kernel: 5.15 Compiler: clang gcc (GCC) 14.2.1 20240912 (Red Hat 14.2.1-3) Fedora Linux 41 Kernel: 5.15 Compiler: clang gcc (GCC) 14.3.1 20250523 (Red Hat 14.3.1-1) Fedora Linux 42 Kernel: 5.15 Compiler: clang gcc (GCC) 15.2.1 20250808 (Red Hat 15.2.1-1) Red Hat Enterprise Linux 9.5 Kernel: 5.15 Compiler: gcc gcc (GCC) 11.5.0 20240719 (Red Hat 11.5.0-2) CentOS Stream 9 Kernel: 5.15 Compiler: gcc gcc (GCC) 11.5.0 20240719 (Red Hat 11.5.0-11) Ubuntu 22.04 Kernel: 5.15 Compiler: gcc gcc (Ubuntu 11.4.0-1ubuntu1~22.04) 11.4.0 Red Hat Enterprise Linux 8.10 Kernel: 5.15 Compiler: gcc gcc (GCC) 8.5.0 20210514 (Red Hat 8.5.0-22) Windows Server 2022 Kernel: 10.0.20348.2031 Compiler: clang 15.0.7, gcc 14.1.0 (MinGW), and MSVC VS 19.39.33521 Ubuntu 20.04 Kernel: 5.15 Compiler: gcc gcc (Ubuntu 9.4.0-1ubuntu1~20.04.2) 9.4.0 Ubuntu 24.04 Kernel: 5.15 Compiler: gcc gcc (Ubuntu 13.3.0-6ubuntu2~24.04) 13.3.0 To view detailed results, visit: https://lab.dpdk.org/results/dashboard/patchsets/34240/ UNH-IOL DPDK Community Lab To manage your email subscriptions, visit: https://lab.dpdk.org/results/dashboard/preferences/subscriptions/