From mboxrd@z Thu Jan 1 00:00:00 1970 Return-Path: Received: from mails.dpdk.org (mails.dpdk.org [217.70.189.124]) by inbox.dpdk.org (Postfix) with ESMTP id 1AEA7488ED for ; Thu, 9 Oct 2025 08:13:54 +0200 (CEST) Received: from mails.dpdk.org (localhost [127.0.0.1]) by mails.dpdk.org (Postfix) with ESMTP id F242140277; Thu, 9 Oct 2025 08:13:53 +0200 (CEST) Received: from mail-io1-f97.google.com (mail-io1-f97.google.com [209.85.166.97]) by mails.dpdk.org (Postfix) with ESMTP id 9D99440277 for ; Thu, 9 Oct 2025 08:13:52 +0200 (CEST) Received: by mail-io1-f97.google.com with SMTP id ca18e2360f4ac-8cf4f90b6f0so55574639f.0 for ; Wed, 08 Oct 2025 23:13:52 -0700 (PDT) DKIM-Signature: v=1; a=rsa-sha256; c=relaxed/relaxed; d=iol.unh.edu; s=unh-iol; t=1759990432; x=1760595232; darn=dpdk.org; h=cc:to:from:subject:message-id:date:from:to:cc:subject:date :message-id:reply-to; bh=vkvsQSb8RKgtsjRui+4MkQBNx1Z7mwAhczZOaKPh8pc=; b=OfCio4Cg+DbvyAtz8DzabKR5ene5MqUkaoo3wkQ809SIPygn6uofcefHLegLrE/sRv gSFL+JZnbNW1hKg10YADAuTS4UE74nQsZUYJyxhGc45T0qecE9yZ4s0UM7X1ghVc4TV1 ZBtLdB73HW2zgOCilVFYCH6r7Aad99RlYh3I4= X-Google-DKIM-Signature: v=1; a=rsa-sha256; c=relaxed/relaxed; d=1e100.net; s=20230601; t=1759990432; x=1760595232; h=cc:to:from:subject:message-id:date:x-gm-message-state:from:to:cc :subject:date:message-id:reply-to; bh=vkvsQSb8RKgtsjRui+4MkQBNx1Z7mwAhczZOaKPh8pc=; b=i/MtwNDM1vGc7mW69qgHxG3CxbGZVdX1PaqZoCPL/8kPrZ3Q+xc9VUZqjXhyuVbIQi M55OueJed09rwidUdaGNjt4qVZjG7+CjVeO19fsVoLwylZ5f2bEOQRmTfRBBfGTaasI6 cYg5ESdFwz9bkbJr2ku+104PTjJgatq7jq+wKOJ+qRh4FMjSLdTIlDMfBoxQdm0ahkPk zne91GkhY1fXqs+cvglusB7ymeaHVvK5CrBzAZjVeAfORVDw8xulcI17AkFA0LmgVbvu /AwS1kz9VJz/ZT2ctH/Ut7ZbgGihbqUuxqIjT5c/PlkDwYsygC54D9aqXYBPHIp/ly78 PeZQ== X-Gm-Message-State: AOJu0YwDo6dYen1AnFeRrkRydLn8u05vbDvCQwuxdNr1HlLJvVLOkFsK gUt9ecINtX4mA+N57U8zuaXy5iUyaunQqLdzM40JDZmRcR1E+9bYezJknygvyOfamHzXWYoY2NU MfkBm5C/oVxNUqFXtyfmM3stLU6DcDJxB7Kk7k7ENXTbIiIv+hyf3 X-Gm-Gg: ASbGncsj3vuSeklhB/DguTPZv/0ZWUQ57+0WA7SVRpbUwgDpclstWCm5g9hZ4x4//25 WY2qmYVdVZoQQhIMlFADEUbd2B3bhMXaAWr0/d6LH+9QS6t4OA/yo3W0urpqn4cU8hr/qmdLKOd 1sM8XKyLCEPfpXmHGe1L9f8Nf5qjiwoCJdewS/WF2gsuPrt2jXJco/DuOjjfaA0Po+3CNjxjJ3g BCYBbtYh3L7b4YkK4Cr2GIwzz/DYLOgaPWHHemaaYpvlvRqE0mIVYkejBt+pKyYn+p4beGJbauL sRBzfNY0Go1hQLpk2oNP+OwCa/IgheJVYgHRTpj77viFDlld4MKA7r8= X-Google-Smtp-Source: AGHT+IGO5LKvDff35A1KI11hWGca8z9TqeKBKQG5tQLw4z5jsxgvNdTytluotJLvVGbkVk4l9gEjt+6Tbx2t X-Received: by 2002:a05:6e02:2163:b0:42d:8c22:5e05 with SMTP id e9e14a558f8ab-42f873fb683mr54917275ab.28.1759990432008; Wed, 08 Oct 2025 23:13:52 -0700 (PDT) Received: from postal.iol.unh.edu (postal.iol.unh.edu. [2606:4100:3880:1234::84]) by smtp-relay.gmail.com with ESMTPS id 8926c6da1cb9f-57b5ed2787bsm1639808173.26.2025.10.08.23.13.51 (version=TLS1_2 cipher=ECDHE-ECDSA-AES128-GCM-SHA256 bits=128/128); Wed, 08 Oct 2025 23:13:52 -0700 (PDT) X-Relaying-Domain: iol.unh.edu Date: Wed, 08 Oct 2025 23:13:52 -0700 (PDT) Message-ID: <68e752a0.050a0220.2bc847.a2e8SMTPIN_ADDED_MISSING@mx.google.com> Received: from [172.21.0.2] (unknown [172.18.0.240]) by postal.iol.unh.edu (Postfix) with ESMTP id 8DC946051830; Thu, 9 Oct 2025 02:13:51 -0400 (EDT) Subject: |SUCCESS| [GIT MASTER] b287e404643aeab5bb5db084c142789df187844e From: dpdklab@iol.unh.edu To: Test Report Cc: dpdk-test-reports@iol.unh.edu, Xueming Li , Christian Ehrhardt , Kevin Traynor , Luca Boccassi Content-Type: text/plain X-BeenThere: test-report@dpdk.org X-Mailman-Version: 2.1.29 Precedence: list List-Id: automatic DPDK test reports List-Unsubscribe: , List-Archive: List-Post: List-Help: List-Subscribe: , Errors-To: test-report-bounces@dpdk.org _Testing PASS_ Branch: tags/v24.11 b287e404643aeab5bb5db084c142789df187844e --> testing pass Upstream job id: Generic-Unit-Test-DPDK#379784 Test environment and result as below: +-------------------------------+----------------+ | Environment | dpdk_unit_test | +===============================+================+ | CentOS Stream 9 | PASS | +-------------------------------+----------------+ | CentOS Stream 10 | PASS | +-------------------------------+----------------+ | Debian GNU/Linux 12 | PASS | +-------------------------------+----------------+ | Fedora Linux 40 | PASS | +-------------------------------+----------------+ | Fedora Linux 41 | PASS | +-------------------------------+----------------+ | Red Hat Enterprise Linux 8.10 | PASS | +-------------------------------+----------------+ | Ubuntu 20.04 | PASS | +-------------------------------+----------------+ | Fedora Linux 42 | PASS | +-------------------------------+----------------+ | Ubuntu 22.04 | PASS | +-------------------------------+----------------+ | Ubuntu 24.04 | PASS | +-------------------------------+----------------+ | Red Hat Enterprise Linux 9.5 | PASS | +-------------------------------+----------------+ | Windows Server 2022 | PASS | +-------------------------------+----------------+ CentOS Stream 9 Kernel: 5.15 Compiler: gcc gcc (GCC) 11.5.0 20240719 (Red Hat 11.5.0-11) CentOS Stream 10 Kernel: 5.15 Compiler: gcc gcc (GCC) 14.2.1 20250110 (Red Hat 14.2.1-8) Debian GNU/Linux 12 Kernel: 5.15 Compiler: gcc gcc (Debian 12.2.0-14+deb12u1) 12.2.0 Fedora Linux 40 Kernel: 5.15 Compiler: gcc gcc (GCC) 14.2.1 20240912 (Red Hat 14.2.1-3) Fedora Linux 41 Kernel: 5.15 Compiler: gcc gcc (GCC) 14.3.1 20250523 (Red Hat 14.3.1-1) Red Hat Enterprise Linux 8.10 Kernel: 5.15 Compiler: gcc gcc (GCC) 8.5.0 20210514 (Red Hat 8.5.0-22) Ubuntu 20.04 Kernel: 5.15 Compiler: gcc gcc (Ubuntu 9.4.0-1ubuntu1~20.04.2) 9.4.0 Fedora Linux 42 Kernel: 5.15 Compiler: gcc gcc (GCC) 15.2.1 20250808 (Red Hat 15.2.1-1) Ubuntu 22.04 Kernel: 5.15 Compiler: gcc gcc (Ubuntu 11.4.0-1ubuntu1~22.04) 11.4.0 Ubuntu 24.04 Kernel: 5.15 Compiler: gcc gcc (Ubuntu 13.3.0-6ubuntu2~24.04) 13.3.0 Red Hat Enterprise Linux 9.5 Kernel: 5.15 Compiler: gcc gcc (GCC) 11.5.0 20240719 (Red Hat 11.5.0-2) Windows Server 2022 Kernel: 10.0.20348.2031 Compiler: clang 15.0.7, gcc 14.1.0 (MinGW), and MSVC VS 19.39.33521 To view detailed results, visit: https://lab.dpdk.org/results/dashboard/tarballs/35151/ UNH-IOL DPDK Community Lab To manage your email subscriptions, visit: https://lab.dpdk.org/results/dashboard/preferences/subscriptions/