From mboxrd@z Thu Jan 1 00:00:00 1970 Return-Path: Received: from mails.dpdk.org (mails.dpdk.org [217.70.189.124]) by inbox.dpdk.org (Postfix) with ESMTP id 755FF488ED for ; Thu, 9 Oct 2025 08:50:11 +0200 (CEST) Received: from mails.dpdk.org (localhost [127.0.0.1]) by mails.dpdk.org (Postfix) with ESMTP id 70A3740277; Thu, 9 Oct 2025 08:50:11 +0200 (CEST) Received: from mail-io1-f99.google.com (mail-io1-f99.google.com [209.85.166.99]) by mails.dpdk.org (Postfix) with ESMTP id 2EC5540277 for ; Thu, 9 Oct 2025 08:50:10 +0200 (CEST) Received: by mail-io1-f99.google.com with SMTP id ca18e2360f4ac-91fbba9a8f5so59796639f.0 for ; Wed, 08 Oct 2025 23:50:10 -0700 (PDT) DKIM-Signature: v=1; a=rsa-sha256; c=relaxed/relaxed; d=iol.unh.edu; s=unh-iol; t=1759992609; x=1760597409; darn=dpdk.org; h=references:in-reply-to:cc:to:from:subject:message-id:date:from:to :cc:subject:date:message-id:reply-to; bh=o+F/6d9CudhT8KXCpGYh9/mlzRBSqizFgoTRCxvIE4I=; b=ctTec/9zGUaIDVUuyEXWJJDmb9sPPJlvhwBI5rZyzluRPIk4PPr6WJRY/O+XBih4lY 2+37Hae43rNwX9/dXHiSLmaiFkM0US8Z/nn4T45lMI8mCn5K85O8FS60JT+vtD3JZpDg qIU7FaNcZPOc9WXsDQrol/O8jGwrUXDyaBEGs= X-Google-DKIM-Signature: v=1; a=rsa-sha256; c=relaxed/relaxed; d=1e100.net; s=20230601; t=1759992609; x=1760597409; h=references:in-reply-to:cc:to:from:subject:message-id:date :x-gm-message-state:from:to:cc:subject:date:message-id:reply-to; bh=o+F/6d9CudhT8KXCpGYh9/mlzRBSqizFgoTRCxvIE4I=; b=uRhYKDwjW3lPDe4GyGwnnKJ0QePPuO/1GFaRnfT5NJlJGy8p9llRhMoz08B0vIwtlY hL4WFbyWMsr80xgCL4LtYbLhgsaehWUvbZNnCD2PpTOHwdtPv1iNAuB85zHgVy94ApF2 xJrcmuLwnziz3/c9pEQDg7eI+aOCDrmSVWDxfmeenZtVYzRoauYz3SBAcq9PeuKp2ebi rPfXnMPmzk7oF9wGiaiXtmrpeC0IWQ2NRVGI7xpwpVCudr8JrsBZU0eUaxBVqTCpYQBG H2KCJtLvdY5hv0gy/UsRyPrW1RV4Rije/J9kovqszxRb89w/Qwwc69NGfUVTocuWYyir tMkA== X-Gm-Message-State: AOJu0YwMrMfZNLT952x7bNHVhotiMYnJ8rmWN/k8XsQ9ax6tHBbSBuaa nnDsxMoQbXBN6ys8BNDx7lPyTow1TQjxeFV/B1jHGd3B5RPSvkMXIOU6ejxQcPEdiqsA6AM7HKW doiovGBvIEGRNHJn1C03WBsZx5vv0Wecqa2PATBJGFXa2 X-Gm-Gg: ASbGncuJ2Bc5c1W08Gnj0p/wxHO1Wtjpc6/YfMu4mc+mCmuhFO89ykPfDeXWAR5mx06 zIkxuxJchi72foLKn05YFS1XJbRuxWK+G9/jtauFYhUVCLCpZyPvqeLghvq9k4Ne1fBp7VVCa34 r7rzF/EgCsDFDAcLqhwwLKs+XmngTqCFtqwOtXes0bQsa1KqU9AD2x8xpSoXeUE9k6C3RqYMedX c8THncPJOMqXwmHm1R/NKmDZFBh/oQWl3BxjvPw4BlLOxpEGFNa+9G+Ze4eDgU/9XmrRi9mJrYC YD2pzktjQ6LAGRyxZTJLF/iyNeTHsqgQUcmj8WlC1cylC/gJMJA5PRGwaayy2fecqv93N/JHsIL YbA== X-Google-Smtp-Source: AGHT+IEBmq68vsIx+MI2GMwdp3o9rmHjys3StdO8lwGmI2uY7BkKmh8SmHju09bXMNsQLQc52bDwPDpvf/ls X-Received: by 2002:a05:6e02:1fcb:b0:42e:d74:726e with SMTP id e9e14a558f8ab-42f873fb3b2mr61072785ab.27.1759992609177; Wed, 08 Oct 2025 23:50:09 -0700 (PDT) Received: from postal.iol.unh.edu (postal.iol.unh.edu. [132.177.123.84]) by smtp-relay.gmail.com with ESMTPS id e9e14a558f8ab-42f9026193dsm1297055ab.11.2025.10.08.23.50.09 (version=TLS1_2 cipher=ECDHE-ECDSA-AES128-GCM-SHA256 bits=128/128); Wed, 08 Oct 2025 23:50:09 -0700 (PDT) X-Relaying-Domain: iol.unh.edu Date: Wed, 08 Oct 2025 23:50:09 -0700 (PDT) Message-ID: <68e75b21.920a0220.d8de1.6deeSMTPIN_ADDED_MISSING@mx.google.com> Received: from [172.21.0.2] (unknown [172.18.0.240]) by postal.iol.unh.edu (Postfix) with ESMTP id AD97F6051830; Thu, 9 Oct 2025 02:50:08 -0400 (EDT) Subject: |SUCCESS| pw157322 [PATCH] compressdev: fix device ID validation che From: dpdklab@iol.unh.edu To: Test Report Cc: dpdk-test-reports@iol.unh.edu, Akhil Goyal In-Reply-To: <20251008074532.3066685-1-ashishg@marvell.com> References: <20251008074532.3066685-1-ashishg@marvell.com> Content-Type: text/plain X-BeenThere: test-report@dpdk.org X-Mailman-Version: 2.1.29 Precedence: list List-Id: automatic DPDK test reports List-Unsubscribe: , List-Archive: List-Post: List-Help: List-Subscribe: , Errors-To: test-report-bounces@dpdk.org Test-Label: iol-unit-arm64-testing Test-Status: SUCCESS http://dpdk.org/patch/157322 _Testing PASS_ Submitter: Ashish Gupta Date: Wednesday, October 08 2025 07:45:23 DPDK git baseline: Repo:dpdk-next-crypto Branch: master CommitID:2aa7141a4e2c78e3cce03dbd613532a2166123c1 157322 --> testing pass Upstream job id: Generic-Unit-Test-DPDK#379554 Test environment and result as below: +------------------------------+----------------+--------------+---------------------------+------------------------------+ | Environment | dpdk_unit_test | lpm_autotest | cryptodev_sw_zuc_autotest | cryptodev_sw_snow3g_autotest | +==============================+================+==============+===========================+==============================+ | CentOS Stream 9 | PASS | SKIPPED | SKIPPED | SKIPPED | +------------------------------+----------------+--------------+---------------------------+------------------------------+ | Ubuntu 22.04 | PASS | SKIPPED | SKIPPED | SKIPPED | +------------------------------+----------------+--------------+---------------------------+------------------------------+ | Debian GNU/Linux 12 | PASS | SKIPPED | SKIPPED | SKIPPED | +------------------------------+----------------+--------------+---------------------------+------------------------------+ | Fedora Linux 40 | PASS | SKIPPED | SKIPPED | SKIPPED | +------------------------------+----------------+--------------+---------------------------+------------------------------+ | CentOS Stream 10 | PASS | SKIPPED | SKIPPED | SKIPPED | +------------------------------+----------------+--------------+---------------------------+------------------------------+ | Fedora Linux 41 | PASS | SKIPPED | SKIPPED | SKIPPED | +------------------------------+----------------+--------------+---------------------------+------------------------------+ | Red Hat Enterprise Linux 9.5 | PASS | SKIPPED | SKIPPED | SKIPPED | +------------------------------+----------------+--------------+---------------------------+------------------------------+ | Fedora Linux 42 | PASS | SKIPPED | SKIPPED | SKIPPED | +------------------------------+----------------+--------------+---------------------------+------------------------------+ | Ubuntu 24.04 | PASS | SKIPPED | SKIPPED | SKIPPED | +------------------------------+----------------+--------------+---------------------------+------------------------------+ | Ubuntu 20.04 | PASS | PASS | SKIPPED | SKIPPED | +------------------------------+----------------+--------------+---------------------------+------------------------------+ | Debian 12 (arm) | SKIPPED | SKIPPED | PASS | PASS | +------------------------------+----------------+--------------+---------------------------+------------------------------+ CentOS Stream 9 Kernel: 5.4 Compiler: gcc gcc (GCC) 11.5.0 20240719 (Red Hat 11.5.0-11) Ubuntu 22.04 Kernel: 5.15 Compiler: gcc gcc (Ubuntu 11.4.0-1ubuntu1~22.04.2) 11.4.0 Debian GNU/Linux 12 Kernel: 5.4 Compiler: gcc gcc (Debian 12.2.0-14+deb12u1) 12.2.0 Fedora Linux 40 Kernel: 5.4 Compiler: gcc gcc (GCC) 14.2.1 20240912 (Red Hat 14.2.1-3) CentOS Stream 10 Kernel: 5.4 Compiler: gcc gcc (GCC) 14.2.1 20250110 (Red Hat 14.2.1-8) Fedora Linux 41 Kernel: 5.4 Compiler: gcc gcc (GCC) 14.3.1 20250523 (Red Hat 14.3.1-1) Red Hat Enterprise Linux 9.5 Kernel: 5.4 Compiler: gcc gcc (GCC) 11.5.0 20240719 (Red Hat 11.5.0-2) Fedora Linux 42 Kernel: 5.4 Compiler: gcc gcc (GCC) 15.2.1 20250808 (Red Hat 15.2.1-1) Ubuntu 24.04 Kernel: 5.4 Compiler: gcc gcc (Ubuntu 13.3.0-6ubuntu2~24.04) 13.3.0 Ubuntu 20.04 Kernel: 5.4 Compiler: gcc gcc (Ubuntu 9.4.0-1ubuntu1~20.04.2) 9.4.0 Debian 12 (arm) Kernel: Depends on container host Compiler: gcc (Debian 12.2.0-14) 12.2.0 To view detailed results, visit: https://lab.dpdk.org/results/dashboard/patchsets/34235/ UNH-IOL DPDK Community Lab To manage your email subscriptions, visit: https://lab.dpdk.org/results/dashboard/preferences/subscriptions/