From mboxrd@z Thu Jan 1 00:00:00 1970 Return-Path: Received: from mails.dpdk.org (mails.dpdk.org [217.70.189.124]) by inbox.dpdk.org (Postfix) with ESMTP id 2AC85488ED for ; Thu, 9 Oct 2025 09:41:18 +0200 (CEST) Received: from mails.dpdk.org (localhost [127.0.0.1]) by mails.dpdk.org (Postfix) with ESMTP id 0D8FE40277; Thu, 9 Oct 2025 09:41:18 +0200 (CEST) Received: from mail-pl1-f225.google.com (mail-pl1-f225.google.com [209.85.214.225]) by mails.dpdk.org (Postfix) with ESMTP id 58E0E40277 for ; Thu, 9 Oct 2025 09:41:16 +0200 (CEST) Received: by mail-pl1-f225.google.com with SMTP id d9443c01a7336-26e68904f0eso6651685ad.0 for ; Thu, 09 Oct 2025 00:41:16 -0700 (PDT) DKIM-Signature: v=1; a=rsa-sha256; c=relaxed/relaxed; d=iol.unh.edu; s=unh-iol; t=1759995675; x=1760600475; darn=dpdk.org; h=references:in-reply-to:cc:to:from:subject:message-id:date:from:to :cc:subject:date:message-id:reply-to; bh=u5gqVjiJL8xZ6ubPK6/3gN94JvC5EtBMBLaGAd0QeCc=; b=e3IdE/hH7eqjj6meUFuWtX91TnuMp6fnxJUWPXBMq5yo9Q4wrxhMh7Zcf1wAXvULpe RpxRl4UxCbxsYGzQo7qwZrimNoQd7pk3HEty4syzb5Y0mC+MJ4kGzrGiRI+EsKJ8xoIx NFKcnsiVrACB/qJV4p6y+tlNdwFAFwHz6TWcw= X-Google-DKIM-Signature: v=1; a=rsa-sha256; c=relaxed/relaxed; d=1e100.net; s=20230601; t=1759995675; x=1760600475; h=references:in-reply-to:cc:to:from:subject:message-id:date :x-gm-message-state:from:to:cc:subject:date:message-id:reply-to; bh=u5gqVjiJL8xZ6ubPK6/3gN94JvC5EtBMBLaGAd0QeCc=; b=k+xWe1c9JEw0GQy3hrkIeho2LeOX+POdpB6uJfe9siiVuMctSEnzB/NWWGAC12/GQw vg3vhfPSCj+Uya/CXY85Qo7GRzIMRKex+k51RQ702rbMyAqfD/4UfHmg8OfaS7McGhgJ /whICbK9YNSl8MEN6p73cPX901ehFP8KCPJrAGg/SqWg/z3tz0bBMzA+O90VqbLBFVNr Zlmd+L6W3cu4xJ0fv2CVjas78Jd7+wdSB7yuPElRlGzKvGw86bA6w9i9AAQyG7TvnuPl EyuwczgNbRonGLy3I8+/lMqnjVIYgUzgSwjvtWWacHuss8TIz1tg82vYhy1ekBJW9OWh bG7g== X-Gm-Message-State: AOJu0YwZUXn3opx7oBXZpRvFWHuYjMCawWlOo2C3UmrCO4brq+RqYvHU uw14D0ph0ByouaFncubNc3Kik4g2cDRK1gHzBJf90Rp6zoH2F31fi3KtMrA2LmD1/DIOJsko0XS dhUmQ0rRUJ3QTMYuFlp5Lz8OgIJ1AmY2aX0b3Ro3GVGJ8 X-Gm-Gg: ASbGncvOvYP5nX5chrdoW3ohC6UnghKoFQq4UFbNsty1v+u6BSIRU2bJ1x9qhnKztQp j2qbHw478FJRysf2Tp4RIZswgAdScJ/v0y9xnhAW4JllLUW9B5KUA/f9mowlCwGnY16l1QjH4+d SrswQoYPemClyAIUe7eFdVjAuSFfMGj6lsr9GCnQoSw8dcg7RztWFw4dO5uuSYAkp0zbZHeoXVk RM/lrbf8NJ7vfwEtItiVINbOA5icSf0sgHciQGVPx+RguwHumaEhyjQTe9b8sDtF7e8VBxapLqi 4sMpZDTo14JvxW9Y0rB+gbYwiN4vQXc9AdFJzY+K11ZLVfTiVCdWin18b4K3AWR7c0OyBVrfdHb ZQw== X-Google-Smtp-Source: AGHT+IEPXJpx3jYyXNjslQaf/FND1/abERdJnmxAyQb8X24AV778x5LbZkrciTRt+DhFaM7Z/298p5najBDZ X-Received: by 2002:a17:902:fc4c:b0:28e:7841:d437 with SMTP id d9443c01a7336-290272c0474mr93505805ad.38.1759995675401; Thu, 09 Oct 2025 00:41:15 -0700 (PDT) Received: from postal.iol.unh.edu (postal.iol.unh.edu. [132.177.123.84]) by smtp-relay.gmail.com with ESMTPS id d9443c01a7336-29034f7f1c5sm1695865ad.64.2025.10.09.00.41.15 (version=TLS1_2 cipher=ECDHE-ECDSA-AES128-GCM-SHA256 bits=128/128); Thu, 09 Oct 2025 00:41:15 -0700 (PDT) X-Relaying-Domain: iol.unh.edu Date: Thu, 09 Oct 2025 00:41:15 -0700 (PDT) Message-ID: <68e7671b.170a0220.3b11fc.910fSMTPIN_ADDED_MISSING@mx.google.com> Received: from [172.21.0.2] (unknown [172.18.0.240]) by postal.iol.unh.edu (Postfix) with ESMTP id C6D296051830; Thu, 9 Oct 2025 03:41:14 -0400 (EDT) Subject: |SUCCESS| pw157354 [PATCH] eal/riscv: optimize memcpy for small copi From: dpdklab@iol.unh.edu To: Test Report Cc: dpdk-test-reports@iol.unh.edu In-Reply-To: <20251009063030.2776794-1-sunyuechi@iscas.ac.cn> References: <20251009063030.2776794-1-sunyuechi@iscas.ac.cn> Content-Type: text/plain X-BeenThere: test-report@dpdk.org X-Mailman-Version: 2.1.29 Precedence: list List-Id: automatic DPDK test reports List-Unsubscribe: , List-Archive: List-Post: List-Help: List-Subscribe: , Errors-To: test-report-bounces@dpdk.org Test-Label: iol-unit-amd64-testing Test-Status: SUCCESS http://dpdk.org/patch/157354 _Testing PASS_ Submitter: Sun Yuechi Date: Thursday, October 09 2025 06:30:30 DPDK git baseline: Repo:dpdk Branch: master CommitID:2b403dd8fb37d0ba13723e44ffc7ee2c2795f838 157354 --> testing pass Upstream job id: Generic-VM-Unit-Test-DPDK#31682 Test environment and result as below: +-------------------------------+----------------+ | Environment | dpdk_unit_test | +===============================+================+ | CentOS Stream 9 | PASS | +-------------------------------+----------------+ | Fedora Linux 40 | PASS | +-------------------------------+----------------+ | Debian GNU/Linux 12 | PASS | +-------------------------------+----------------+ | Windows Server 2022 | PASS | +-------------------------------+----------------+ | Fedora Linux 41 | PASS | +-------------------------------+----------------+ | Red Hat Enterprise Linux 9.5 | PASS | +-------------------------------+----------------+ | Fedora Linux 42 | PASS | +-------------------------------+----------------+ | Red Hat Enterprise Linux 8.10 | PASS | +-------------------------------+----------------+ | CentOS Stream 10 | PASS | +-------------------------------+----------------+ | Ubuntu 20.04 | PASS | +-------------------------------+----------------+ | Ubuntu 24.04 | PASS | +-------------------------------+----------------+ | Ubuntu 22.04 | PASS | +-------------------------------+----------------+ CentOS Stream 9 Kernel: 5.15 Compiler: gcc gcc (GCC) 11.5.0 20240719 (Red Hat 11.5.0-11) Fedora Linux 40 Kernel: 5.15 Compiler: gcc gcc (GCC) 14.2.1 20240912 (Red Hat 14.2.1-3) Debian GNU/Linux 12 Kernel: 5.15 Compiler: gcc gcc (Debian 12.2.0-14+deb12u1) 12.2.0 Windows Server 2022 Kernel: 10.0.20348.2031 Compiler: clang 15.0.7, gcc 14.1.0 (MinGW), and MSVC VS 19.39.33521 Fedora Linux 41 Kernel: 5.15 Compiler: clang gcc (GCC) 14.3.1 20250523 (Red Hat 14.3.1-1) Red Hat Enterprise Linux 9.5 Kernel: 5.15 Compiler: gcc gcc (GCC) 11.5.0 20240719 (Red Hat 11.5.0-2) Fedora Linux 42 Kernel: 5.15 Compiler: clang gcc (GCC) 15.2.1 20250808 (Red Hat 15.2.1-1) Red Hat Enterprise Linux 8.10 Kernel: 5.15 Compiler: gcc gcc (GCC) 8.5.0 20210514 (Red Hat 8.5.0-22) CentOS Stream 10 Kernel: 5.15 Compiler: gcc gcc (GCC) 14.2.1 20250110 (Red Hat 14.2.1-8) Ubuntu 20.04 Kernel: 5.15 Compiler: gcc gcc (Ubuntu 9.4.0-1ubuntu1~20.04.2) 9.4.0 Ubuntu 24.04 Kernel: 5.15 Compiler: gcc gcc (Ubuntu 13.3.0-6ubuntu2~24.04) 13.3.0 Ubuntu 22.04 Kernel: 5.15 Compiler: gcc gcc (Ubuntu 11.4.0-1ubuntu1~22.04) 11.4.0 To view detailed results, visit: https://lab.dpdk.org/results/dashboard/patchsets/34241/ UNH-IOL DPDK Community Lab To manage your email subscriptions, visit: https://lab.dpdk.org/results/dashboard/preferences/subscriptions/