From mboxrd@z Thu Jan 1 00:00:00 1970 Return-Path: Received: from mails.dpdk.org (mails.dpdk.org [217.70.189.124]) by inbox.dpdk.org (Postfix) with ESMTP id 7109A488ED for ; Thu, 9 Oct 2025 09:43:53 +0200 (CEST) Received: from mails.dpdk.org (localhost [127.0.0.1]) by mails.dpdk.org (Postfix) with ESMTP id 52A2C40277; Thu, 9 Oct 2025 09:43:53 +0200 (CEST) Received: from mail-io1-f97.google.com (mail-io1-f97.google.com [209.85.166.97]) by mails.dpdk.org (Postfix) with ESMTP id 409BE40277 for ; Thu, 9 Oct 2025 09:43:52 +0200 (CEST) Received: by mail-io1-f97.google.com with SMTP id ca18e2360f4ac-8ca2e53c37bso63702139f.3 for ; Thu, 09 Oct 2025 00:43:52 -0700 (PDT) DKIM-Signature: v=1; a=rsa-sha256; c=relaxed/relaxed; d=iol.unh.edu; s=unh-iol; t=1759995831; x=1760600631; darn=dpdk.org; h=references:in-reply-to:cc:to:from:subject:message-id:date:from:to :cc:subject:date:message-id:reply-to; bh=x2hXH5OZtK/vArMo+zq2eUxokP19mT++9pgfu/JaMcE=; b=N7adoKV97LjhTPQz3IOjRSj1ulOrfJppRlHXSrF42sMamyoJE/xZ/QlUx2Qm8KjJm1 mFE+LifIAI2uKqypKiTiZsVcs+ow4cpvlzXGLpVMZxHh7E+hWYgbl/dDXSYfjbsCAuG1 1liPmP4YLr9PGPl2Ik7CrjQRBEKgOrRy28G48= X-Google-DKIM-Signature: v=1; a=rsa-sha256; c=relaxed/relaxed; d=1e100.net; s=20230601; t=1759995831; x=1760600631; h=references:in-reply-to:cc:to:from:subject:message-id:date :x-gm-message-state:from:to:cc:subject:date:message-id:reply-to; bh=x2hXH5OZtK/vArMo+zq2eUxokP19mT++9pgfu/JaMcE=; b=KI982YpiFlu/z5zDbmyMJvkit0rsii6W4n/as/eaK7EsmCLiy6isyMnk2I3t14OXXX ESj/+JcQrRRD7La2jmLqFqu/YQWnr/MYAJM3lTccbAqo5D9WEb5BcMPVocQlvxt6OJQ4 QvjiQMqusbaCOA3aW6FqpRqG1WXWwpMDeKDjiC4erD5ShxnYFYD5Cm0y9OJsITB4ebra 9LYTJnpYL21D0QdqZYePRDcF1cqxBUP0lotW6QuPb/5B5SBs4sH8JuHtcsB4lRCSB+Oo 1yCv3CH+p2Zyok/pzAson7hOL0+8Kg0BenYYMSJ7B1zJpJhkwomenwxSt0/6cVnfqEPA 1t4w== X-Gm-Message-State: AOJu0YzBijwawB+b3vxFhegDdnvRlsrpaKfK8mA5tuKQAWKrfqD+92J6 1GC4jgco1j3yiS1LNkU4C9ivjxh77lPxqIe7Gemu3WrZ3ivh3nnRFad2ONlRJnZgLcyYnvwTPWF BlAGGXOVA2Z+TtR/HzrL2JHUy6zUnbCN+JiyAC0nLbnEQ X-Gm-Gg: ASbGnctUC1tw83YHcTKGKRI5vy0ohAyi/zDqxM933Y4J4957DS6ZaI8HYEFhpENzqgc Iz0N46BAilAt0NAA0NWuMN6bgXbwi7l+OS1sJGYk3fWvp3yLiv3oaYEteGJpX5noJBK9gwz1ODz ZMPVKHJ8eDCVknMkbXvP5LQsMu0PomKwFslDLts+eUdQi/xxYhzLPlu8mv8uZ5HM1PJoSBmpqJG bbIoduy+t5FH+rDmQ8SQQ9aA2/wLuYFnOEmp38vbaVQG91ZzybJDrUqJbQ6zDO+c6xuNG1ZVA4X KBA0RcRvEtnbyMjWh+G14UKYJARhij31L3Xw/eRvUh7z9AhbRkgOWRTMawg84gtfUBxR+SVw79f HcQ== X-Google-Smtp-Source: AGHT+IH9l+9Sm5cB/HrOETdXFTj9Iqlap/XOgViv+tcHtE8rY34o1FVYenm2iJSkjnn+TfxEMZhuGfhCQjpn X-Received: by 2002:a05:6602:483:b0:93a:7505:3de9 with SMTP id ca18e2360f4ac-93bd185a48emr857703139f.5.1759995831451; Thu, 09 Oct 2025 00:43:51 -0700 (PDT) Received: from postal.iol.unh.edu (postal.iol.unh.edu. [132.177.123.84]) by smtp-relay.gmail.com with ESMTPS id ca18e2360f4ac-93bdb2765d6sm11337139f.6.2025.10.09.00.43.51 (version=TLS1_2 cipher=ECDHE-ECDSA-AES128-GCM-SHA256 bits=128/128); Thu, 09 Oct 2025 00:43:51 -0700 (PDT) X-Relaying-Domain: iol.unh.edu Date: Thu, 09 Oct 2025 00:43:51 -0700 (PDT) Message-ID: <68e767b7.5d0a0220.2a6f31.6189SMTPIN_ADDED_MISSING@mx.google.com> Received: from [172.21.0.2] (unknown [172.18.0.240]) by postal.iol.unh.edu (Postfix) with ESMTP id 072696051830; Thu, 9 Oct 2025 03:43:51 -0400 (EDT) Subject: |SUCCESS| pw157354 [PATCH] eal/riscv: optimize memcpy for small copi From: dpdklab@iol.unh.edu To: Test Report Cc: dpdk-test-reports@iol.unh.edu In-Reply-To: <20251009063030.2776794-1-sunyuechi@iscas.ac.cn> References: <20251009063030.2776794-1-sunyuechi@iscas.ac.cn> Content-Type: text/plain X-BeenThere: test-report@dpdk.org X-Mailman-Version: 2.1.29 Precedence: list List-Id: automatic DPDK test reports List-Unsubscribe: , List-Archive: List-Post: List-Help: List-Subscribe: , Errors-To: test-report-bounces@dpdk.org Test-Label: iol-compile-amd64-testing Test-Status: SUCCESS http://dpdk.org/patch/157354 _Testing PASS_ Submitter: Sun Yuechi Date: Thursday, October 09 2025 06:30:30 DPDK git baseline: Repo:dpdk Branch: master CommitID:2b403dd8fb37d0ba13723e44ffc7ee2c2795f838 157354 --> testing pass Upstream job id: Windows-Compile-DPDK-Native#31512 Test environment and result as below: +---------------------+--------------------+-------------------------+-------------------+----------------------+ | Environment | dpdk_meson_compile | dpdk_llvm_clang_compile | dpdk_msvc_compile | dpdk_mingw64_compile | +=====================+====================+=========================+===================+======================+ | Ubuntu 20.04 | PASS | SKIPPED | SKIPPED | SKIPPED | +---------------------+--------------------+-------------------------+-------------------+----------------------+ | FreeBSD 14.2 | PASS | SKIPPED | SKIPPED | SKIPPED | +---------------------+--------------------+-------------------------+-------------------+----------------------+ | Windows Server 2022 | SKIPPED | PASS | PASS | PASS | +---------------------+--------------------+-------------------------+-------------------+----------------------+ Ubuntu 20.04 Kernel: 4.19 Compiler: gcc gcc (Ubuntu 9.4.0-1ubuntu1~20.04.2) 9.4.0 FreeBSD 14.2 Kernel: 14.2-RELEASE Compiler: clang 18.1.6 Windows Server 2022 Kernel: 10.0.20348.2031 Compiler: clang 15.0.7, gcc 14.1.0 (MinGW), and MSVC VS 19.39.33521 To view detailed results, visit: https://lab.dpdk.org/results/dashboard/patchsets/34241/ UNH-IOL DPDK Community Lab To manage your email subscriptions, visit: https://lab.dpdk.org/results/dashboard/preferences/subscriptions/