From mboxrd@z Thu Jan 1 00:00:00 1970 Return-Path: Received: from mails.dpdk.org (mails.dpdk.org [217.70.189.124]) by inbox.dpdk.org (Postfix) with ESMTP id 3FFAB488EF for ; Thu, 9 Oct 2025 10:01:33 +0200 (CEST) Received: from mails.dpdk.org (localhost [127.0.0.1]) by mails.dpdk.org (Postfix) with ESMTP id 1FA8140277; Thu, 9 Oct 2025 10:01:33 +0200 (CEST) Received: from mail-pl1-f228.google.com (mail-pl1-f228.google.com [209.85.214.228]) by mails.dpdk.org (Postfix) with ESMTP id 228D840277 for ; Thu, 9 Oct 2025 10:01:31 +0200 (CEST) Received: by mail-pl1-f228.google.com with SMTP id d9443c01a7336-28e7cd6dbc0so7614195ad.0 for ; Thu, 09 Oct 2025 01:01:31 -0700 (PDT) DKIM-Signature: v=1; a=rsa-sha256; c=relaxed/relaxed; d=iol.unh.edu; s=unh-iol; t=1759996890; x=1760601690; darn=dpdk.org; h=references:in-reply-to:cc:to:from:subject:message-id:date:from:to :cc:subject:date:message-id:reply-to; bh=El1o7Xuh1XgO92wVjvQQRGicy96WPODaf8RdBNKbGuk=; b=SdWKMyntwcM+j4URMvkoxeMVfpW3V316Dz2/cQLP6WrVKNCpXzHA0vofGejVt7vS2v 810Yq+YmRXAGRx6o8NfYkk57h/AqKHQWdFHbVBYqEG/PtIr9EB0ZXiW/fapAA4esNJwR yXuMPgxQzBBfU4YLeTNnsvXQ4LlUwnCLq6EXo= X-Google-DKIM-Signature: v=1; a=rsa-sha256; c=relaxed/relaxed; d=1e100.net; s=20230601; t=1759996890; x=1760601690; h=references:in-reply-to:cc:to:from:subject:message-id:date :x-gm-message-state:from:to:cc:subject:date:message-id:reply-to; bh=El1o7Xuh1XgO92wVjvQQRGicy96WPODaf8RdBNKbGuk=; b=oB4zs079MFOhoZHUI0U8BLoweEBXH37Ljrvp/QcnbY3mdT+HZWdLhrBcNFMKzEXbs7 4R787MW004re8CuFC1lzT/MiyAyUOjyF1z8bDEBm1p4FKCd8kYIbIpmUR2uN+u3zH29b 0DNEfMFzOZp89cJMZQC+D9YiEgurL5kqr27eUeLrnxXIzO853LoIX2fMEq7FGZEUSIRS 8hsVix5qJW+HCprFWNRRuwNQajnnpq4Dj5cvopX2BUzKurODzTJcbAp0xQ0m5tsBzosg OBatp5K6B/tcErmefyOt2DsNfGifDmOYudYKGQbskY9KM4bCWavrYvZfdC3UJ50ou1jn SmhQ== X-Gm-Message-State: AOJu0YwJpzjclRFrpYcu9sauqaTmih+7wzmihXyyA0R3ykmNxesNwu/D 72ncUMfpcme8DA8VJF/9kV+mWAmnTdbOnPZ1puBi/4swjn7D287wJf2D5DAe2DpEvF9WIFzCzvC 8jEJnfSFSGBmjpmPi0fz+8iJotDh6pwLD4V3gM3UdNJly X-Gm-Gg: ASbGnculRub876qWspictNGggG2i35XtNw9DeyuTrW0YJnr5DYQikSwPqe+IvTiSRm+ BDeVtXl0AR/D0JkGFyb4MYcDbirEXPZwH2ekZpHuDZerQzw8otChyHY07Vf1F+oDQbLZIOO58M3 HLXhUoCUpPHqaOq8mgr5/Vd0x9a0+uXZwmEEvvYx5kLU8mZq6eFxdyfeAZ9fYXBfcFvxJfx09Oj lU78RWSL+BeuZAH87n2AJRMtnw3UWJ4c3dJhnter3LLe73bjhk8dNIv9ZnsOXVaEmn6gkOLISBW PJPOJMs/DqzMwg8Iqf82MjZZLDBM2ibJRImRB6eaYBUOtTJcYC0GIhJZLa3H4MOs7RlrNvtXTnA HxA== X-Google-Smtp-Source: AGHT+IGHYRxOr5IN5c/Xd2eZqf0dlzKF5f7i8WGHvDynmghm/5tr73SLWZ0MdovPJJDhZx4Ggzx4VC//f3Na X-Received: by 2002:a17:903:1b4d:b0:28e:9a74:7b58 with SMTP id d9443c01a7336-290273ecbb7mr75335745ad.31.1759996890252; Thu, 09 Oct 2025 01:01:30 -0700 (PDT) Received: from postal.iol.unh.edu (postal.iol.unh.edu. [132.177.123.84]) by smtp-relay.gmail.com with ESMTPS id d9443c01a7336-29034efa708sm1738115ad.37.2025.10.09.01.01.30 (version=TLS1_2 cipher=ECDHE-ECDSA-AES128-GCM-SHA256 bits=128/128); Thu, 09 Oct 2025 01:01:30 -0700 (PDT) X-Relaying-Domain: iol.unh.edu Date: Thu, 09 Oct 2025 01:01:30 -0700 (PDT) Message-ID: <68e76bda.170a0220.17f506.93e2SMTPIN_ADDED_MISSING@mx.google.com> Received: from [172.21.0.3] (unknown [172.18.0.240]) by postal.iol.unh.edu (Postfix) with ESMTP id A6F7B60003E8; Thu, 9 Oct 2025 04:01:29 -0400 (EDT) Subject: |SUCCESS| pw157354 [PATCH] eal/riscv: optimize memcpy for small copi From: dpdklab@iol.unh.edu To: Test Report Cc: dpdk-test-reports@iol.unh.edu In-Reply-To: <20251009063030.2776794-1-sunyuechi@iscas.ac.cn> References: <20251009063030.2776794-1-sunyuechi@iscas.ac.cn> Content-Type: text/plain X-BeenThere: test-report@dpdk.org X-Mailman-Version: 2.1.29 Precedence: list List-Id: automatic DPDK test reports List-Unsubscribe: , List-Archive: List-Post: List-Help: List-Subscribe: , Errors-To: test-report-bounces@dpdk.org Test-Label: iol-unit-amd64-testing Test-Status: SUCCESS http://dpdk.org/patch/157354 _Testing PASS_ Submitter: Sun Yuechi Date: Thursday, October 09 2025 06:30:30 DPDK git baseline: Repo:dpdk Branch: master CommitID:2b403dd8fb37d0ba13723e44ffc7ee2c2795f838 157354 --> testing pass Upstream job id: Generic-VM-Unit-Test-DPDK#31683 Test environment and result as below: +-------------------------------+----------------+ | Environment | dpdk_unit_test | +===============================+================+ | CentOS Stream 9 | PASS | +-------------------------------+----------------+ | Fedora Linux 40 | PASS | +-------------------------------+----------------+ | Debian GNU/Linux 12 | PASS | +-------------------------------+----------------+ | Windows Server 2022 | PASS | +-------------------------------+----------------+ | Fedora Linux 41 | PASS | +-------------------------------+----------------+ | Red Hat Enterprise Linux 9.5 | PASS | +-------------------------------+----------------+ | Fedora Linux 42 | PASS | +-------------------------------+----------------+ | Red Hat Enterprise Linux 8.10 | PASS | +-------------------------------+----------------+ | CentOS Stream 10 | PASS | +-------------------------------+----------------+ | Ubuntu 20.04 | PASS | +-------------------------------+----------------+ | Ubuntu 24.04 | PASS | +-------------------------------+----------------+ | Ubuntu 22.04 | PASS | +-------------------------------+----------------+ CentOS Stream 9 Kernel: 5.15 Compiler: gcc gcc (GCC) 11.5.0 20240719 (Red Hat 11.5.0-11) Fedora Linux 40 Kernel: 5.15 Compiler: gcc gcc (GCC) 14.2.1 20240912 (Red Hat 14.2.1-3) Debian GNU/Linux 12 Kernel: 5.15 Compiler: gcc gcc (Debian 12.2.0-14+deb12u1) 12.2.0 Windows Server 2022 Kernel: 10.0.20348.2031 Compiler: clang 15.0.7, gcc 14.1.0 (MinGW), and MSVC VS 19.39.33521 Fedora Linux 41 Kernel: 5.15 Compiler: clang gcc (GCC) 14.3.1 20250523 (Red Hat 14.3.1-1) Red Hat Enterprise Linux 9.5 Kernel: 5.15 Compiler: gcc gcc (GCC) 11.5.0 20240719 (Red Hat 11.5.0-2) Fedora Linux 42 Kernel: 5.15 Compiler: clang gcc (GCC) 15.2.1 20250808 (Red Hat 15.2.1-1) Red Hat Enterprise Linux 8.10 Kernel: 5.15 Compiler: gcc gcc (GCC) 8.5.0 20210514 (Red Hat 8.5.0-22) CentOS Stream 10 Kernel: 5.15 Compiler: gcc gcc (GCC) 14.2.1 20250110 (Red Hat 14.2.1-8) Ubuntu 20.04 Kernel: 5.15 Compiler: gcc gcc (Ubuntu 9.4.0-1ubuntu1~20.04.2) 9.4.0 Ubuntu 24.04 Kernel: 5.15 Compiler: gcc gcc (Ubuntu 13.3.0-6ubuntu2~24.04) 13.3.0 Ubuntu 22.04 Kernel: 5.15 Compiler: gcc gcc (Ubuntu 11.4.0-1ubuntu1~22.04) 11.4.0 To view detailed results, visit: https://lab.dpdk.org/results/dashboard/patchsets/34241/ UNH-IOL DPDK Community Lab To manage your email subscriptions, visit: https://lab.dpdk.org/results/dashboard/preferences/subscriptions/