From mboxrd@z Thu Jan 1 00:00:00 1970 Return-Path: Received: from mails.dpdk.org (mails.dpdk.org [217.70.189.124]) by inbox.dpdk.org (Postfix) with ESMTP id 94B19488EF for ; Thu, 9 Oct 2025 10:21:27 +0200 (CEST) Received: from mails.dpdk.org (localhost [127.0.0.1]) by mails.dpdk.org (Postfix) with ESMTP id 7026940277; Thu, 9 Oct 2025 10:21:27 +0200 (CEST) Received: from mail-io1-f99.google.com (mail-io1-f99.google.com [209.85.166.99]) by mails.dpdk.org (Postfix) with ESMTP id 0622240277 for ; Thu, 9 Oct 2025 10:21:25 +0200 (CEST) Received: by mail-io1-f99.google.com with SMTP id ca18e2360f4ac-93b9022d037so28355739f.2 for ; Thu, 09 Oct 2025 01:21:25 -0700 (PDT) DKIM-Signature: v=1; a=rsa-sha256; c=relaxed/relaxed; d=iol.unh.edu; s=unh-iol; t=1759998085; x=1760602885; darn=dpdk.org; h=references:in-reply-to:cc:to:from:subject:message-id:date:from:to :cc:subject:date:message-id:reply-to; bh=cmncrri1LJLMRjGrU+dfa1ZgWBIKvqv6whog+6ldAkk=; b=L1bg0xp5ny5o0yk00CbZvg6g+CEZbiosVNGtHMrxeRxD//mIyGT+ccviwodLZ0SKO2 /ktRNxDUZMbv9OSqARq8sa4tqWjCPJL4kzDtoN6HXX4fwGSfxD+ibSLxyeJ4b/8JjbY1 a/vj7ThDDQPprA5WE2NYP5w9veAe2o9mQKZfY= X-Google-DKIM-Signature: v=1; a=rsa-sha256; c=relaxed/relaxed; d=1e100.net; s=20230601; t=1759998085; x=1760602885; h=references:in-reply-to:cc:to:from:subject:message-id:date :x-gm-message-state:from:to:cc:subject:date:message-id:reply-to; bh=cmncrri1LJLMRjGrU+dfa1ZgWBIKvqv6whog+6ldAkk=; b=XHgwyqfVD8Hya4FsmXwAVpqxMKDQIuQgamdOr7uwjMEq37yucF7dmT5phb4dqS4PuF +Izf3SMvhAFz1nZoqt6b32/5ZvjAupW1MY3oUnlcu+CKyvjQ+cIPMOnvSc+BjRVwij2D h0R+N56UNKY5YhVZDKXVMjBQln0oKkfXQWWvGF4c0KPmUaCV5KiaoNUC2Kl7sv/I6fNY ZtPGmzGJS6GyWeeozF6VvA97bTe12csvxoKUuVaRg5G6LthLOIkamrxpjbhFfCU3Hjuf ftp0B6iucZ4ohYaFnSEtA/AdHGwzMv/iKA+zanQYBKUh9KwMJtDz9+dGJw3oWLFLIhgm gtVA== X-Gm-Message-State: AOJu0YxN0EU4ul7JZEnlNYj/aGrV7yZBtbFxB38EAyCkkhbY528pAZvw dm2zEXg5+MNn0O4hXezVyViK+fYGfWZc97hOlzQw7Og8jxeHlIjQHDuOQeJ7/TXlGaFuoHdxL0E rRZnyHVQWBD173+ad+kryANaG7siBDHOBpW7AIZu0rbMckTvkonfR7VbBR0KB X-Gm-Gg: ASbGnctLkK+M+SZmXwaASMTtDjGV45/eF95w4LlQMGNRY11p57Niqfwh78GaOu/cPFg girVS3tp3+hY+OEv4KhLSfo7MKGNxlqriMugTDzcCqfu5VFjclE7dVpTe4Kslznde/R8+fu0VMD PS4Took4R8agwhfVRwQdpD3GNTSi9i0JERSXqvyJ8WADxwqwrgmGWNt00ecWYkj0LcGjHu9LYi4 zYyoOdN1csKskxYfwH0rbWhkRvqZEvJnaUdE37a/831ohy+CD11WBD7qMAevTOvfaU/KC2z24I7 QJ2IWiHeL6j0FD17nVUbWWSaFGAZ/7P06oVw0nQefqNxFW7R8MILPHA= X-Google-Smtp-Source: AGHT+IHairpwCAl1LcadghmtY08gZBcN1uD3Yc6mfHbEsT28GX6IwGp06148jRtEc9Qs+j93knBqSEH6bABx X-Received: by 2002:a05:6e02:2513:b0:42f:91ac:bd5 with SMTP id e9e14a558f8ab-42f91ac0ca9mr15003895ab.19.1759998085195; Thu, 09 Oct 2025 01:21:25 -0700 (PDT) Received: from postal.iol.unh.edu (postal.iol.unh.edu. [2606:4100:3880:1234::84]) by smtp-relay.gmail.com with ESMTPS id 8926c6da1cb9f-57b5eaa412fsm1673513173.2.2025.10.09.01.21.25 (version=TLS1_2 cipher=ECDHE-ECDSA-AES128-GCM-SHA256 bits=128/128); Thu, 09 Oct 2025 01:21:25 -0700 (PDT) X-Relaying-Domain: iol.unh.edu Date: Thu, 09 Oct 2025 01:21:25 -0700 (PDT) Message-ID: <68e77085.050a0220.cd73c.9233SMTPIN_ADDED_MISSING@mx.google.com> Received: from [172.21.0.2] (unknown [172.18.0.240]) by postal.iol.unh.edu (Postfix) with ESMTP id B527C6051830; Thu, 9 Oct 2025 04:21:24 -0400 (EDT) Subject: |SUCCESS| pw157353 [PATCH] [v2] net/mlx5: fix age checking crash From: dpdklab@iol.unh.edu To: Test Report Cc: dpdk-test-reports@iol.unh.edu In-Reply-To: <20251009062924.138382-1-rongweil@nvidia.com> References: <20251009062924.138382-1-rongweil@nvidia.com> Content-Type: text/plain X-BeenThere: test-report@dpdk.org X-Mailman-Version: 2.1.29 Precedence: list List-Id: automatic DPDK test reports List-Unsubscribe: , List-Archive: List-Post: List-Help: List-Subscribe: , Errors-To: test-report-bounces@dpdk.org Test-Label: iol-unit-amd64-testing Test-Status: SUCCESS http://dpdk.org/patch/157353 _Testing PASS_ Submitter: Rongwei Liu Date: Thursday, October 09 2025 06:29:24 DPDK git baseline: Repo:dpdk-next-net-mlx Branch: master CommitID:2374f33e1d964e100895fd294966380c46f0886d 157353 --> testing pass Upstream job id: Generic-VM-Unit-Test-DPDK#31684 Test environment and result as below: +-------------------------------+----------------+ | Environment | dpdk_unit_test | +===============================+================+ | CentOS Stream 9 | PASS | +-------------------------------+----------------+ | CentOS Stream 10 | PASS | +-------------------------------+----------------+ | Fedora Linux 40 | PASS | +-------------------------------+----------------+ | Debian GNU/Linux 12 | PASS | +-------------------------------+----------------+ | Fedora Linux 41 | PASS | +-------------------------------+----------------+ | Fedora Linux 42 | PASS | +-------------------------------+----------------+ | Red Hat Enterprise Linux 8.10 | PASS | +-------------------------------+----------------+ | Red Hat Enterprise Linux 9.5 | PASS | +-------------------------------+----------------+ | Ubuntu 24.04 | PASS | +-------------------------------+----------------+ | Ubuntu 20.04 | PASS | +-------------------------------+----------------+ | Ubuntu 22.04 | PASS | +-------------------------------+----------------+ | Windows Server 2022 | PASS | +-------------------------------+----------------+ CentOS Stream 9 Kernel: 5.15 Compiler: gcc gcc (GCC) 11.5.0 20240719 (Red Hat 11.5.0-11) CentOS Stream 10 Kernel: 5.15 Compiler: gcc gcc (GCC) 14.2.1 20250110 (Red Hat 14.2.1-8) Fedora Linux 40 Kernel: 5.15 Compiler: gcc gcc (GCC) 14.2.1 20240912 (Red Hat 14.2.1-3) Debian GNU/Linux 12 Kernel: 5.15 Compiler: gcc gcc (Debian 12.2.0-14+deb12u1) 12.2.0 Fedora Linux 41 Kernel: 5.15 Compiler: clang gcc (GCC) 14.3.1 20250523 (Red Hat 14.3.1-1) Fedora Linux 42 Kernel: 5.15 Compiler: gcc gcc (GCC) 15.2.1 20250808 (Red Hat 15.2.1-1) Red Hat Enterprise Linux 8.10 Kernel: 5.15 Compiler: gcc gcc (GCC) 8.5.0 20210514 (Red Hat 8.5.0-22) Red Hat Enterprise Linux 9.5 Kernel: 5.15 Compiler: gcc gcc (GCC) 11.5.0 20240719 (Red Hat 11.5.0-2) Ubuntu 24.04 Kernel: 5.15 Compiler: gcc gcc (Ubuntu 13.3.0-6ubuntu2~24.04) 13.3.0 Ubuntu 20.04 Kernel: 5.15 Compiler: gcc gcc (Ubuntu 9.4.0-1ubuntu1~20.04.2) 9.4.0 Ubuntu 22.04 Kernel: 5.15 Compiler: gcc gcc (Ubuntu 11.4.0-1ubuntu1~22.04) 11.4.0 Windows Server 2022 Kernel: 10.0.20348.2031 Compiler: clang 15.0.7, gcc 14.1.0 (MinGW), and MSVC VS 19.39.33521 To view detailed results, visit: https://lab.dpdk.org/results/dashboard/patchsets/34242/ UNH-IOL DPDK Community Lab To manage your email subscriptions, visit: https://lab.dpdk.org/results/dashboard/preferences/subscriptions/