From mboxrd@z Thu Jan 1 00:00:00 1970 Return-Path: Received: from mails.dpdk.org (mails.dpdk.org [217.70.189.124]) by inbox.dpdk.org (Postfix) with ESMTP id CAA8B488EF for ; Thu, 9 Oct 2025 11:18:19 +0200 (CEST) Received: from mails.dpdk.org (localhost [127.0.0.1]) by mails.dpdk.org (Postfix) with ESMTP id A264D40277; Thu, 9 Oct 2025 11:18:19 +0200 (CEST) Received: from mail-qv1-f97.google.com (mail-qv1-f97.google.com [209.85.219.97]) by mails.dpdk.org (Postfix) with ESMTP id CF62340277 for ; Thu, 9 Oct 2025 11:18:17 +0200 (CEST) Received: by mail-qv1-f97.google.com with SMTP id 6a1803df08f44-81efcad9c90so9217576d6.0 for ; Thu, 09 Oct 2025 02:18:17 -0700 (PDT) DKIM-Signature: v=1; a=rsa-sha256; c=relaxed/relaxed; d=iol.unh.edu; s=unh-iol; t=1760001497; x=1760606297; darn=dpdk.org; h=references:in-reply-to:cc:to:from:subject:message-id:date:from:to :cc:subject:date:message-id:reply-to; bh=MXdq0edPORHl56B07zBuj4fR+p1Dw+lGNQiNXDtF4bw=; b=REYki60u5vAofBgE23FjT7OroAW58HLm3V/qP0FTtXVoQwaj9s2OMW5IylDZv6ZA2s AwrU8ZnebSRNTledjZws/2QtYo2Fnx58idc48hL0aj1y8xUrOOmyTZIwYABm9QM+1uyd 6ktslVnwj5Xw9WBbQ4pHlLjBRjfDUZk+/xBkY= X-Google-DKIM-Signature: v=1; a=rsa-sha256; c=relaxed/relaxed; d=1e100.net; s=20230601; t=1760001497; x=1760606297; h=references:in-reply-to:cc:to:from:subject:message-id:date :x-gm-message-state:from:to:cc:subject:date:message-id:reply-to; bh=MXdq0edPORHl56B07zBuj4fR+p1Dw+lGNQiNXDtF4bw=; b=XDhmVrR1SQicoyiFI37D/UBmTmx2TOiopBGAMoRtwNHRlHQy87Yyrk+j+KjFkYr5VA tCcrjV6B0QASnavtJZiRFXGiuUxjqH8/jvACGTicZTsff4miRM8U333ZPA3g95iXTVAJ Na21m0q3R9XoOGQeWtt+88a6ktAz+jkQQKmSl1DHqW3/6GSbP70HZGPvfQqcLq7A6D+t 3+5eq6Fg9kBqMtTEeLewVIei7YmWX9JI/59YVsf4uuwnFUEoJNTiCVFNKckk/+RUsotC 75ZbzdGlzX4m5cri9vNsF4K/D3jFxzcvvHDrV0UwXV5G7yq+3v5zpUw6qbthx4uG2GCy ivwQ== X-Gm-Message-State: AOJu0YwgHShdc9dY201++bWK71staJgl7ag3QW1xYxQ9Bsz793C/x9Lu iaZMMEt9dZPQrTI73eSbAW+VEnlqJCDMC6R/V/nTPe3Uhq2YJkTlrwJbyrG8bBmJzo+g24aI46o tgUyDjyxbr6g9psI+mEkbkMSgNkP6sT0yBq2nXIq1jJSY X-Gm-Gg: ASbGncu7XXeOYEn8rzYyEsieEAKfuU4/3vg8eOFABbeLKma9lGkdlFaLJQRE2uJ+GeO wUQRAQZBG2x2xkwqnXDRt0iHpH5hQg4HgLe7ULKiANC1UQfz8rKbrONmcKtqT36Zdf9LvtE7Jr0 6ryWno3N750QXF64WwUb7GzW+NDknZ2ni6+5jHhc7l4nwQ127QgNAk4QkempD91VTTix0bya1XG LpTVB30Qoih7m1FiZ7mNZdV5AbfxWPbyJ9V2cVu8EETgXs351k5DZNchC1/MpqkfDcsxeZjbOrJ jeDkvsQpUUrXyaWpfMWnlrD/m0k05TebHVylCvhGmronCNVnHeD5sfyQpf2W0Q7REZrltQ5T8Ab Zsg== X-Google-Smtp-Source: AGHT+IH++KiR+vC1ZPJEoefMtsrIOzzXqun5+A+cZLK2cR6TCpnQgq8yumWrEGyha89lepngfUntpI1luBnU X-Received: by 2002:a05:6214:caa:b0:7f8:6791:2076 with SMTP id 6a1803df08f44-87b2ef951e0mr84751146d6.64.1760001497094; Thu, 09 Oct 2025 02:18:17 -0700 (PDT) Received: from postal.iol.unh.edu (postal.iol.unh.edu. [132.177.123.84]) by smtp-relay.gmail.com with ESMTPS id 6a1803df08f44-878bda6f2fesm17835716d6.27.2025.10.09.02.18.17 (version=TLS1_2 cipher=ECDHE-ECDSA-AES128-GCM-SHA256 bits=128/128); Thu, 09 Oct 2025 02:18:17 -0700 (PDT) X-Relaying-Domain: iol.unh.edu Date: Thu, 09 Oct 2025 02:18:17 -0700 (PDT) Message-ID: <68e77dd9.050a0220.476a3.f317SMTPIN_ADDED_MISSING@mx.google.com> Received: from [172.21.0.2] (unknown [172.18.0.240]) by postal.iol.unh.edu (Postfix) with ESMTP id C02C060003E8; Thu, 9 Oct 2025 05:18:16 -0400 (EDT) Subject: |SUCCESS| pw157323-157328 [PATCH] [v2,6/6] vhost: changes to functio From: dpdklab@iol.unh.edu To: Test Report Cc: dpdk-test-reports@iol.unh.edu, Chenbo Xia , Maxime Coquelin In-Reply-To: <20251008090444.2689652-7-pravin.bathija@dell.com> References: <20251008090444.2689652-7-pravin.bathija@dell.com> Content-Type: text/plain X-BeenThere: test-report@dpdk.org X-Mailman-Version: 2.1.29 Precedence: list List-Id: automatic DPDK test reports List-Unsubscribe: , List-Archive: List-Post: List-Help: List-Subscribe: , Errors-To: test-report-bounces@dpdk.org Test-Label: iol-unit-arm64-testing Test-Status: SUCCESS http://dpdk.org/patch/157328 _Testing PASS_ Submitter: Bathija, Pravin Date: Wednesday, October 08 2025 09:04:44 DPDK git baseline: Repo:dpdk-next-virtio Branch: master CommitID:4159ea62922ce41566c7bab44655ad78bee85458 157323-157328 --> testing pass Upstream job id: Generic-Unit-Test-DPDK#379580 Test environment and result as below: +------------------------------+----------------+--------------+------------------------------+---------------------------+ | Environment | dpdk_unit_test | lpm_autotest | cryptodev_sw_snow3g_autotest | cryptodev_sw_zuc_autotest | +==============================+================+==============+==============================+===========================+ | Ubuntu 22.04 | PASS | SKIPPED | SKIPPED | SKIPPED | +------------------------------+----------------+--------------+------------------------------+---------------------------+ | CentOS Stream 10 | PASS | SKIPPED | SKIPPED | SKIPPED | +------------------------------+----------------+--------------+------------------------------+---------------------------+ | CentOS Stream 9 | PASS | SKIPPED | SKIPPED | SKIPPED | +------------------------------+----------------+--------------+------------------------------+---------------------------+ | Fedora Linux 40 | PASS | SKIPPED | SKIPPED | SKIPPED | +------------------------------+----------------+--------------+------------------------------+---------------------------+ | Debian GNU/Linux 12 | PASS | SKIPPED | SKIPPED | SKIPPED | +------------------------------+----------------+--------------+------------------------------+---------------------------+ | Fedora Linux 41 | PASS | SKIPPED | SKIPPED | SKIPPED | +------------------------------+----------------+--------------+------------------------------+---------------------------+ | Fedora Linux 42 | PASS | SKIPPED | SKIPPED | SKIPPED | +------------------------------+----------------+--------------+------------------------------+---------------------------+ | Red Hat Enterprise Linux 9.5 | PASS | SKIPPED | SKIPPED | SKIPPED | +------------------------------+----------------+--------------+------------------------------+---------------------------+ | Ubuntu 24.04 | PASS | SKIPPED | SKIPPED | SKIPPED | +------------------------------+----------------+--------------+------------------------------+---------------------------+ | Ubuntu 20.04 | PASS | PASS | SKIPPED | SKIPPED | +------------------------------+----------------+--------------+------------------------------+---------------------------+ | Debian 12 (arm) | SKIPPED | SKIPPED | PASS | PASS | +------------------------------+----------------+--------------+------------------------------+---------------------------+ Ubuntu 22.04 Kernel: 5.15 Compiler: gcc gcc (Ubuntu 11.4.0-1ubuntu1~22.04.2) 11.4.0 CentOS Stream 10 Kernel: 5.4 Compiler: gcc gcc (GCC) 14.2.1 20250110 (Red Hat 14.2.1-8) CentOS Stream 9 Kernel: 5.4 Compiler: gcc gcc (GCC) 11.5.0 20240719 (Red Hat 11.5.0-11) Fedora Linux 40 Kernel: 5.4 Compiler: gcc gcc (GCC) 14.2.1 20240912 (Red Hat 14.2.1-3) Debian GNU/Linux 12 Kernel: 5.4 Compiler: gcc gcc (Debian 12.2.0-14+deb12u1) 12.2.0 Fedora Linux 41 Kernel: 5.4 Compiler: gcc gcc (GCC) 14.3.1 20250523 (Red Hat 14.3.1-1) Fedora Linux 42 Kernel: 5.4 Compiler: clang gcc (GCC) 15.2.1 20250808 (Red Hat 15.2.1-1) Red Hat Enterprise Linux 9.5 Kernel: 5.4 Compiler: gcc gcc (GCC) 11.5.0 20240719 (Red Hat 11.5.0-2) Ubuntu 24.04 Kernel: 5.4 Compiler: gcc gcc (Ubuntu 13.3.0-6ubuntu2~24.04) 13.3.0 Ubuntu 20.04 Kernel: 5.4 Compiler: gcc gcc (Ubuntu 9.4.0-1ubuntu1~20.04.2) 9.4.0 Debian 12 (arm) Kernel: Depends on container host Compiler: gcc (Debian 12.2.0-14) 12.2.0 To view detailed results, visit: https://lab.dpdk.org/results/dashboard/patchsets/34236/ UNH-IOL DPDK Community Lab To manage your email subscriptions, visit: https://lab.dpdk.org/results/dashboard/preferences/subscriptions/