From mboxrd@z Thu Jan 1 00:00:00 1970 Return-Path: Received: from mails.dpdk.org (mails.dpdk.org [217.70.189.124]) by inbox.dpdk.org (Postfix) with ESMTP id 6ED9D488EF for ; Thu, 9 Oct 2025 11:32:01 +0200 (CEST) Received: from mails.dpdk.org (localhost [127.0.0.1]) by mails.dpdk.org (Postfix) with ESMTP id 4A1AE40277; Thu, 9 Oct 2025 11:32:01 +0200 (CEST) Received: from mail-io1-f100.google.com (mail-io1-f100.google.com [209.85.166.100]) by mails.dpdk.org (Postfix) with ESMTP id 005ED40277 for ; Thu, 9 Oct 2025 11:31:59 +0200 (CEST) Received: by mail-io1-f100.google.com with SMTP id ca18e2360f4ac-92c4adc8bfeso74238739f.0 for ; Thu, 09 Oct 2025 02:31:59 -0700 (PDT) DKIM-Signature: v=1; a=rsa-sha256; c=relaxed/relaxed; d=iol.unh.edu; s=unh-iol; t=1760002319; x=1760607119; darn=dpdk.org; h=references:in-reply-to:cc:to:from:subject:message-id:date:from:to :cc:subject:date:message-id:reply-to; bh=k87lDDnharwfRUmfrRObQTl46p+mDnwipYb2gmO/IN4=; b=CH4oUOMtpVJ3tIqoIFXDfsV6VDr03braPd+vMVlsY2AP4ODUu9VVkuRX8B+YAQ257u flwqwTLp85rZmsFddzyvEyFoIGyoS0qzMJdLxRVh9xQF/TuvHxOHaY7RrpRFIF4Th6c+ 5mW6VMesPjQ7vcp0QRgMWciGRU6nTc9NwFA74= X-Google-DKIM-Signature: v=1; a=rsa-sha256; c=relaxed/relaxed; d=1e100.net; s=20230601; t=1760002319; x=1760607119; h=references:in-reply-to:cc:to:from:subject:message-id:date :x-gm-message-state:from:to:cc:subject:date:message-id:reply-to; bh=k87lDDnharwfRUmfrRObQTl46p+mDnwipYb2gmO/IN4=; b=GYyop55ylgh1pFkVg5k8aOUa1bS4Wm8+PDSoZNsycSBJqIn+LnIpzUYsZ2I3R6m1EA 4MpHQQQcUl1CxRIW11x9IzYSI7ONAvSmX6iKZNMvYVao0dRHmDRp1RTZrnDGwcdmJeeH E8vG7ehM+2Rn/0QYvJtwwB5nHpTE3i/+EypqjJDjRBEpzBG7GS89Mpc4zUuOum1pByso BdGVe8HIKxQt/EW9lH5a1RBbuBi/krlIkile6Mm3oPUY8vs8bvl1aFIjyQQDuhjkbARM +NGusZm6wX5YMI10NrFu4qfwGegow8tGMm7Y21iE0VCNnRSd9Ae45qeb9/poT3tXfOQV clvw== X-Gm-Message-State: AOJu0Yw0LHXuQMBrW7CWl+wjie95ULQcIGp22SQGIR74f7tGIiWuMqvd WGZFulEc+Xz/wCl5yOezcsqNhxM9x07PJ/w1eQ5pY2ZsOYOLN+cjV7188SEAXjau/QKd733z2t2 V2NvquXRhelqYO/uJ3XNSJqsoPYZm99uOILzidgvEGKo6Y86B2EAXL7CUrFgD X-Gm-Gg: ASbGncsKb3ohW7uqjlQG5q5NAnkKCgUm1AfyaE4FEE7WMGb3oBIz/1W6hqc8yTYQz8n 9nGJpbbEGbmONxnmhnwLHZG9UaToQzk9LrQpt9fX1aj+Nt4nBcbOC1WEmUsWfEAI20nYGb/pKlQ KAZVfANUT2xAPpYTCLG68cYE66UElwKPJ3gFKhvABGsPoPTPsvuL00PremAwW7y0uAekQdTKmP0 FKHkODK47IZTNZ7zkf362nRxYvB9hFoEAaJO2/Uu6XKwgmVn/PrTeUbVePGTf7tWXLzzp+FtMqY krskRj+3F3GMrcU6SNbHyGwVvGoPaHgPlspO+FVn39WjDQtKTGuEhSk= X-Google-Smtp-Source: AGHT+IHO06u1fIuFrfnvQTEnogc3hgD8v08eQFb9QwxoxV1LMPTAxF0OBWN/F2I2wwWpvyrJ0ULYer+KRwgI X-Received: by 2002:a05:6e02:3a04:b0:42d:7dea:1e2b with SMTP id e9e14a558f8ab-42f874010b9mr59085565ab.24.1760002319157; Thu, 09 Oct 2025 02:31:59 -0700 (PDT) Received: from postal.iol.unh.edu (postal.iol.unh.edu. [2606:4100:3880:1234::84]) by smtp-relay.gmail.com with ESMTPS id 8926c6da1cb9f-57b5eaae858sm1583325173.7.2025.10.09.02.31.59 (version=TLS1_2 cipher=ECDHE-ECDSA-AES128-GCM-SHA256 bits=128/128); Thu, 09 Oct 2025 02:31:59 -0700 (PDT) X-Relaying-Domain: iol.unh.edu Date: Thu, 09 Oct 2025 02:31:59 -0700 (PDT) Message-ID: <68e7810f.050a0220.335f6e.50d2SMTPIN_ADDED_MISSING@mx.google.com> Received: from [172.21.0.6] (unknown [172.18.0.240]) by postal.iol.unh.edu (Postfix) with ESMTP id 9A7096051830; Thu, 9 Oct 2025 05:31:58 -0400 (EDT) Subject: |SUCCESS| pw157321 [PATCH] [v6] net/intel: add IDPF PCI class ID sup From: dpdklab@iol.unh.edu To: Test Report Cc: dpdk-test-reports@iol.unh.edu, Bruce Richardson In-Reply-To: <20251006181239.362664-1-venkatesh.vemula@intel.com> References: <20251006181239.362664-1-venkatesh.vemula@intel.com> Content-Type: text/plain X-BeenThere: test-report@dpdk.org X-Mailman-Version: 2.1.29 Precedence: list List-Id: automatic DPDK test reports List-Unsubscribe: , List-Archive: List-Post: List-Help: List-Subscribe: , Errors-To: test-report-bounces@dpdk.org Test-Label: iol-compile-arm64-testing Test-Status: SUCCESS http://dpdk.org/patch/157321 _Testing PASS_ Submitter: Venkatesh Vemula Date: Monday, October 06 2025 18:12:39 DPDK git baseline: Repo:dpdk-next-net-intel Branch: master CommitID:e7d8cc7ef4df3552575525697079d3c957cfcdaf 157321 --> testing pass Upstream job id: Generic-DPDK-Compile-Meson#432532 Test environment and result as below: +------------------------------+--------------------+ | Environment | dpdk_meson_compile | +==============================+====================+ | Red Hat Enterprise Linux 9.5 | PASS | +------------------------------+--------------------+ | Ubuntu 20.04 | PASS | +------------------------------+--------------------+ | Debian GNU/Linux 12 | PASS | +------------------------------+--------------------+ | Fedora Linux 42 | PASS | +------------------------------+--------------------+ | Ubuntu 22.04 | PASS | +------------------------------+--------------------+ | Ubuntu 24.04 | PASS | +------------------------------+--------------------+ | CentOS Stream 9 | PASS | +------------------------------+--------------------+ | CentOS Stream 10 | PASS | +------------------------------+--------------------+ Red Hat Enterprise Linux 9.5 Kernel: 5.4 Compiler: gcc gcc (GCC) 11.5.0 20240719 (Red Hat 11.5.0-2) Ubuntu 20.04 Kernel: 5.15 Compiler: aarch64-linux-gnu-gcc gcc (Ubuntu 9.4.0-1ubuntu1~20.04.2) 9.4.0 Debian GNU/Linux 12 Kernel: 5.4 Compiler: gcc gcc (Debian 12.2.0-14+deb12u1) 12.2.0 Fedora Linux 42 Kernel: 5.4 Compiler: gcc gcc (GCC) 15.2.1 20250808 (Red Hat 15.2.1-1) Ubuntu 22.04 Kernel: 5.4 Compiler: gcc gcc (Ubuntu 11.4.0-1ubuntu1~22.04) 11.4.0 Ubuntu 24.04 Kernel: 5.4 Compiler: gcc gcc (Ubuntu 13.3.0-6ubuntu2~24.04) 13.3.0 CentOS Stream 9 Kernel: 5.4 Compiler: gcc gcc (GCC) 11.5.0 20240719 (Red Hat 11.5.0-11) CentOS Stream 10 Kernel: 5.4 Compiler: gcc gcc (GCC) 14.2.1 20250110 (Red Hat 14.2.1-8) To view detailed results, visit: https://lab.dpdk.org/results/dashboard/patchsets/34234/ UNH-IOL DPDK Community Lab To manage your email subscriptions, visit: https://lab.dpdk.org/results/dashboard/preferences/subscriptions/