From mboxrd@z Thu Jan 1 00:00:00 1970 Return-Path: Received: from mails.dpdk.org (mails.dpdk.org [217.70.189.124]) by inbox.dpdk.org (Postfix) with ESMTP id A3F8D488EF for ; Thu, 9 Oct 2025 11:33:59 +0200 (CEST) Received: from mails.dpdk.org (localhost [127.0.0.1]) by mails.dpdk.org (Postfix) with ESMTP id 8233740277; Thu, 9 Oct 2025 11:33:59 +0200 (CEST) Received: from mail-io1-f97.google.com (mail-io1-f97.google.com [209.85.166.97]) by mails.dpdk.org (Postfix) with ESMTP id D367C40277 for ; Thu, 9 Oct 2025 11:33:58 +0200 (CEST) Received: by mail-io1-f97.google.com with SMTP id ca18e2360f4ac-9298eba27c2so31120839f.3 for ; Thu, 09 Oct 2025 02:33:58 -0700 (PDT) DKIM-Signature: v=1; a=rsa-sha256; c=relaxed/relaxed; d=iol.unh.edu; s=unh-iol; t=1760002438; x=1760607238; darn=dpdk.org; h=references:in-reply-to:cc:to:from:subject:message-id:date:from:to :cc:subject:date:message-id:reply-to; bh=Z1JJlbpFwj3N5I7rxW9p/aVmBixPbnomGbLeN3FsNkc=; b=YqW73aWe7B2zSctsuLCbIXx98WonE/a0xTdzcoamwqFHR4D2VqQJEmCBDUhRcDqb03 skS6qTiWpilAT4OF8JMHkPVpAkPmXueg3jOyadCVrq7jZqFuFAFjH6DakMfv1Y8C9fIB Ad9KCMwRsionY5KIHm+28U02Y/7PU6SdQXJ9Q= X-Google-DKIM-Signature: v=1; a=rsa-sha256; c=relaxed/relaxed; d=1e100.net; s=20230601; t=1760002438; x=1760607238; h=references:in-reply-to:cc:to:from:subject:message-id:date :x-gm-message-state:from:to:cc:subject:date:message-id:reply-to; bh=Z1JJlbpFwj3N5I7rxW9p/aVmBixPbnomGbLeN3FsNkc=; b=b+gCK6LZkAbvhAP1cTbOJvjyXfW44Ic8WcKhYkfSnGjRZ8b0TcrJ6jsNfVsDmucl7H 06CiD/JIADM3lTuC60mX20lS7M3Kqqdnxz+dZvM/fHgla1jZmaBKVdAktYmj5iWctR2e YR8RWfnusW69LOHXVZW/k7KVJvlqsINhAz9b8SOSLtc9yUndu1NvQmuewiYNzEwGAA2Z eRy7dC8Gmd7wMQiDoJL89NMBIFr+NDztEO2u15buDhVHO4UoeBPXDJPE+0EwO2+7oLI6 /zbTX37WliNXXJ0KwhuU2F7AUw4quu00wBxMyZnsLoGdXOL4nBZCcc/liFjOC/SBLA7A s/LQ== X-Gm-Message-State: AOJu0Ywh0KC0dMuAfWsuZNYcU/XBHsZgFB1y3SbdCHw22qv0lHwS4GqS kxwc/CeznIR8y5GO8q1RQifEvZW7dN82DOuoTrl1eXeiWUxwzw6ghb8mSiTxCtLB38gGNtx924Y SjGd/727vLzeQNy2Ieae0qV0aQE63KEQBW2rqIbNGniBi X-Gm-Gg: ASbGncvh4GdBH/BDaMKKnfugadsdaqIP6TuwxD8qGcuFT1vD/3bk/a7eYXyRqBPrTIZ XQBWXI59x6RF1m+VuIT3FjISZAdT18vhOaZegC3bOTDGCFJsCc+prpeL+hfsQByJ6VxsD/O8vlP o+wyONiyFYymijccCXWN9ttgYxJq1CWkdp9NphKQmjyR2k7vH0YrIX5llAyyJk+OfBcPMVkgIwj w1PQvd5WdzYFf3w16lhrE45wCTvLXVOl2LBjgEk12rJHkhxBiyCzfhARlz+ia+Gm+B3uJCOvlWz NGGBhI4iw6DQ2dWrSG6E3rA89El16yMfwLYRruPI/u1PHYDFArG+I5ahCZWQqu1gilynXt6Cb/j pew== X-Google-Smtp-Source: AGHT+IEo1rBgbpLjrFcrYEiCjZK4eIYXr9SYjv12ZVZEEhrxlbEz15MdHH24FEvfuc1s9GgCEL1AIsIe8OB6 X-Received: by 2002:a05:6e02:2308:b0:40d:e7d8:63fa with SMTP id e9e14a558f8ab-42f8740ac19mr59917975ab.26.1760002438127; Thu, 09 Oct 2025 02:33:58 -0700 (PDT) Received: from postal.iol.unh.edu (postal.iol.unh.edu. [132.177.123.84]) by smtp-relay.gmail.com with ESMTPS id e9e14a558f8ab-42f9031307esm1480815ab.17.2025.10.09.02.33.58 (version=TLS1_2 cipher=ECDHE-ECDSA-AES128-GCM-SHA256 bits=128/128); Thu, 09 Oct 2025 02:33:58 -0700 (PDT) X-Relaying-Domain: iol.unh.edu Date: Thu, 09 Oct 2025 02:33:58 -0700 (PDT) Message-ID: <68e78186.920a0220.1b7822.7abdSMTPIN_ADDED_MISSING@mx.google.com> Received: from [172.21.0.2] (unknown [172.18.0.240]) by postal.iol.unh.edu (Postfix) with ESMTP id A563F6051830; Thu, 9 Oct 2025 05:33:57 -0400 (EDT) Subject: |SUCCESS| pw157320 [PATCH] app/crypto-perf: add ECDSA P192/P224/P521 From: dpdklab@iol.unh.edu To: Test Report Cc: dpdk-test-reports@iol.unh.edu, Akhil Goyal In-Reply-To: <20251008054059.3934959-1-rchiluka@marvell.com> References: <20251008054059.3934959-1-rchiluka@marvell.com> Content-Type: text/plain X-BeenThere: test-report@dpdk.org X-Mailman-Version: 2.1.29 Precedence: list List-Id: automatic DPDK test reports List-Unsubscribe: , List-Archive: List-Post: List-Help: List-Subscribe: , Errors-To: test-report-bounces@dpdk.org Test-Label: iol-compile-arm64-testing Test-Status: SUCCESS http://dpdk.org/patch/157320 _Testing PASS_ Submitter: Rupesh Chiluka Date: Wednesday, October 08 2025 05:40:59 DPDK git baseline: Repo:dpdk-next-crypto Branch: master CommitID:2aa7141a4e2c78e3cce03dbd613532a2166123c1 157320 --> testing pass Upstream job id: Generic-DPDK-Compile-Meson#432510 Test environment and result as below: +------------------------------+--------------------+ | Environment | dpdk_meson_compile | +==============================+====================+ | Red Hat Enterprise Linux 9.5 | PASS | +------------------------------+--------------------+ | Ubuntu 20.04 | PASS | +------------------------------+--------------------+ | Debian GNU/Linux 12 | PASS | +------------------------------+--------------------+ | Fedora Linux 42 | PASS | +------------------------------+--------------------+ | Ubuntu 22.04 | PASS | +------------------------------+--------------------+ | Ubuntu 24.04 | PASS | +------------------------------+--------------------+ | CentOS Stream 9 | PASS | +------------------------------+--------------------+ | CentOS Stream 10 | PASS | +------------------------------+--------------------+ Red Hat Enterprise Linux 9.5 Kernel: 5.4 Compiler: gcc gcc (GCC) 11.5.0 20240719 (Red Hat 11.5.0-2) Ubuntu 20.04 Kernel: 5.15 Compiler: aarch64-linux-gnu-gcc gcc (Ubuntu 9.4.0-1ubuntu1~20.04.2) 9.4.0 Debian GNU/Linux 12 Kernel: 5.4 Compiler: gcc gcc (Debian 12.2.0-14+deb12u1) 12.2.0 Fedora Linux 42 Kernel: 5.4 Compiler: gcc gcc (GCC) 15.2.1 20250808 (Red Hat 15.2.1-1) Ubuntu 22.04 Kernel: 5.4 Compiler: gcc gcc (Ubuntu 11.4.0-1ubuntu1~22.04) 11.4.0 Ubuntu 24.04 Kernel: 5.4 Compiler: gcc gcc (Ubuntu 13.3.0-6ubuntu2~24.04) 13.3.0 CentOS Stream 9 Kernel: 5.4 Compiler: gcc gcc (GCC) 11.5.0 20240719 (Red Hat 11.5.0-11) CentOS Stream 10 Kernel: 5.4 Compiler: gcc gcc (GCC) 14.2.1 20250110 (Red Hat 14.2.1-8) To view detailed results, visit: https://lab.dpdk.org/results/dashboard/patchsets/34233/ UNH-IOL DPDK Community Lab To manage your email subscriptions, visit: https://lab.dpdk.org/results/dashboard/preferences/subscriptions/