From mboxrd@z Thu Jan 1 00:00:00 1970 Return-Path: Received: from mails.dpdk.org (mails.dpdk.org [217.70.189.124]) by inbox.dpdk.org (Postfix) with ESMTP id 9ECC7488EF for ; Thu, 9 Oct 2025 11:34:23 +0200 (CEST) Received: from mails.dpdk.org (localhost [127.0.0.1]) by mails.dpdk.org (Postfix) with ESMTP id 9AA3B40277; Thu, 9 Oct 2025 11:34:23 +0200 (CEST) Received: from mail-oa1-f99.google.com (mail-oa1-f99.google.com [209.85.160.99]) by mails.dpdk.org (Postfix) with ESMTP id EA24540277 for ; Thu, 9 Oct 2025 11:34:22 +0200 (CEST) Received: by mail-oa1-f99.google.com with SMTP id 586e51a60fabf-3544c64380eso1043212fac.3 for ; Thu, 09 Oct 2025 02:34:22 -0700 (PDT) DKIM-Signature: v=1; a=rsa-sha256; c=relaxed/relaxed; d=iol.unh.edu; s=unh-iol; t=1760002462; x=1760607262; darn=dpdk.org; h=references:in-reply-to:cc:to:from:subject:message-id:date:from:to :cc:subject:date:message-id:reply-to; bh=QaCRwvqDbNgUw7B3aQwjDpntA9kbs1qyJ71u8FdtC+s=; b=XuRvpv2LgxA3RmEjiMhAN/al7yc0UngCdVkN5uRGQRYmT0J3dNqs+KnEb1Pkfsm2zO GjC14XtOwDo9tn0ZugBPrPcCBytiAQ00kD0mHw9D8tSvcRw11/oiXWER9T4GStcOvpzT CNoedC/Vkxr5JTjdRE1HvSIWubvxDRiPJSBfw= X-Google-DKIM-Signature: v=1; a=rsa-sha256; c=relaxed/relaxed; d=1e100.net; s=20230601; t=1760002462; x=1760607262; h=references:in-reply-to:cc:to:from:subject:message-id:date :x-gm-message-state:from:to:cc:subject:date:message-id:reply-to; bh=QaCRwvqDbNgUw7B3aQwjDpntA9kbs1qyJ71u8FdtC+s=; b=SoibUFD0inXF8srWZawQSw3ujlRRZq6eAGa3juqcOSlgWHQrcIpTFPcUAY8WoiZzpF u0QEuLM8s8DTawAy+l2K+foS0GbMrRMgdPTw1jzZX7QyOqiE2YcfToN2EWU63zMroiPT pmo0sAtYkeBtEMW1pTEZq9MDvubrp4MBWcYd4rMi7lP7Ak56gIip3wo63Ak3bw/kncz0 NGUhioeEqET3WVNzpn9m1iiKyNJtV1/YxAnjg4H3GVccqsCngPaZLdntewzR1290te37 YJeMQtJY8Vx9BkpSxGdOFX6bi9d69IwccQYBbsAlj0Epl3be9xL0yoGOWPNa4IVOP40q csbg== X-Gm-Message-State: AOJu0YwBLJmnpvLClbtLH/PvMnXu0XAtixe+E+7CQrelI710ditO248W 6k10rJBPWBtwqHLLPxFcD72ItJQPhznx7eTIQn2eBpmxc8zS/aBDvtAADhGc9nxJFY3843LuD7+ 1q2GGGEf6TFMYrBWM9n84/syDRttDzFPPOrqg/+DkIr7ENfc2Kz3qUovFL4zo X-Gm-Gg: ASbGnct4i/gBAVSD75PKCWr1nVswMOT6kunaNfHz69+79HU7uRGy8LGBVxJv0Sxd4Mk 9qc14YyyhhN5Fz0HhoHqH+ev7l5yrXiSYt0foymSo7baRircVscyZ5cLF24ib1lug9q5CQdYSFN NYYau2gCF/U1tN29UDUSkSHbjMH30EtGt9R/a80mxQCyQx18RLX3030P38aIKuOIRZmH/egV7zf AXKJ8tyvVpev49ZsK7UsPDF31+2HZf4xghMmyhGhkAy7HyN1rmsAPpVJzDV8/+AJ56TUf8T+QtA fHjMbYRtAm1RSoRgGdfNrddrkbX92U2B7uhDesefqLT5y01GqKJsV1M= X-Google-Smtp-Source: AGHT+IE+JsNM2z3bDZDTz+SoV45F+5L3N2eb12AVq5xXhBOgHvZ/d/TQ8fDe6Pz4Z3Ygaz5Biv3qZgCfhsLZ X-Received: by 2002:a05:6870:810f:b0:36f:6985:82d7 with SMTP id 586e51a60fabf-3c0fa2691ffmr4559122fac.32.1760002462112; Thu, 09 Oct 2025 02:34:22 -0700 (PDT) Received: from postal.iol.unh.edu (postal.iol.unh.edu. [2606:4100:3880:1234::84]) by smtp-relay.gmail.com with ESMTPS id 586e51a60fabf-3ab79f51586sm1743924fac.3.2025.10.09.02.34.22 (version=TLS1_2 cipher=ECDHE-ECDSA-AES128-GCM-SHA256 bits=128/128); Thu, 09 Oct 2025 02:34:22 -0700 (PDT) X-Relaying-Domain: iol.unh.edu Date: Thu, 09 Oct 2025 02:34:22 -0700 (PDT) Message-ID: <68e7819e.050a0220.26cf16.ccc3SMTPIN_ADDED_MISSING@mx.google.com> Received: from [172.21.0.4] (unknown [172.18.0.240]) by postal.iol.unh.edu (Postfix) with ESMTP id A201C6051830; Thu, 9 Oct 2025 05:34:21 -0400 (EDT) Subject: |SUCCESS| pw157323-157328 [PATCH] [v2,6/6] vhost: changes to functio From: dpdklab@iol.unh.edu To: Test Report Cc: dpdk-test-reports@iol.unh.edu, Chenbo Xia , Maxime Coquelin In-Reply-To: <20251008090444.2689652-7-pravin.bathija@dell.com> References: <20251008090444.2689652-7-pravin.bathija@dell.com> Content-Type: text/plain X-BeenThere: test-report@dpdk.org X-Mailman-Version: 2.1.29 Precedence: list List-Id: automatic DPDK test reports List-Unsubscribe: , List-Archive: List-Post: List-Help: List-Subscribe: , Errors-To: test-report-bounces@dpdk.org Test-Label: iol-compile-arm64-testing Test-Status: SUCCESS http://dpdk.org/patch/157328 _Testing PASS_ Submitter: Bathija, Pravin Date: Wednesday, October 08 2025 09:04:44 DPDK git baseline: Repo:dpdk-next-virtio Branch: master CommitID:4159ea62922ce41566c7bab44655ad78bee85458 157323-157328 --> testing pass Upstream job id: Generic-DPDK-Compile-Meson#432584 Test environment and result as below: +------------------------------+--------------------+ | Environment | dpdk_meson_compile | +==============================+====================+ | Ubuntu 20.04 | PASS | +------------------------------+--------------------+ | Red Hat Enterprise Linux 9.5 | PASS | +------------------------------+--------------------+ | Debian GNU/Linux 12 | PASS | +------------------------------+--------------------+ | Fedora Linux 42 | PASS | +------------------------------+--------------------+ | Ubuntu 22.04 | PASS | +------------------------------+--------------------+ | Ubuntu 24.04 | PASS | +------------------------------+--------------------+ | CentOS Stream 9 | PASS | +------------------------------+--------------------+ | CentOS Stream 10 | PASS | +------------------------------+--------------------+ Ubuntu 20.04 Kernel: 5.4 Compiler: gcc gcc (Ubuntu 9.4.0-1ubuntu1~20.04.2) 9.4.0 Red Hat Enterprise Linux 9.5 Kernel: 5.4 Compiler: gcc gcc (GCC) 11.5.0 20240719 (Red Hat 11.5.0-2) Debian GNU/Linux 12 Kernel: 5.4 Compiler: gcc gcc (Debian 12.2.0-14+deb12u1) 12.2.0 Fedora Linux 42 Kernel: 5.4 Compiler: gcc gcc (GCC) 15.2.1 20250808 (Red Hat 15.2.1-1) Ubuntu 22.04 Kernel: 5.4 Compiler: gcc gcc (Ubuntu 11.4.0-1ubuntu1~22.04) 11.4.0 Ubuntu 24.04 Kernel: 5.4 Compiler: gcc gcc (Ubuntu 13.3.0-6ubuntu2~24.04) 13.3.0 CentOS Stream 9 Kernel: 5.4 Compiler: gcc gcc (GCC) 11.5.0 20240719 (Red Hat 11.5.0-11) CentOS Stream 10 Kernel: 5.4 Compiler: gcc gcc (GCC) 14.2.1 20250110 (Red Hat 14.2.1-8) To view detailed results, visit: https://lab.dpdk.org/results/dashboard/patchsets/34236/ UNH-IOL DPDK Community Lab To manage your email subscriptions, visit: https://lab.dpdk.org/results/dashboard/preferences/subscriptions/