From mboxrd@z Thu Jan 1 00:00:00 1970 Return-Path: Received: from mails.dpdk.org (mails.dpdk.org [217.70.189.124]) by inbox.dpdk.org (Postfix) with ESMTP id E48C0488EF for ; Thu, 9 Oct 2025 11:36:32 +0200 (CEST) Received: from mails.dpdk.org (localhost [127.0.0.1]) by mails.dpdk.org (Postfix) with ESMTP id CBAA540277; Thu, 9 Oct 2025 11:36:32 +0200 (CEST) Received: from mail-pj1-f100.google.com (mail-pj1-f100.google.com [209.85.216.100]) by mails.dpdk.org (Postfix) with ESMTP id 2F22440277 for ; Thu, 9 Oct 2025 11:36:32 +0200 (CEST) Received: by mail-pj1-f100.google.com with SMTP id 98e67ed59e1d1-33274fcf5c1so886012a91.1 for ; Thu, 09 Oct 2025 02:36:32 -0700 (PDT) DKIM-Signature: v=1; a=rsa-sha256; c=relaxed/relaxed; d=iol.unh.edu; s=unh-iol; t=1760002591; x=1760607391; darn=dpdk.org; h=references:in-reply-to:cc:to:from:subject:message-id:date:from:to :cc:subject:date:message-id:reply-to; bh=YvZ10vAjFXqRe7BiffGwMSEiSdi7VR2DmJyRk+/mgOQ=; b=Po205RADLHEMQV2yvwsrh/UVjzIzCXviVUJKRNbhhkQ1EmnYRXWXNZBeM86tssAxGc PFvbC+f1XR5kDKYTfCao7HXICvgITcGg0qcsS0y9D9uOamr9iuIsX0kEisKfJNiXpRe+ 2K/GYD4AlxrEYtmzIiMCsdVnVc0UY9F5JY4no= X-Google-DKIM-Signature: v=1; a=rsa-sha256; c=relaxed/relaxed; d=1e100.net; s=20230601; t=1760002591; x=1760607391; h=references:in-reply-to:cc:to:from:subject:message-id:date :x-gm-message-state:from:to:cc:subject:date:message-id:reply-to; bh=YvZ10vAjFXqRe7BiffGwMSEiSdi7VR2DmJyRk+/mgOQ=; b=bJYWVwdKZ2y6OOD1X2fYerQAuM6nsDAPXVARj5agMZzqhlAN7bAR1fXCsvwcqcVtPs rUtxpfLbTEYTan1GiPKyF0AAkadyLAYwNhlfMf9iNwfx+6I0MbskzrSCguX44rppnTd8 KNIWssosy5MU0fhDnmmqONKL0Y0UeWvszF0JJR5a3D32ayL6Ddx0zQyIuQBDHnFRGiW7 Z8GeEBudjTLfYqUooqv21tv2PlcVMmkt7KL/+gK8K0FP/zp18KSoTd3Cj+ZkTqe5e/28 CmnYtBB3telX8YCf5+3jAAyduKib6bULT0p6uJ8tJ6TPC/X/OH0CHnr5ju01tdlGkfsc SE2A== X-Gm-Message-State: AOJu0Yz1BN1/d1vc+AtD2CI+727FLI6D++H7qmza9YewlXFKzpaBxj62 9/AldKJrureCXLwM5TLEZd+iYM3MjXGmRT4+D5f9cljyDbDaE4nMhAlPfrieIAcRYp6yykUJmyS DwkJEM0ukM8M2QaoE6FJ9sC1496dSFi7KReKnWbquYGSg X-Gm-Gg: ASbGnctEBVXa1T+sdNkSh1kDOIZ0lQaDmn9grLteHgQGCwU2QBAlfI6ZmuJWS72osGP kkvUZBvcNiCBse1zZiV8s3f7fLTMl7vlwYuy4T1r0FdB8l2cl74UI5pPDzi+Fig/mHcNw/8x/At M73aZPdTpYuoDPHqg/hnra1Ns8Hc2yWYqLfI1iqRpB1hwjsRs/rCJ0eJ/IkJVxCq66eDYifIran ASyqkXFWivVrQWYRMzBsd7JJQwMPQrPuGC4PzrmPNvQ0FLR2sL/HDJfUNfixzEDzEFsd4W/x5FH 9pj1mUfcgDnXlylauyWA/96kYz26sFKBrridXmDsp8/w0v2td60dKqJERnn933o+G26bB7eF+w9 66A== X-Google-Smtp-Source: AGHT+IHcdVn2gYzpni42AscHD4v0Y2xkxrkpy8DzR9NvowcefhInP/ygx+DuFFiIdfZO8l4uFsCwssR/zWFP X-Received: by 2002:a17:90b:1e0a:b0:334:cb89:bde6 with SMTP id 98e67ed59e1d1-33b51105dcemr8251695a91.4.1760002591291; Thu, 09 Oct 2025 02:36:31 -0700 (PDT) Received: from postal.iol.unh.edu (postal.iol.unh.edu. [132.177.123.84]) by smtp-relay.gmail.com with ESMTPS id 41be03b00d2f7-b62d76b2db9sm1090430a12.9.2025.10.09.02.36.31 (version=TLS1_2 cipher=ECDHE-ECDSA-AES128-GCM-SHA256 bits=128/128); Thu, 09 Oct 2025 02:36:31 -0700 (PDT) X-Relaying-Domain: iol.unh.edu Date: Thu, 09 Oct 2025 02:36:31 -0700 (PDT) Message-ID: <68e7821f.650a0220.1acbf9.9575SMTPIN_ADDED_MISSING@mx.google.com> Received: from [172.21.0.2] (unknown [172.18.0.240]) by postal.iol.unh.edu (Postfix) with ESMTP id 30ADE6051830; Thu, 9 Oct 2025 05:36:30 -0400 (EDT) Subject: |SUCCESS| pw157322 [PATCH] compressdev: fix device ID validation che From: dpdklab@iol.unh.edu To: Test Report Cc: dpdk-test-reports@iol.unh.edu, Akhil Goyal In-Reply-To: <20251008074532.3066685-1-ashishg@marvell.com> References: <20251008074532.3066685-1-ashishg@marvell.com> Content-Type: text/plain X-BeenThere: test-report@dpdk.org X-Mailman-Version: 2.1.29 Precedence: list List-Id: automatic DPDK test reports List-Unsubscribe: , List-Archive: List-Post: List-Help: List-Subscribe: , Errors-To: test-report-bounces@dpdk.org Test-Label: iol-compile-arm64-testing Test-Status: SUCCESS http://dpdk.org/patch/157322 _Testing PASS_ Submitter: Ashish Gupta Date: Wednesday, October 08 2025 07:45:23 DPDK git baseline: Repo:dpdk-next-crypto Branch: master CommitID:2aa7141a4e2c78e3cce03dbd613532a2166123c1 157322 --> testing pass Upstream job id: Generic-DPDK-Compile-Meson#432562 Test environment and result as below: +------------------------------+--------------------+ | Environment | dpdk_meson_compile | +==============================+====================+ | Red Hat Enterprise Linux 9.5 | PASS | +------------------------------+--------------------+ | Ubuntu 20.04 | PASS | +------------------------------+--------------------+ | Debian GNU/Linux 12 | PASS | +------------------------------+--------------------+ | Fedora Linux 42 | PASS | +------------------------------+--------------------+ | Ubuntu 22.04 | PASS | +------------------------------+--------------------+ | Ubuntu 24.04 | PASS | +------------------------------+--------------------+ | CentOS Stream 9 | PASS | +------------------------------+--------------------+ | CentOS Stream 10 | PASS | +------------------------------+--------------------+ Red Hat Enterprise Linux 9.5 Kernel: 5.4 Compiler: gcc gcc (GCC) 11.5.0 20240719 (Red Hat 11.5.0-2) Ubuntu 20.04 Kernel: 5.15 Compiler: aarch64-linux-gnu-gcc gcc (Ubuntu 9.4.0-1ubuntu1~20.04.2) 9.4.0 Debian GNU/Linux 12 Kernel: 5.4 Compiler: gcc gcc (Debian 12.2.0-14+deb12u1) 12.2.0 Fedora Linux 42 Kernel: 5.4 Compiler: gcc gcc (GCC) 15.2.1 20250808 (Red Hat 15.2.1-1) Ubuntu 22.04 Kernel: 5.4 Compiler: gcc gcc (Ubuntu 11.4.0-1ubuntu1~22.04) 11.4.0 Ubuntu 24.04 Kernel: 5.4 Compiler: gcc gcc (Ubuntu 13.3.0-6ubuntu2~24.04) 13.3.0 CentOS Stream 9 Kernel: 5.4 Compiler: gcc gcc (GCC) 11.5.0 20240719 (Red Hat 11.5.0-11) CentOS Stream 10 Kernel: 5.4 Compiler: gcc gcc (GCC) 14.2.1 20250110 (Red Hat 14.2.1-8) To view detailed results, visit: https://lab.dpdk.org/results/dashboard/patchsets/34235/ UNH-IOL DPDK Community Lab To manage your email subscriptions, visit: https://lab.dpdk.org/results/dashboard/preferences/subscriptions/