From mboxrd@z Thu Jan 1 00:00:00 1970 Return-Path: Received: from mails.dpdk.org (mails.dpdk.org [217.70.189.124]) by inbox.dpdk.org (Postfix) with ESMTP id E4A1F488EF for ; Thu, 9 Oct 2025 11:36:43 +0200 (CEST) Received: from mails.dpdk.org (localhost [127.0.0.1]) by mails.dpdk.org (Postfix) with ESMTP id DCF9340277; Thu, 9 Oct 2025 11:36:43 +0200 (CEST) Received: from mail-il1-f225.google.com (mail-il1-f225.google.com [209.85.166.225]) by mails.dpdk.org (Postfix) with ESMTP id 4DBEF40277 for ; Thu, 9 Oct 2025 11:36:43 +0200 (CEST) Received: by mail-il1-f225.google.com with SMTP id e9e14a558f8ab-42e6df6fe53so2767415ab.2 for ; Thu, 09 Oct 2025 02:36:43 -0700 (PDT) DKIM-Signature: v=1; a=rsa-sha256; c=relaxed/relaxed; d=iol.unh.edu; s=unh-iol; t=1760002602; x=1760607402; darn=dpdk.org; h=references:in-reply-to:cc:to:from:subject:message-id:date:from:to :cc:subject:date:message-id:reply-to; bh=y8LqAU4VTYM1E38hzp8d01UB+bvq1p6PIT8bNgxf34Q=; b=LJwhEHbufsNNajSAn6s7lLO0UnjWHO1+S8bMS+udkgy+OOPWjMa2EX6zj/RzRYKcG0 se/8uXyFUAMXPcItMBlC2J0WhobP4JAmzIy10ih4hEBI9B7xY+Ep+o1t9t2F4yXmUEpR IcXgOtrXUMgpuZxmYDP6vNzQFSi7FY1lsgrxs= X-Google-DKIM-Signature: v=1; a=rsa-sha256; c=relaxed/relaxed; d=1e100.net; s=20230601; t=1760002602; x=1760607402; h=references:in-reply-to:cc:to:from:subject:message-id:date :x-gm-message-state:from:to:cc:subject:date:message-id:reply-to; bh=y8LqAU4VTYM1E38hzp8d01UB+bvq1p6PIT8bNgxf34Q=; b=iEl+/D5VKUZZ1Zd2HT2er+k8GffB7WOwqFLB/ahdfndziMItFgSMLCESkmptNep/y2 7SWD95vtlcdXX3FrPMQEdEV/bvZM7/z9R7gJJajZSPHPLjVklSWUic7NgJN3U69j1uz3 J1OiInR52BL59hHw39jySl3fJI3aNuLUfsYRhWfqLJu1DBI8czwe2kxYYg78bgRaoBZS mUd+anWNRFJVDX8h1kYQiIl0pfIHz+ljOzMGN7qm8EbKuWPf40y8RPSDQsO7pTAlEnl2 K3YcXuuLig3cZfRunBCDGhdyqL8ZMt59o0lQmMvCODbvMmd+1JqsJmSTWVTUeBcIT8p/ E7fg== X-Gm-Message-State: AOJu0Yz2awBO2YjXNlpd/055VqvplCirG3hdDjYy2cKshYDkIEO2idAf j/O8zh0W8uMbIb4O6zXGT88Bx4+SIYTlI4U4ip9ptVQI9HIDvNW9DXIQaYA4PED8cG5iSbfGiGJ iNmKRLTwCXDVHC2z1qjlPDg+XBPiI9RdxMziEC0SXrOejUqQWb2ZXrNHj0iCY X-Gm-Gg: ASbGncusx7RKuYRURljTFy50UMAfII8LGRZf8jywPuWFnz4KenXto3Bi51N85KpTY3M CiZLfi/h1LyLddZwwL7C/9N1B99NQkoSoshKnft5qJnWIFq1dyzvmIApl/NIoTsSyczFEmW4cKY MM3FoU2nvSl3OW8hB3kQxgAn5VWGABxeZ4Q7FaEomYUqSCkhRl+F2Ypt3NlAX/cMkrTua593ojm 6J2eJErEHT+XAAZtrC92nzosZNoAsJ2/kX9bFuJJWcJZGhTlLY081vdXXevpWuHVbF9SIdZYNqS CY4XG3EeOHzT9k4a/pdaqy+84sLyPWrq+yCcA/WM2dOnkDIMCbqAu4I= X-Google-Smtp-Source: AGHT+IGMhWKasaQULYZDbtL1C7YQfR+Mr7ZPVBBWydx2ro/O5eF/Dg4DjK2NTbZ1sbLpT3u1smk89ve44oXF X-Received: by 2002:a05:6e02:1707:b0:425:e850:b2e3 with SMTP id e9e14a558f8ab-42f874537cemr58470275ab.32.1760002602618; Thu, 09 Oct 2025 02:36:42 -0700 (PDT) Received: from postal.iol.unh.edu (postal.iol.unh.edu. [2606:4100:3880:1234::84]) by smtp-relay.gmail.com with ESMTPS id e9e14a558f8ab-42f9037300bsm1464635ab.37.2025.10.09.02.36.42 (version=TLS1_2 cipher=ECDHE-ECDSA-AES128-GCM-SHA256 bits=128/128); Thu, 09 Oct 2025 02:36:42 -0700 (PDT) X-Relaying-Domain: iol.unh.edu Date: Thu, 09 Oct 2025 02:36:42 -0700 (PDT) Message-ID: <68e7822a.920a0220.67c28.7a02SMTPIN_ADDED_MISSING@mx.google.com> Received: from [172.21.0.6] (unknown [172.18.0.240]) by postal.iol.unh.edu (Postfix) with ESMTP id E0E716051830; Thu, 9 Oct 2025 05:36:41 -0400 (EDT) Subject: |SUCCESS| pw157329 [PATCH] [v2] compressdev: update device ID valida From: dpdklab@iol.unh.edu To: Test Report Cc: dpdk-test-reports@iol.unh.edu, Akhil Goyal In-Reply-To: <20251008094555.3078441-1-ashishg@marvell.com> References: <20251008094555.3078441-1-ashishg@marvell.com> Content-Type: text/plain X-BeenThere: test-report@dpdk.org X-Mailman-Version: 2.1.29 Precedence: list List-Id: automatic DPDK test reports List-Unsubscribe: , List-Archive: List-Post: List-Help: List-Subscribe: , Errors-To: test-report-bounces@dpdk.org Test-Label: iol-compile-arm64-testing Test-Status: SUCCESS http://dpdk.org/patch/157329 _Testing PASS_ Submitter: Ashish Gupta Date: Wednesday, October 08 2025 09:45:24 DPDK git baseline: Repo:dpdk-next-crypto Branch: master CommitID:2aa7141a4e2c78e3cce03dbd613532a2166123c1 157329 --> testing pass Upstream job id: Generic-DPDK-Compile-Meson#432609 Test environment and result as below: +------------------------------+--------------------+ | Environment | dpdk_meson_compile | +==============================+====================+ | Red Hat Enterprise Linux 9.5 | PASS | +------------------------------+--------------------+ | Ubuntu 20.04 | PASS | +------------------------------+--------------------+ | Debian GNU/Linux 12 | PASS | +------------------------------+--------------------+ | Fedora Linux 42 | PASS | +------------------------------+--------------------+ | Ubuntu 22.04 | PASS | +------------------------------+--------------------+ | Ubuntu 24.04 | PASS | +------------------------------+--------------------+ | CentOS Stream 9 | PASS | +------------------------------+--------------------+ | CentOS Stream 10 | PASS | +------------------------------+--------------------+ Red Hat Enterprise Linux 9.5 Kernel: 5.4 Compiler: gcc gcc (GCC) 11.5.0 20240719 (Red Hat 11.5.0-2) Ubuntu 20.04 Kernel: 5.15 Compiler: aarch64-linux-gnu-gcc gcc (Ubuntu 9.4.0-1ubuntu1~20.04.2) 9.4.0 Debian GNU/Linux 12 Kernel: 5.4 Compiler: gcc gcc (Debian 12.2.0-14+deb12u1) 12.2.0 Fedora Linux 42 Kernel: 5.4 Compiler: gcc gcc (GCC) 15.2.1 20250808 (Red Hat 15.2.1-1) Ubuntu 22.04 Kernel: 5.4 Compiler: gcc gcc (Ubuntu 11.4.0-1ubuntu1~22.04) 11.4.0 Ubuntu 24.04 Kernel: 5.4 Compiler: gcc gcc (Ubuntu 13.3.0-6ubuntu2~24.04) 13.3.0 CentOS Stream 9 Kernel: 5.4 Compiler: gcc gcc (GCC) 11.5.0 20240719 (Red Hat 11.5.0-11) CentOS Stream 10 Kernel: 5.4 Compiler: gcc gcc (GCC) 14.2.1 20250110 (Red Hat 14.2.1-8) To view detailed results, visit: https://lab.dpdk.org/results/dashboard/patchsets/34237/ UNH-IOL DPDK Community Lab To manage your email subscriptions, visit: https://lab.dpdk.org/results/dashboard/preferences/subscriptions/