From mboxrd@z Thu Jan 1 00:00:00 1970 Return-Path: Received: from mails.dpdk.org (mails.dpdk.org [217.70.189.124]) by inbox.dpdk.org (Postfix) with ESMTP id 02673488EF for ; Thu, 9 Oct 2025 11:36:59 +0200 (CEST) Received: from mails.dpdk.org (localhost [127.0.0.1]) by mails.dpdk.org (Postfix) with ESMTP id EE5CA40277; Thu, 9 Oct 2025 11:36:58 +0200 (CEST) Received: from mail-pg1-f227.google.com (mail-pg1-f227.google.com [209.85.215.227]) by mails.dpdk.org (Postfix) with ESMTP id 4960B40277 for ; Thu, 9 Oct 2025 11:36:58 +0200 (CEST) Received: by mail-pg1-f227.google.com with SMTP id 41be03b00d2f7-b62e7221351so627417a12.1 for ; Thu, 09 Oct 2025 02:36:58 -0700 (PDT) DKIM-Signature: v=1; a=rsa-sha256; c=relaxed/relaxed; d=iol.unh.edu; s=unh-iol; t=1760002617; x=1760607417; darn=dpdk.org; h=references:in-reply-to:cc:to:from:subject:message-id:date:from:to :cc:subject:date:message-id:reply-to; bh=HL2kpMmdSXBFyEqklaSmHEeULVuQmESR4GEa+RRNt1g=; b=iIgNnDKs79luS+PDUH/TZ7c3/+I7t083z9avuPbLNn9OQcYxepWFtF7ajRGci9KJWI OhDpADPsBDVCpkFYA8vCskSOSQdZCUdeVe04euKvcgsjKWfo/C8QJnbCZym2qjwpZaCf dDuHmpUKdX4UyDRGgPnwI5/VzrVbDQKFYN87k= X-Google-DKIM-Signature: v=1; a=rsa-sha256; c=relaxed/relaxed; d=1e100.net; s=20230601; t=1760002617; x=1760607417; h=references:in-reply-to:cc:to:from:subject:message-id:date :x-gm-message-state:from:to:cc:subject:date:message-id:reply-to; bh=HL2kpMmdSXBFyEqklaSmHEeULVuQmESR4GEa+RRNt1g=; b=LSfZEXZW/20zXh/Ezaj1madN4ufXhh+VfuDWkP8xhm/IIWqVz9XMXRArilBVRvYDS3 Whupdi9vAFrD6tjfK5F2E0baJCjGwzwCGZ4NZeT5eaBwXoWPFA4nYDY3n2t4+nNsuk8V yCCRHDpW4emFHzb3/yrysFB9AxVLkCq0tHR87UCKzApR286FXj1UR8M+LjdlaqF7snMs u6v8RmI+GreASspQd9ZGgAFy0gJw4KD++0vGv6gGvPwltm0e0gkJ3vQZXcqs1HSeVpg+ ABbu/9FnNyWOvgHYH6PI3pk7u/OG9WxkYWDuQmLQBxB5y8EwVxkruSd+JV528S1I1hrk Ukpw== X-Gm-Message-State: AOJu0YxMyj6U6R9GZx/86cSb742krCqspVSpRTzVNqzw63qTkz+UvKCf clrff6RutiisMS0qbasZUjDMbHoBdvBVUqlT2qygMB9kygWaRPJzeGBN41ioB6Ndy7i+nL3OYzU XSh69z8wjn+KdwbnkObXecn5nWrQ78zky/CqT0WLx/ApN X-Gm-Gg: ASbGncuXLjXyHc4PMcT0LEDn83iWWSiQhTUj+VUz8JZcQoR4vwU0HBECtPiLx8HhQ3k YB5VpNZUnyxctOl5Hf2VnEVZCafBj8bVRHR9ZXmtaj8gMviYRqUsgb/SIR1+lsavm/hzDv6mh7x +DKPloYoV8FXIHe3fzH+BX4JNcZ5rapEIzZNXSNs6XdxiyObLvswyqGFVqAkVUHkeDjnRPr1LtL 0dLL9af6X03Cdlo+0dicl063YiSOQ74ZnD1KcP8Lp8X4xdekWoLwqO4HmnIDvMb58TnXXJwYciD /ut0r8gqh1ZbFl8ID+X4WPlDCZxGK1wwE35Whmnl0+VozlRODhbS7M0FPpXd0cX66jpUDdX/f7e P0g== X-Google-Smtp-Source: AGHT+IGRT49Lsm7tmRfC8ly60nu/fFKB1urrLDHg6lAPtMOq1e3bMZZ7XsUyicCLc+Obw6lMtogp8WaW/jfb X-Received: by 2002:a17:903:2c0c:b0:24c:cae9:77bd with SMTP id d9443c01a7336-290273032d9mr87109075ad.54.1760002617445; Thu, 09 Oct 2025 02:36:57 -0700 (PDT) Received: from postal.iol.unh.edu (postal.iol.unh.edu. [132.177.123.84]) by smtp-relay.gmail.com with ESMTPS id d9443c01a7336-29034cc00c4sm2040975ad.0.2025.10.09.02.36.57 (version=TLS1_2 cipher=ECDHE-ECDSA-AES128-GCM-SHA256 bits=128/128); Thu, 09 Oct 2025 02:36:57 -0700 (PDT) X-Relaying-Domain: iol.unh.edu Date: Thu, 09 Oct 2025 02:36:57 -0700 (PDT) Message-ID: <68e78239.170a0220.249a46.aaf4SMTPIN_ADDED_MISSING@mx.google.com> Received: from [172.21.0.6] (unknown [172.18.0.240]) by postal.iol.unh.edu (Postfix) with ESMTP id 5DC746051830; Thu, 9 Oct 2025 05:36:56 -0400 (EDT) Subject: |SUCCESS| pw157330 [PATCH] [v2] compressdev: update device ID valida From: dpdklab@iol.unh.edu To: Test Report Cc: dpdk-test-reports@iol.unh.edu, Akhil Goyal In-Reply-To: <20251008095950.3078552-1-ashishg@marvell.com> References: <20251008095950.3078552-1-ashishg@marvell.com> Content-Type: text/plain X-BeenThere: test-report@dpdk.org X-Mailman-Version: 2.1.29 Precedence: list List-Id: automatic DPDK test reports List-Unsubscribe: , List-Archive: List-Post: List-Help: List-Subscribe: , Errors-To: test-report-bounces@dpdk.org Test-Label: iol-compile-arm64-testing Test-Status: SUCCESS http://dpdk.org/patch/157330 _Testing PASS_ Submitter: Ashish Gupta Date: Wednesday, October 08 2025 09:59:41 DPDK git baseline: Repo:dpdk-next-crypto Branch: master CommitID:2aa7141a4e2c78e3cce03dbd613532a2166123c1 157330 --> testing pass Upstream job id: Generic-DPDK-Compile-Meson#432639 Test environment and result as below: +------------------------------+--------------------+ | Environment | dpdk_meson_compile | +==============================+====================+ | Red Hat Enterprise Linux 9.5 | PASS | +------------------------------+--------------------+ | Ubuntu 20.04 | PASS | +------------------------------+--------------------+ | Debian GNU/Linux 12 | PASS | +------------------------------+--------------------+ | Fedora Linux 42 | PASS | +------------------------------+--------------------+ | Ubuntu 22.04 | PASS | +------------------------------+--------------------+ | Ubuntu 24.04 | PASS | +------------------------------+--------------------+ | CentOS Stream 9 | PASS | +------------------------------+--------------------+ | CentOS Stream 10 | PASS | +------------------------------+--------------------+ Red Hat Enterprise Linux 9.5 Kernel: 5.4 Compiler: gcc gcc (GCC) 11.5.0 20240719 (Red Hat 11.5.0-2) Ubuntu 20.04 Kernel: 5.15 Compiler: aarch64-linux-gnu-gcc gcc (Ubuntu 9.4.0-1ubuntu1~20.04.2) 9.4.0 Debian GNU/Linux 12 Kernel: 5.4 Compiler: gcc gcc (Debian 12.2.0-14+deb12u1) 12.2.0 Fedora Linux 42 Kernel: 5.4 Compiler: gcc gcc (GCC) 15.2.1 20250808 (Red Hat 15.2.1-1) Ubuntu 22.04 Kernel: 5.4 Compiler: gcc gcc (Ubuntu 11.4.0-1ubuntu1~22.04) 11.4.0 Ubuntu 24.04 Kernel: 5.4 Compiler: gcc gcc (Ubuntu 13.3.0-6ubuntu2~24.04) 13.3.0 CentOS Stream 9 Kernel: 5.4 Compiler: gcc gcc (GCC) 11.5.0 20240719 (Red Hat 11.5.0-11) CentOS Stream 10 Kernel: 5.4 Compiler: gcc gcc (GCC) 14.2.1 20250110 (Red Hat 14.2.1-8) To view detailed results, visit: https://lab.dpdk.org/results/dashboard/patchsets/34238/ UNH-IOL DPDK Community Lab To manage your email subscriptions, visit: https://lab.dpdk.org/results/dashboard/preferences/subscriptions/