From mboxrd@z Thu Jan 1 00:00:00 1970 Return-Path: Received: from mails.dpdk.org (mails.dpdk.org [217.70.189.124]) by inbox.dpdk.org (Postfix) with ESMTP id 1006D488EF for ; Thu, 9 Oct 2025 11:37:07 +0200 (CEST) Received: from mails.dpdk.org (localhost [127.0.0.1]) by mails.dpdk.org (Postfix) with ESMTP id 0C98440277; Thu, 9 Oct 2025 11:37:07 +0200 (CEST) Received: from mail-io1-f99.google.com (mail-io1-f99.google.com [209.85.166.99]) by mails.dpdk.org (Postfix) with ESMTP id D4A0D40277 for ; Thu, 9 Oct 2025 11:37:05 +0200 (CEST) Received: by mail-io1-f99.google.com with SMTP id ca18e2360f4ac-92aee734585so26396239f.3 for ; Thu, 09 Oct 2025 02:37:05 -0700 (PDT) DKIM-Signature: v=1; a=rsa-sha256; c=relaxed/relaxed; d=iol.unh.edu; s=unh-iol; t=1760002625; x=1760607425; darn=dpdk.org; h=references:in-reply-to:cc:to:from:subject:message-id:date:from:to :cc:subject:date:message-id:reply-to; bh=8wRNXppFAz+DosZUDrjuDlDup0HzLDsL1pU/47RAnrQ=; b=btDooRBYh0BLQFVIvZ3rKBkxsl6rhWPhrnhOYmDnVlnyirl25WVXZTCh3CGkrTMf4j R6gcJEqmjr19ng/GHm16iPApc7YMq/v+/ODYIEC5mTCKFdYJA9B11vwdfhskMqhQDw8y 2bqH4r7YzoeVhzw0LunU5cfOFO6IRKeKL2xXo= X-Google-DKIM-Signature: v=1; a=rsa-sha256; c=relaxed/relaxed; d=1e100.net; s=20230601; t=1760002625; x=1760607425; h=references:in-reply-to:cc:to:from:subject:message-id:date :x-gm-message-state:from:to:cc:subject:date:message-id:reply-to; bh=8wRNXppFAz+DosZUDrjuDlDup0HzLDsL1pU/47RAnrQ=; b=t4Ch3Gsxv1mbrbBetNDqyRiMEqiCfxOHuCdxi6dJr1nUYsFhY3qFJLSssfhjnMpj+p nHGl12YJF2uRc+nJEqD5ra4VxyW+5VXRu+k9DuinqpGsBXWkpzOEXE9KIZMwDfjwGypp u6Hl2viCRg6LQa9umqb5LAVXvprKUn5dc4gi+zFbMpefjYNJQF6MsIRnhmoxWV6pBXO3 8giuFkQ6NOWOjQK4O6lWUa3H0Kj7R3Cs/dxtiprz83bJVfAKG1OPEz/xwL0qLJAcTDn5 Kwi1xDiyZ1SnGlh2y+XZ1FqYyXU2P7HrYSZi3Mj/jKAk2xitRzqOwn6QskzNbmpPu2rF ERbw== X-Gm-Message-State: AOJu0YyIDI/p5bX/TQ86FunQvLQlHVjfvWzQldw6FmtOXgsJVUybIxIH AjR3UFeBCickKz0WRo38ih66sdpzF6a4fX1Hagu8hOCROK5Cr4qWMmgwy8gZsTomaCcv32LJPKP 7zfavfgDRT2SICkTuOpHDtYJvKW/n8osVkF6G26qJla9m X-Gm-Gg: ASbGncsjsmPd82gVdIzDyVDK+DPTRQglDxx3F65lxtWWGaM8CPv4KJtmDfgEHQyjYMY gGthvNCJ16eDQRiZY3xF34IODjAAvEK9SQpG0UYlgHYHqMGm9StH709uLXuJq/MLEAzqp6d9LKi socBEylPxolwBrqTNs4PcbZeojUsSEJ6wrMjCqExyNo7GsHX65FGn5/cQYROQ037eRP0Q2eGjpB arttpW2ezYnzoobgSF55YLwjgDTXQJfmGHMG9xn9p8dldigAd0p2C6YLLk40W71KEagQQ6Sdfqt p6xzOL22KPO8lvgKVkeJukJLWg99yqiJkbtbgBCJZt4bHydz7qQNsQX6rU6+74KBKsJyJg2K/k7 88A== X-Google-Smtp-Source: AGHT+IHixNeHe+XWNjPWo2hdv3u3ou9y2OOUy8+UUPEUmUEh6GuJWBnoFvu2I/0e7nRvAnUHfpIVXYOK03Xt X-Received: by 2002:a05:6602:3425:b0:92f:575a:6df0 with SMTP id ca18e2360f4ac-93bd19c3befmr835124739f.19.1760002625216; Thu, 09 Oct 2025 02:37:05 -0700 (PDT) Received: from postal.iol.unh.edu (postal.iol.unh.edu. [132.177.123.84]) by smtp-relay.gmail.com with ESMTPS id 8926c6da1cb9f-57b5eaa41e5sm1646078173.8.2025.10.09.02.37.05 (version=TLS1_2 cipher=ECDHE-ECDSA-AES128-GCM-SHA256 bits=128/128); Thu, 09 Oct 2025 02:37:05 -0700 (PDT) X-Relaying-Domain: iol.unh.edu Date: Thu, 09 Oct 2025 02:37:05 -0700 (PDT) Message-ID: <68e78241.050a0220.3c7345.7fb4SMTPIN_ADDED_MISSING@mx.google.com> Received: from [172.21.0.8] (unknown [172.18.0.240]) by postal.iol.unh.edu (Postfix) with ESMTP id 94EE86051830; Thu, 9 Oct 2025 05:37:04 -0400 (EDT) Subject: |SUCCESS| pw157329 [PATCH] [v2] compressdev: update device ID valida From: dpdklab@iol.unh.edu To: Test Report Cc: dpdk-test-reports@iol.unh.edu, Akhil Goyal In-Reply-To: <20251008094555.3078441-1-ashishg@marvell.com> References: <20251008094555.3078441-1-ashishg@marvell.com> Content-Type: text/plain X-BeenThere: test-report@dpdk.org X-Mailman-Version: 2.1.29 Precedence: list List-Id: automatic DPDK test reports List-Unsubscribe: , List-Archive: List-Post: List-Help: List-Subscribe: , Errors-To: test-report-bounces@dpdk.org Test-Label: iol-compile-arm64-testing Test-Status: SUCCESS http://dpdk.org/patch/157329 _Testing PASS_ Submitter: Ashish Gupta Date: Wednesday, October 08 2025 09:45:24 DPDK git baseline: Repo:dpdk-next-crypto Branch: master CommitID:2aa7141a4e2c78e3cce03dbd613532a2166123c1 157329 --> testing pass Upstream job id: Generic-DPDK-Compile-Meson#432611 Test environment and result as below: +------------------------------+--------------------+ | Environment | dpdk_meson_compile | +==============================+====================+ | Red Hat Enterprise Linux 9.5 | PASS | +------------------------------+--------------------+ | Ubuntu 20.04 | PASS | +------------------------------+--------------------+ | Debian GNU/Linux 12 | PASS | +------------------------------+--------------------+ | Fedora Linux 42 | PASS | +------------------------------+--------------------+ | Ubuntu 22.04 | PASS | +------------------------------+--------------------+ | Ubuntu 24.04 | PASS | +------------------------------+--------------------+ | CentOS Stream 9 | PASS | +------------------------------+--------------------+ | CentOS Stream 10 | PASS | +------------------------------+--------------------+ Red Hat Enterprise Linux 9.5 Kernel: 5.4 Compiler: gcc gcc (GCC) 11.5.0 20240719 (Red Hat 11.5.0-2) Ubuntu 20.04 Kernel: 5.15 Compiler: aarch64-linux-gnu-gcc gcc (Ubuntu 9.4.0-1ubuntu1~20.04.2) 9.4.0 Debian GNU/Linux 12 Kernel: 5.4 Compiler: gcc gcc (Debian 12.2.0-14+deb12u1) 12.2.0 Fedora Linux 42 Kernel: 5.4 Compiler: gcc gcc (GCC) 15.2.1 20250808 (Red Hat 15.2.1-1) Ubuntu 22.04 Kernel: 5.4 Compiler: gcc gcc (Ubuntu 11.4.0-1ubuntu1~22.04) 11.4.0 Ubuntu 24.04 Kernel: 5.4 Compiler: gcc gcc (Ubuntu 13.3.0-6ubuntu2~24.04) 13.3.0 CentOS Stream 9 Kernel: 5.4 Compiler: gcc gcc (GCC) 11.5.0 20240719 (Red Hat 11.5.0-11) CentOS Stream 10 Kernel: 5.4 Compiler: gcc gcc (GCC) 14.2.1 20250110 (Red Hat 14.2.1-8) To view detailed results, visit: https://lab.dpdk.org/results/dashboard/patchsets/34237/ UNH-IOL DPDK Community Lab To manage your email subscriptions, visit: https://lab.dpdk.org/results/dashboard/preferences/subscriptions/