From mboxrd@z Thu Jan 1 00:00:00 1970 Return-Path: Received: from mails.dpdk.org (mails.dpdk.org [217.70.189.124]) by inbox.dpdk.org (Postfix) with ESMTP id 2425C488EF for ; Thu, 9 Oct 2025 11:37:15 +0200 (CEST) Received: from mails.dpdk.org (localhost [127.0.0.1]) by mails.dpdk.org (Postfix) with ESMTP id 1FF4540277; Thu, 9 Oct 2025 11:37:15 +0200 (CEST) Received: from mail-oa1-f98.google.com (mail-oa1-f98.google.com [209.85.160.98]) by mails.dpdk.org (Postfix) with ESMTP id 71C5640277 for ; Thu, 9 Oct 2025 11:37:14 +0200 (CEST) Received: by mail-oa1-f98.google.com with SMTP id 586e51a60fabf-394587df7c4so425249fac.2 for ; Thu, 09 Oct 2025 02:37:14 -0700 (PDT) DKIM-Signature: v=1; a=rsa-sha256; c=relaxed/relaxed; d=iol.unh.edu; s=unh-iol; t=1760002634; x=1760607434; darn=dpdk.org; h=references:in-reply-to:cc:to:from:subject:message-id:date:from:to :cc:subject:date:message-id:reply-to; bh=OTeuflU8ielf5GLNqWS0N+dY1aFAxK/2WsdLWyOOekI=; b=daPhyPGPcEJozI0c9hE6/cdjAIGcIwnFkBgVfkSXMIObYTB/nA4Oo120K7C8eyYVvX yzrXa1Yfi6g/bN3NBMO+MQPgyBS+jlyYcv+sOVGNVY/98Z1RsYEl/u5lmBCtdkFIx84G px36UQpConjwoDCvLxpGOauJkTJJW/EVLLkmI= X-Google-DKIM-Signature: v=1; a=rsa-sha256; c=relaxed/relaxed; d=1e100.net; s=20230601; t=1760002634; x=1760607434; h=references:in-reply-to:cc:to:from:subject:message-id:date :x-gm-message-state:from:to:cc:subject:date:message-id:reply-to; bh=OTeuflU8ielf5GLNqWS0N+dY1aFAxK/2WsdLWyOOekI=; b=EYqF9yMgzLKxK9PPe/qL/UIJzh6F/vJe/TvBzzgiDNZVd8Z2yWkGAAXf1f9vA8DAhd ii9exMGXpGtNxgM4a380d8gTmG6USO46FbZBaMFwIePk5GyZGS3h7LIBf5nNw9a5g1Tf myCPffLYeSwkzabn3c8wvN1W3N14PnD4LbshIo9dCD7LttRemdkMXwSAtc00T5seEAJ0 gpbFiiXBEVN28AUKMiue7F9ziPLmhe6jZnRcFO8uFh+Ni+dL/jp/US45v4gpH405UJ2N 87a1g7apfX710ajdyZN0ADZrZ4/XSafJDmTWpm/mMrNwkimapFlpKvLA46/tlqJ0Ue0y 6fzA== X-Gm-Message-State: AOJu0YyXxiAADJnF1L3FQTrBpdo/IXa8Tm5sBIfd7Jvsldz4IqgkpIK9 6nVhMjWot77KTPYA0haTGoTPyxaQixIJXnINwycrNiKGBim7ZtGWXoUGfA3dzvssjBXyiseSeY1 pmtf+VZVntoHtb23ID7z/wahpGc6SK/bmEdir7TGdOe2ydbCQhu4XM11eVBcT X-Gm-Gg: ASbGnctmh7FE8kSpGXrc8PRXgBDgg4zLWZdNVA3DrThc3qaoy8lq+G082vUPP2pAPlO m1TNiaEBHIIrEyIVhTYyzCBnd7GPc8Z9nDYJG7AiiTJ27KhGHt6SWkram2zl8S7Buq9ufqm3enq s0x7vWcg/Nh3vpE3CXlJliG66xoVobhFVbFVW2EWE5pulB+T++S9cMDi9sl4nPJqJaM4+keJX01 0At3+ue70pjnfIU/AvDUhM5DPTWkdTMaIQgcxgwHuK7eWVkYZ7JDM1R5P0NiwznjhrN3VqVa+P4 P/OSPyEOEa/rRTXA3tY0qE+yM4LHqH7k4saKDMboXykH8rFBZd6HR/A= X-Google-Smtp-Source: AGHT+IHQ5wegr6kanYOu0d5s3yJyGzUlE514CD+v1yZWRzW/8KPUyFt8k3Xz4hC5BY0vmYVmMo1vnwgCtlwE X-Received: by 2002:a05:6870:d6a7:b0:331:9a09:2ba7 with SMTP id 586e51a60fabf-3c0f92ac6eemr3144530fac.29.1760002633714; Thu, 09 Oct 2025 02:37:13 -0700 (PDT) Received: from postal.iol.unh.edu (postal.iol.unh.edu. [2606:4100:3880:1234::84]) by smtp-relay.gmail.com with ESMTPS id 586e51a60fabf-3c202d44390sm309139fac.6.2025.10.09.02.37.13 (version=TLS1_2 cipher=ECDHE-ECDSA-AES128-GCM-SHA256 bits=128/128); Thu, 09 Oct 2025 02:37:13 -0700 (PDT) X-Relaying-Domain: iol.unh.edu Date: Thu, 09 Oct 2025 02:37:13 -0700 (PDT) Message-ID: <68e78249.050a0220.79d42.f3ccSMTPIN_ADDED_MISSING@mx.google.com> Received: from [172.21.0.9] (unknown [172.18.0.240]) by postal.iol.unh.edu (Postfix) with ESMTP id 0FBDD6051830; Thu, 9 Oct 2025 05:37:13 -0400 (EDT) Subject: |SUCCESS| pw157329 [PATCH] [v2] compressdev: update device ID valida From: dpdklab@iol.unh.edu To: Test Report Cc: dpdk-test-reports@iol.unh.edu, Akhil Goyal In-Reply-To: <20251008094555.3078441-1-ashishg@marvell.com> References: <20251008094555.3078441-1-ashishg@marvell.com> Content-Type: text/plain X-BeenThere: test-report@dpdk.org X-Mailman-Version: 2.1.29 Precedence: list List-Id: automatic DPDK test reports List-Unsubscribe: , List-Archive: List-Post: List-Help: List-Subscribe: , Errors-To: test-report-bounces@dpdk.org Test-Label: iol-compile-arm64-testing Test-Status: SUCCESS http://dpdk.org/patch/157329 _Testing PASS_ Submitter: Ashish Gupta Date: Wednesday, October 08 2025 09:45:24 DPDK git baseline: Repo:dpdk-next-crypto Branch: master CommitID:2aa7141a4e2c78e3cce03dbd613532a2166123c1 157329 --> testing pass Upstream job id: Generic-DPDK-Compile-Meson#432599 Test environment and result as below: +------------------------------+--------------------+ | Environment | dpdk_meson_compile | +==============================+====================+ | Red Hat Enterprise Linux 9.5 | PASS | +------------------------------+--------------------+ | Ubuntu 20.04 | PASS | +------------------------------+--------------------+ | Debian GNU/Linux 12 | PASS | +------------------------------+--------------------+ | Fedora Linux 42 | PASS | +------------------------------+--------------------+ | Ubuntu 22.04 | PASS | +------------------------------+--------------------+ | Ubuntu 24.04 | PASS | +------------------------------+--------------------+ | CentOS Stream 9 | PASS | +------------------------------+--------------------+ | CentOS Stream 10 | PASS | +------------------------------+--------------------+ Red Hat Enterprise Linux 9.5 Kernel: 5.4 Compiler: gcc gcc (GCC) 11.5.0 20240719 (Red Hat 11.5.0-2) Ubuntu 20.04 Kernel: 5.15 Compiler: aarch64-linux-gnu-gcc gcc (Ubuntu 9.4.0-1ubuntu1~20.04.2) 9.4.0 Debian GNU/Linux 12 Kernel: 5.4 Compiler: gcc gcc (Debian 12.2.0-14+deb12u1) 12.2.0 Fedora Linux 42 Kernel: 5.4 Compiler: gcc gcc (GCC) 15.2.1 20250808 (Red Hat 15.2.1-1) Ubuntu 22.04 Kernel: 5.4 Compiler: gcc gcc (Ubuntu 11.4.0-1ubuntu1~22.04) 11.4.0 Ubuntu 24.04 Kernel: 5.4 Compiler: gcc gcc (Ubuntu 13.3.0-6ubuntu2~24.04) 13.3.0 CentOS Stream 9 Kernel: 5.4 Compiler: gcc gcc (GCC) 11.5.0 20240719 (Red Hat 11.5.0-11) CentOS Stream 10 Kernel: 5.4 Compiler: gcc gcc (GCC) 14.2.1 20250110 (Red Hat 14.2.1-8) To view detailed results, visit: https://lab.dpdk.org/results/dashboard/patchsets/34237/ UNH-IOL DPDK Community Lab To manage your email subscriptions, visit: https://lab.dpdk.org/results/dashboard/preferences/subscriptions/