From mboxrd@z Thu Jan 1 00:00:00 1970 Return-Path: Received: from mails.dpdk.org (mails.dpdk.org [217.70.189.124]) by inbox.dpdk.org (Postfix) with ESMTP id 36C29488EF for ; Thu, 9 Oct 2025 11:37:27 +0200 (CEST) Received: from mails.dpdk.org (localhost [127.0.0.1]) by mails.dpdk.org (Postfix) with ESMTP id 3318240277; Thu, 9 Oct 2025 11:37:27 +0200 (CEST) Received: from mail-pl1-f226.google.com (mail-pl1-f226.google.com [209.85.214.226]) by mails.dpdk.org (Postfix) with ESMTP id E346D40277 for ; Thu, 9 Oct 2025 11:37:25 +0200 (CEST) Received: by mail-pl1-f226.google.com with SMTP id d9443c01a7336-27eceb38eb1so8089005ad.3 for ; Thu, 09 Oct 2025 02:37:25 -0700 (PDT) DKIM-Signature: v=1; a=rsa-sha256; c=relaxed/relaxed; d=iol.unh.edu; s=unh-iol; t=1760002645; x=1760607445; darn=dpdk.org; h=references:in-reply-to:cc:to:from:subject:message-id:date:from:to :cc:subject:date:message-id:reply-to; bh=+1xsatqkFokSpNpbPVlSPPmruh4Rmzcw6kedANNr5TE=; b=ZP65M9evZMs1/t9IQ7Glf0/dNc4Nr7Wi0aOEvk3WYj9XLQFfkB21Fj13r7QtzHI6DB h1olyuvRSavUwC2iTdcNmZX7nY053Jtyyp4c4jZB0RiTw2fg6mNCkZX928+kImxzbk7p e7P44xdeY1Es7DJbPiwEhiNrCqgva2DA7fTWo= X-Google-DKIM-Signature: v=1; a=rsa-sha256; c=relaxed/relaxed; d=1e100.net; s=20230601; t=1760002645; x=1760607445; h=references:in-reply-to:cc:to:from:subject:message-id:date :x-gm-message-state:from:to:cc:subject:date:message-id:reply-to; bh=+1xsatqkFokSpNpbPVlSPPmruh4Rmzcw6kedANNr5TE=; b=unszqkGcVY0CdmaU2AT/0C2ksF8FkoTxFIQ6ZZzRp4lclLR9UfHxbRQKfHYcdFokkm rPLi0mTeNaWVbuC2mvHDmgG+c6xJX05tXY7frHkS2eexFUFU2GuNTPFteHSkRmIpiT+W DvyCInJhYebw1Cps53lsHxPuvvGSlBcnziasZ6KIh0fMZukX1EiNRiMM51BbHyX4F96V Twh6myrRBrRkLuGfHEnFalLweXe9W9plZj/603eWHmHD8KT1XdW2qBkl5PCZby+T2r6N nfxj+1F+uRfU207cgBZjkNNgwn6pAFyKFL+yvbsJba5tCm2tfHLwh/y7IhDniNiqiVr7 ZnAw== X-Gm-Message-State: AOJu0Yym5udl6HbofzBBLCAVJjCLBw4CdVrEjewTD5BbRkELlrJAIe1Q zee7LAGQUnzh+rrDTiQgG2ZnkHER1+47jUG99FHlXsw4bmAYClUvdznK7t0+FLk+ktNwbkeYIUL 93iQPbjvumWXQ3vzdqKDaxWAH5jD5YKysd7/cmOtyZbcdhZuL+8o21M7nmG4E X-Gm-Gg: ASbGnctKOFT4PQPJdcmuZSAX88RL0c/S3XHFz3Zirtg13+yCJiD/iykJNKTnE8vFIJt LbvK0IjrBJIkjZejfn8DGJ7DE+gLfufyR0CDQQYHWw23yuEvQM3uN2jVmBDfLfAaoq05RYo5hes +Y5dz5AU1QU+gFufv4mxeZycx0Jg+j82kSg9KLZMT4PKaYT4Kaac/x92R95KPHdCyW3s1W8S4os lTDWCDFnE1eRX7CrYMXZNTy/u83Hv24xciR/676cP/vCxqp71nzvjVUaw/Zb6nE5ykZkBybG8+g pVWuJtwXaoeB9VH+izbI3msaMGBmECmKP7fL240qfTbmM60IFTmc4Jk= X-Google-Smtp-Source: AGHT+IFR7i9tQHLs18Q30I30tvWlyf1ZhFyLJfbTiiOs/0nkwFDTFzvJYBeKsLMad3dAo8CqPhaOGrfusWlC X-Received: by 2002:a17:903:240b:b0:278:daab:7940 with SMTP id d9443c01a7336-2902737946cmr87818395ad.17.1760002645167; Thu, 09 Oct 2025 02:37:25 -0700 (PDT) Received: from postal.iol.unh.edu (postal.iol.unh.edu. [2606:4100:3880:1234::84]) by smtp-relay.gmail.com with ESMTPS id d9443c01a7336-29034e02b83sm1820025ad.10.2025.10.09.02.37.25 (version=TLS1_2 cipher=ECDHE-ECDSA-AES128-GCM-SHA256 bits=128/128); Thu, 09 Oct 2025 02:37:25 -0700 (PDT) X-Relaying-Domain: iol.unh.edu Date: Thu, 09 Oct 2025 02:37:25 -0700 (PDT) Message-ID: <68e78255.170a0220.19130e.974aSMTPIN_ADDED_MISSING@mx.google.com> Received: from [172.21.0.2] (unknown [172.18.0.240]) by postal.iol.unh.edu (Postfix) with ESMTP id 76CB86051830; Thu, 9 Oct 2025 05:37:24 -0400 (EDT) Subject: |SUCCESS| pw157330 [PATCH] [v2] compressdev: update device ID valida From: dpdklab@iol.unh.edu To: Test Report Cc: dpdk-test-reports@iol.unh.edu, Akhil Goyal In-Reply-To: <20251008095950.3078552-1-ashishg@marvell.com> References: <20251008095950.3078552-1-ashishg@marvell.com> Content-Type: text/plain X-BeenThere: test-report@dpdk.org X-Mailman-Version: 2.1.29 Precedence: list List-Id: automatic DPDK test reports List-Unsubscribe: , List-Archive: List-Post: List-Help: List-Subscribe: , Errors-To: test-report-bounces@dpdk.org Test-Label: iol-compile-arm64-testing Test-Status: SUCCESS http://dpdk.org/patch/157330 _Testing PASS_ Submitter: Ashish Gupta Date: Wednesday, October 08 2025 09:59:41 DPDK git baseline: Repo:dpdk-next-crypto Branch: master CommitID:2aa7141a4e2c78e3cce03dbd613532a2166123c1 157330 --> testing pass Upstream job id: Generic-DPDK-Compile-Meson#432637 Test environment and result as below: +------------------------------+--------------------+ | Environment | dpdk_meson_compile | +==============================+====================+ | Red Hat Enterprise Linux 9.5 | PASS | +------------------------------+--------------------+ | Ubuntu 20.04 | PASS | +------------------------------+--------------------+ | Debian GNU/Linux 12 | PASS | +------------------------------+--------------------+ | Fedora Linux 42 | PASS | +------------------------------+--------------------+ | Ubuntu 22.04 | PASS | +------------------------------+--------------------+ | Ubuntu 24.04 | PASS | +------------------------------+--------------------+ | CentOS Stream 9 | PASS | +------------------------------+--------------------+ | CentOS Stream 10 | PASS | +------------------------------+--------------------+ Red Hat Enterprise Linux 9.5 Kernel: 5.4 Compiler: gcc gcc (GCC) 11.5.0 20240719 (Red Hat 11.5.0-2) Ubuntu 20.04 Kernel: 5.15 Compiler: aarch64-linux-gnu-gcc gcc (Ubuntu 9.4.0-1ubuntu1~20.04.2) 9.4.0 Debian GNU/Linux 12 Kernel: 5.4 Compiler: gcc gcc (Debian 12.2.0-14+deb12u1) 12.2.0 Fedora Linux 42 Kernel: 5.4 Compiler: gcc gcc (GCC) 15.2.1 20250808 (Red Hat 15.2.1-1) Ubuntu 22.04 Kernel: 5.4 Compiler: gcc gcc (Ubuntu 11.4.0-1ubuntu1~22.04) 11.4.0 Ubuntu 24.04 Kernel: 5.4 Compiler: gcc gcc (Ubuntu 13.3.0-6ubuntu2~24.04) 13.3.0 CentOS Stream 9 Kernel: 5.4 Compiler: gcc gcc (GCC) 11.5.0 20240719 (Red Hat 11.5.0-11) CentOS Stream 10 Kernel: 5.4 Compiler: gcc gcc (GCC) 14.2.1 20250110 (Red Hat 14.2.1-8) To view detailed results, visit: https://lab.dpdk.org/results/dashboard/patchsets/34238/ UNH-IOL DPDK Community Lab To manage your email subscriptions, visit: https://lab.dpdk.org/results/dashboard/preferences/subscriptions/