From mboxrd@z Thu Jan 1 00:00:00 1970 Return-Path: Received: from mails.dpdk.org (mails.dpdk.org [217.70.189.124]) by inbox.dpdk.org (Postfix) with ESMTP id 9D410488F0 for ; Thu, 9 Oct 2025 12:28:22 +0200 (CEST) Received: from mails.dpdk.org (localhost [127.0.0.1]) by mails.dpdk.org (Postfix) with ESMTP id 7C59340277; Thu, 9 Oct 2025 12:28:22 +0200 (CEST) Received: from mail-pf1-f225.google.com (mail-pf1-f225.google.com [209.85.210.225]) by mails.dpdk.org (Postfix) with ESMTP id 7FAF640277 for ; Thu, 9 Oct 2025 12:28:21 +0200 (CEST) Received: by mail-pf1-f225.google.com with SMTP id d2e1a72fcca58-781251eec51so650759b3a.3 for ; Thu, 09 Oct 2025 03:28:21 -0700 (PDT) DKIM-Signature: v=1; a=rsa-sha256; c=relaxed/relaxed; d=iol.unh.edu; s=unh-iol; t=1760005700; x=1760610500; darn=dpdk.org; h=references:in-reply-to:cc:to:from:subject:message-id:date:from:to :cc:subject:date:message-id:reply-to; bh=vxP9VTJK9O/aa4/aYK8b6foMF6s3IJm19QgNvqyidLs=; b=GIlPal1xNEp/G4osKyhcxCPw3bmKpR28XGlAGZJOUyux1i0y1dEUc/9Gw5c1wY8BOO jQJNl+yoq3vOwLNKXWQno3sPMUB/07Q+AG/x78WLdaHAnJJzlTChsb/hsEO4UsU+G7aK JBWcPlegqJXSu8Q1KrNjUxHfYM+LPaTzTpl4I= X-Google-DKIM-Signature: v=1; a=rsa-sha256; c=relaxed/relaxed; d=1e100.net; s=20230601; t=1760005700; x=1760610500; h=references:in-reply-to:cc:to:from:subject:message-id:date :x-gm-message-state:from:to:cc:subject:date:message-id:reply-to; bh=vxP9VTJK9O/aa4/aYK8b6foMF6s3IJm19QgNvqyidLs=; b=X0wbpELIfVozZnOrOlGtCktE2sorGbxrEHDHc9urudms/dDSArRUDkZuPQ5J9mW0uF GaRq2lh/PFGRNWuvUhq5IZis0nhW1Uh5XiKt/cEMUrgQV04Cs8mncAg+Zxr7C4hUeZtF /yknKhSwXsTkSIyumr0J0swAZ2nTGf+Izc0Lit34JTjqXlSaFtD/7qNJPa2gvWfZZHH4 YOMZ2rg6nfuLgZIFEcQw91AH3c8QCe1htIJ/Z0WIo4ve05/+q4ElbdUAwcKL+94fyaPw dhWmQlqD2f8/aTOE2RhEBgtm+/vS7UrYKhcPH/9+tGeEdEgFW4ICeKgaX/TgwgyUQ9Vu CxzQ== X-Gm-Message-State: AOJu0Yw/PJ+hs9wxLSoYg+O+/surQxd2CnlZ6Rdz3D0kgGv4MXPffaXm 8/n71PjVq8ozvMZnNbGem9GAa/4xc9cjEPcCe5AYjixa8wgaXdiGogpk6oi6hi2lRwBYOLHsIED 3s/+qkX/Aa7z7Nv7n7Rlvm8hslCi6gzBe5+F04rv9AxHA X-Gm-Gg: ASbGncvotlMgbd9PJrH5kW/HRrUJn7LAKNIzXlfNoNmY17BW1QSI6ty0mm+XRYVWQON ftGHmicpuBZPtK3tblyuI6IyoF41OysGx+ynBNKfc9dGaY6Io3/SkH1PhweWu8zCw/fCD3UvF7Z p1GkhyQ3lLqWqbbJJF19INylgW/lDQFPNYCmlym1zB4AbLcdVE4c+WCe3+RYKVxbTrLnEIEePG/ ni+X5HlJx5n8xBZw6PoVgmBQ3d+G4GZhnA4gNntEyDq8lymCwYXtCqLWyRyWti9mHqFCJi+ehpr l0nT2ogzNeP+bbjozJ950Sjzqo7VO7GqtJiTtIvc2VIER8kvRGgwVXTAO1M7gZareqKdF895ZJq /iw== X-Google-Smtp-Source: AGHT+IHYkt+F31D36UYk7Eud1LkTuGxoJDzT+9X6W0cRW4opMJ4T1jLN/FcawS3erk3kN08OA6+FAgnfV6lN X-Received: by 2002:a05:6a20:9389:b0:263:616e:b62a with SMTP id adf61e73a8af0-32da8122b3bmr8877725637.13.1760005700582; Thu, 09 Oct 2025 03:28:20 -0700 (PDT) Received: from postal.iol.unh.edu (postal.iol.unh.edu. [132.177.123.84]) by smtp-relay.gmail.com with ESMTPS id 41be03b00d2f7-b6302c4b0b7sm636392a12.1.2025.10.09.03.28.20 (version=TLS1_2 cipher=ECDHE-ECDSA-AES128-GCM-SHA256 bits=128/128); Thu, 09 Oct 2025 03:28:20 -0700 (PDT) X-Relaying-Domain: iol.unh.edu Date: Thu, 09 Oct 2025 03:28:20 -0700 (PDT) Message-ID: <68e78e44.050a0220.21a5d3.1d03SMTPIN_ADDED_MISSING@mx.google.com> Received: from [172.21.0.2] (unknown [172.18.0.240]) by postal.iol.unh.edu (Postfix) with ESMTP id D30A66051830; Thu, 9 Oct 2025 06:28:19 -0400 (EDT) Subject: |SUCCESS| pw157355 [PATCH] [v3] net/mlx5: fix age checking crash From: dpdklab@iol.unh.edu To: Test Report Cc: dpdk-test-reports@iol.unh.edu In-Reply-To: <20251009091810.174004-1-rongweil@nvidia.com> References: <20251009091810.174004-1-rongweil@nvidia.com> Content-Type: text/plain X-BeenThere: test-report@dpdk.org X-Mailman-Version: 2.1.29 Precedence: list List-Id: automatic DPDK test reports List-Unsubscribe: , List-Archive: List-Post: List-Help: List-Subscribe: , Errors-To: test-report-bounces@dpdk.org Test-Label: iol-compile-amd64-testing Test-Status: SUCCESS http://dpdk.org/patch/157355 _Testing PASS_ Submitter: Rongwei Liu Date: Thursday, October 09 2025 09:18:10 DPDK git baseline: Repo:dpdk-next-net-mlx Branch: master CommitID:2374f33e1d964e100895fd294966380c46f0886d 157355 --> testing pass Upstream job id: Windows-Compile-DPDK-Native#31516 Test environment and result as below: +---------------------+-------------------------+--------------------+-------------------+----------------------+ | Environment | dpdk_llvm_clang_compile | dpdk_meson_compile | dpdk_msvc_compile | dpdk_mingw64_compile | +=====================+=========================+====================+===================+======================+ | Windows Server 2022 | PASS | SKIPPED | PASS | PASS | +---------------------+-------------------------+--------------------+-------------------+----------------------+ | Ubuntu 20.04 | SKIPPED | PASS | SKIPPED | SKIPPED | +---------------------+-------------------------+--------------------+-------------------+----------------------+ | FreeBSD 14.2 | SKIPPED | PASS | SKIPPED | SKIPPED | +---------------------+-------------------------+--------------------+-------------------+----------------------+ Windows Server 2022 Kernel: 10.0.20348.2031 Compiler: clang 15.0.7, gcc 14.1.0 (MinGW), and MSVC VS 19.39.33521 Ubuntu 20.04 Kernel: 4.19 Compiler: gcc gcc (Ubuntu 9.4.0-1ubuntu1~20.04.2) 9.4.0 FreeBSD 14.2 Kernel: 14.2-RELEASE Compiler: clang 18.1.6 To view detailed results, visit: https://lab.dpdk.org/results/dashboard/patchsets/34243/ UNH-IOL DPDK Community Lab To manage your email subscriptions, visit: https://lab.dpdk.org/results/dashboard/preferences/subscriptions/