From mboxrd@z Thu Jan 1 00:00:00 1970 Return-Path: Received: from mails.dpdk.org (mails.dpdk.org [217.70.189.124]) by inbox.dpdk.org (Postfix) with ESMTP id 9DFE8488F0 for ; Thu, 9 Oct 2025 12:32:04 +0200 (CEST) Received: from mails.dpdk.org (localhost [127.0.0.1]) by mails.dpdk.org (Postfix) with ESMTP id 9858A40277; Thu, 9 Oct 2025 12:32:04 +0200 (CEST) Received: from mail-vs1-f97.google.com (mail-vs1-f97.google.com [209.85.217.97]) by mails.dpdk.org (Postfix) with ESMTP id 8F44C40277 for ; Thu, 9 Oct 2025 12:32:03 +0200 (CEST) Received: by mail-vs1-f97.google.com with SMTP id ada2fe7eead31-5c72dce3201so291078137.3 for ; Thu, 09 Oct 2025 03:32:03 -0700 (PDT) DKIM-Signature: v=1; a=rsa-sha256; c=relaxed/relaxed; d=iol.unh.edu; s=unh-iol; t=1760005923; x=1760610723; darn=dpdk.org; h=cc:to:from:subject:message-id:date:from:to:cc:subject:date :message-id:reply-to; bh=0/NaSqUGH4oaAfa/Bxw1PKTbvxQPKeWrtkmbowSMHLM=; b=U83ffA9nvjI1++rERrvqoOxNPHfsaK8zQlGVbSj5sGReSwJZ45F1coI+oZuyzSVn+N HE6alRE6oT1MiHVRLt8By/JuTLONALGC5XB3LhgFca/Ta0fhVC4y+yuiO/3AtNV5RM50 z3I/n73aN46neN6Zm6WQqhGL1RUp66iD2dCKQ= X-Google-DKIM-Signature: v=1; a=rsa-sha256; c=relaxed/relaxed; d=1e100.net; s=20230601; t=1760005923; x=1760610723; h=cc:to:from:subject:message-id:date:x-gm-message-state:from:to:cc :subject:date:message-id:reply-to; bh=0/NaSqUGH4oaAfa/Bxw1PKTbvxQPKeWrtkmbowSMHLM=; b=fP/UVrebnOsYJDAI2FOh9vwyC5VkDw6hgUoSd7pMMubp0Q0H/seOX2m1xfoUuOBnal YqdNnoZUjX/+8o/m4+6X1karBe96KQ0sXZ4zfNpoIbjlBfyEn4apRktx+QYSk9DbNTL3 T0Mcisfbeqm4HI4NUsi6J7ipMLoL42hJGAn35ais/wdX6Dz6Ait9LY1I8fB1ajuMsAQR TX+CepnrKGQTkeAJg/LqJuMlyyDRoo2jOLAcA9dyrBLkgyW/zY5NDLrSVa/0Y719XkNv 0mBwovMbGKwGXlZlFyxDKis+5oyslfL1CWnarqxYwjg1QheIq4T5ADRLcuskHBGkDepI nGyA== X-Gm-Message-State: AOJu0YzL/DNJnkfWyZQgPL72NN13ZLU3V6GqYAwWwwm8IUzo2t4qDmKi 77QU4meJoQW04MYinyCCTeYXgx1gBv0zi2eZ3CYQ0thFkgP7qLs+W14yLcmMRLH8m2QwAzfCNGw i1ZBgbwMoAHpQs54Xit1rxbB2Z6yylMaIhWW+C/oU+AUvCC3G+81+ X-Gm-Gg: ASbGncttrpGJK1l+Zm2PLJyH46yJZTIJv8hR/ZeRrn28/8Fq7cMHa2DtC3qWgrgcFyG cGR9y4haact3d4GTSqiHe610SJ+3aOWqTS0X5O3RqJCekyc/NjKsr6NRauS+GgSLag9O1m26Kuy 7fvlDrmUjVyi3X5WiPNB+TiAQFu28xtx/n5+l2+aWx1f1I1b27s89P36unZxTmw7ehyS5DCpkRL Y1cS0jkjy7EllOCfDuE1FS7Vo6MsYwTN3ND1Si6HuIOfwfDc8+QLz8fL9wPj9fH/wbib7WFq6Yk Vsn+qUvXNAQBOUmyKIGnunzx/d6c0t+sPN+a+nQPRH9gvIIxDPx54Jk= X-Google-Smtp-Source: AGHT+IF/TYGK+N3vAby/Wf6GaeiDUAT33QaOdsfQhDhDkxikPqf4hl456qe4qNJET5YQXU+dlyyCAi0xK9yH X-Received: by 2002:a05:6102:1492:b0:5d5:f8f2:152c with SMTP id ada2fe7eead31-5d5f8f2199dmr60728137.1.1760005922923; Thu, 09 Oct 2025 03:32:02 -0700 (PDT) Received: from postal.iol.unh.edu (postal.iol.unh.edu. [2606:4100:3880:1234::84]) by smtp-relay.gmail.com with ESMTPS id ada2fe7eead31-5d5d35813a2sm957621137.0.2025.10.09.03.32.02 (version=TLS1_2 cipher=ECDHE-ECDSA-AES128-GCM-SHA256 bits=128/128); Thu, 09 Oct 2025 03:32:02 -0700 (PDT) X-Relaying-Domain: iol.unh.edu Date: Thu, 09 Oct 2025 03:32:02 -0700 (PDT) Message-ID: <68e78f22.050a0220.21ca57.29c1SMTPIN_ADDED_MISSING@mx.google.com> Received: from [172.21.0.4] (unknown [172.18.0.240]) by postal.iol.unh.edu (Postfix) with ESMTP id 4E4596051830; Thu, 9 Oct 2025 06:32:02 -0400 (EDT) Subject: |SUCCESS| [GIT MASTER] b287e404643aeab5bb5db084c142789df187844e From: dpdklab@iol.unh.edu To: Test Report Cc: dpdk-test-reports@iol.unh.edu, Xueming Li , Christian Ehrhardt , Kevin Traynor , Luca Boccassi Content-Type: text/plain X-BeenThere: test-report@dpdk.org X-Mailman-Version: 2.1.29 Precedence: list List-Id: automatic DPDK test reports List-Unsubscribe: , List-Archive: List-Post: List-Help: List-Subscribe: , Errors-To: test-report-bounces@dpdk.org _Testing PASS_ Branch: tags/v24.11 b287e404643aeab5bb5db084c142789df187844e --> testing pass Upstream job id: Generic-DPDK-Compile-Meson#432764 Test environment and result as below: +---------------------+--------------------+-------------------+-------------------------+----------------------+-------------------+ | Environment | dpdk_meson_compile | dpdk_msvc_compile | dpdk_llvm_clang_compile | dpdk_mingw64_compile | dpdk_compile_spdk | +=====================+====================+===================+=========================+======================+===================+ | Ubuntu 20.04 | PASS | SKIPPED | SKIPPED | SKIPPED | SKIPPED | +---------------------+--------------------+-------------------+-------------------------+----------------------+-------------------+ | FreeBSD 14.2 | PASS | SKIPPED | SKIPPED | SKIPPED | SKIPPED | +---------------------+--------------------+-------------------+-------------------------+----------------------+-------------------+ | CentOS Stream 9 | PASS | SKIPPED | SKIPPED | SKIPPED | PASS | +---------------------+--------------------+-------------------+-------------------------+----------------------+-------------------+ | Windows Server 2022 | SKIPPED | PASS | PASS | PASS | SKIPPED | +---------------------+--------------------+-------------------+-------------------------+----------------------+-------------------+ Ubuntu 20.04 Kernel: 4.19 Compiler: gcc gcc (Ubuntu 9.4.0-1ubuntu1~20.04.2) 9.4.0 FreeBSD 14.2 Kernel: 14.2-RELEASE Compiler: clang 18.1.6 CentOS Stream 9 Kernel: 5.15 Compiler: gcc gcc (GCC) 11.5.0 20240719 (Red Hat 11.5.0-11) Windows Server 2022 Kernel: 10.0.20348.2031 Compiler: clang 15.0.7, gcc 14.1.0 (MinGW), and MSVC VS 19.39.33521 To view detailed results, visit: https://lab.dpdk.org/results/dashboard/tarballs/35151/ UNH-IOL DPDK Community Lab To manage your email subscriptions, visit: https://lab.dpdk.org/results/dashboard/preferences/subscriptions/