From mboxrd@z Thu Jan 1 00:00:00 1970 Return-Path: Received: from mails.dpdk.org (mails.dpdk.org [217.70.189.124]) by inbox.dpdk.org (Postfix) with ESMTP id E53C6488F0 for ; Thu, 9 Oct 2025 13:05:21 +0200 (CEST) Received: from mails.dpdk.org (localhost [127.0.0.1]) by mails.dpdk.org (Postfix) with ESMTP id BD30F40277; Thu, 9 Oct 2025 13:05:21 +0200 (CEST) Received: from mail-il1-f228.google.com (mail-il1-f228.google.com [209.85.166.228]) by mails.dpdk.org (Postfix) with ESMTP id F1E4A40277 for ; Thu, 9 Oct 2025 13:05:19 +0200 (CEST) Received: by mail-il1-f228.google.com with SMTP id e9e14a558f8ab-4291359714eso7517095ab.1 for ; Thu, 09 Oct 2025 04:05:19 -0700 (PDT) DKIM-Signature: v=1; a=rsa-sha256; c=relaxed/relaxed; d=iol.unh.edu; s=unh-iol; t=1760007919; x=1760612719; darn=dpdk.org; h=references:in-reply-to:cc:to:from:subject:message-id:date:from:to :cc:subject:date:message-id:reply-to; bh=pywgVxk2VF6Z98HRHza1ssXX8Jq9495w6DskWn3YZR8=; b=bwJ3if+pK1iZ5vSqU4lgF2IdzPTncqCltAxb7kl3Zmomc5g8VuB3s0oUkgKo3YEOvH b6SYotqm3b1pevu86xJsMuo5s7QTBi3odVeQuxUsQrTgRcaSz7mv9j553qsxtEpZcOgv LNe4mIV6qFhs5x6LQv2z2/3A/bGSD7XTwqbng= X-Google-DKIM-Signature: v=1; a=rsa-sha256; c=relaxed/relaxed; d=1e100.net; s=20230601; t=1760007919; x=1760612719; h=references:in-reply-to:cc:to:from:subject:message-id:date :x-gm-message-state:from:to:cc:subject:date:message-id:reply-to; bh=pywgVxk2VF6Z98HRHza1ssXX8Jq9495w6DskWn3YZR8=; b=clIMRSw6QLKuSuqIgMFl3LAfk3/Gqg2o4ahaVbhNO68vHa8420hkBAuysOcp294RyQ XMwYNmQvVqNpPQzPEyUsMoxzTOJ28tE0r8TDz5nAah5ELzwzyhvMo5PEc0thHJEWb4sG 2YC1HIVH3tNojZlDBtjyqCB0/WFZGkaOcfXSvuLnwZQ4Yg0B2NW1yOW/fVXNYXxU1veF xt0XcC+37aZPZshkB4oh2w9aTUsorMj3DhyZJrsGVoxZm03av6FkSBbFr5hJ6Y9SQM9T N52WyBST1lt7BTGyCbeP/IcDf157dogqwmtLx9xGDKujwF9swmw8Z+/BJSCW15OGsJmy wApg== X-Gm-Message-State: AOJu0Yx8AVYBn2m17i/p0dCkitvm0lqXQ12OpwM33l24wD+3BZLbkKZb vAYSxYJzlVJTFB2xaaedov+JXm/j2xwnTfOlVKFlJ6gwQ7MO0Dvu/pqzruqmdz/Ns5CTCn0l3bW /Ad08d0rRNmB3eD+HZl9l6fIE38aAYFIZN3//JG4s0Kkt X-Gm-Gg: ASbGnctT8OCIc7uADtcyUaC/e7rECrbz7y12WjCQjs5wRhRuJXaUZdCw1E1jbF4dxs9 1Cnh4Pb1P+K8TtuSaFjqQTAEWLxDOrgjViKjp6DYAA7rJGFozU9ysSl/CaUmnLn23OzTFdBsYrN moqpzqZs83burhs7RivvtrEYh6gNQtDm63qK0QqqFxlLZZy7tfXMgvriLzSTayWDQnbJptOf6c/ kqP58mvvpbfmmjN9bM5TImMHvVrDbMU8vw5u4A1o8el70IN8fiL4tuaKdjKrQrfMmc78L3FA40+ ySRJtRN5g2u2Q5k320Y54EHF+jMajV5jtbQGJ0dce/CbPwOoqcyFTcvzGxRmk+L3gdHXwtWVGFj C/g== X-Google-Smtp-Source: AGHT+IHOpoz5sKApAN87uK4BBa9PpAawI9UX37Dn+WGmFH0weAiY8S+2TFab7zphZYhYWurPMGncDItgx/lS X-Received: by 2002:a05:6e02:1488:b0:42e:2c30:285b with SMTP id e9e14a558f8ab-42f873d1c4bmr58135205ab.20.1760007919250; Thu, 09 Oct 2025 04:05:19 -0700 (PDT) Received: from postal.iol.unh.edu (postal.iol.unh.edu. [132.177.123.84]) by smtp-relay.gmail.com with ESMTPS id e9e14a558f8ab-42f90260c91sm1577195ab.13.2025.10.09.04.05.19 (version=TLS1_2 cipher=ECDHE-ECDSA-AES128-GCM-SHA256 bits=128/128); Thu, 09 Oct 2025 04:05:19 -0700 (PDT) X-Relaying-Domain: iol.unh.edu Date: Thu, 09 Oct 2025 04:05:19 -0700 (PDT) Message-ID: <68e796ef.050a0220.707e3.8264SMTPIN_ADDED_MISSING@mx.google.com> Received: from [172.21.0.2] (unknown [172.18.0.240]) by postal.iol.unh.edu (Postfix) with ESMTP id C094E60003E8; Thu, 9 Oct 2025 07:05:18 -0400 (EDT) Subject: |SUCCESS| pw157355 [PATCH] [v3] net/mlx5: fix age checking crash From: dpdklab@iol.unh.edu To: Test Report Cc: dpdk-test-reports@iol.unh.edu In-Reply-To: <20251009091810.174004-1-rongweil@nvidia.com> References: <20251009091810.174004-1-rongweil@nvidia.com> Content-Type: text/plain X-BeenThere: test-report@dpdk.org X-Mailman-Version: 2.1.29 Precedence: list List-Id: automatic DPDK test reports List-Unsubscribe: , List-Archive: List-Post: List-Help: List-Subscribe: , Errors-To: test-report-bounces@dpdk.org Test-Label: iol-unit-amd64-testing Test-Status: SUCCESS http://dpdk.org/patch/157355 _Testing PASS_ Submitter: Rongwei Liu Date: Thursday, October 09 2025 09:18:10 DPDK git baseline: Repo:dpdk-next-net-mlx Branch: master CommitID:2374f33e1d964e100895fd294966380c46f0886d 157355 --> testing pass Upstream job id: Generic-Unit-Test-DPDK#379900 Test environment and result as below: +-------------------------------+----------------+ | Environment | dpdk_unit_test | +===============================+================+ | CentOS Stream 9 | PASS | +-------------------------------+----------------+ | Windows Server 2022 | PASS | +-------------------------------+----------------+ | Fedora Linux 40 | PASS | +-------------------------------+----------------+ | Fedora Linux 42 | PASS | +-------------------------------+----------------+ | CentOS Stream 10 | PASS | +-------------------------------+----------------+ | Fedora Linux 41 | PASS | +-------------------------------+----------------+ | Debian GNU/Linux 12 | PASS | +-------------------------------+----------------+ | Red Hat Enterprise Linux 8.10 | PASS | +-------------------------------+----------------+ | Red Hat Enterprise Linux 9.5 | PASS | +-------------------------------+----------------+ | Ubuntu 20.04 | PASS | +-------------------------------+----------------+ | Ubuntu 24.04 | PASS | +-------------------------------+----------------+ | Ubuntu 22.04 | PASS | +-------------------------------+----------------+ CentOS Stream 9 Kernel: 5.15 Compiler: gcc gcc (GCC) 11.5.0 20240719 (Red Hat 11.5.0-11) Windows Server 2022 Kernel: 10.0.20348.2031 Compiler: clang 15.0.7, gcc 14.1.0 (MinGW), and MSVC VS 19.39.33521 Fedora Linux 40 Kernel: 5.15 Compiler: gcc gcc (GCC) 14.2.1 20240912 (Red Hat 14.2.1-3) Fedora Linux 42 Kernel: 5.15 Compiler: gcc gcc (GCC) 15.2.1 20250808 (Red Hat 15.2.1-1) CentOS Stream 10 Kernel: 5.15 Compiler: gcc gcc (GCC) 14.2.1 20250110 (Red Hat 14.2.1-8) Fedora Linux 41 Kernel: 5.15 Compiler: gcc gcc (GCC) 14.3.1 20250523 (Red Hat 14.3.1-1) Debian GNU/Linux 12 Kernel: 5.15 Compiler: gcc gcc (Debian 12.2.0-14+deb12u1) 12.2.0 Red Hat Enterprise Linux 8.10 Kernel: 5.15 Compiler: gcc gcc (GCC) 8.5.0 20210514 (Red Hat 8.5.0-22) Red Hat Enterprise Linux 9.5 Kernel: 5.15 Compiler: gcc gcc (GCC) 11.5.0 20240719 (Red Hat 11.5.0-2) Ubuntu 20.04 Kernel: 5.15 Compiler: gcc gcc (Ubuntu 9.4.0-1ubuntu1~20.04.2) 9.4.0 Ubuntu 24.04 Kernel: 5.15 Compiler: gcc gcc (Ubuntu 13.3.0-6ubuntu2~24.04) 13.3.0 Ubuntu 22.04 Kernel: 5.15 Compiler: gcc gcc (Ubuntu 11.4.0-1ubuntu1~22.04) 11.4.0 To view detailed results, visit: https://lab.dpdk.org/results/dashboard/patchsets/34243/ UNH-IOL DPDK Community Lab To manage your email subscriptions, visit: https://lab.dpdk.org/results/dashboard/preferences/subscriptions/