From mboxrd@z Thu Jan 1 00:00:00 1970 Return-Path: Received: from mails.dpdk.org (mails.dpdk.org [217.70.189.124]) by inbox.dpdk.org (Postfix) with ESMTP id 4C1E6488F0 for ; Thu, 9 Oct 2025 13:31:20 +0200 (CEST) Received: from mails.dpdk.org (localhost [127.0.0.1]) by mails.dpdk.org (Postfix) with ESMTP id 34D0F40277; Thu, 9 Oct 2025 13:31:20 +0200 (CEST) Received: from mail-il1-f228.google.com (mail-il1-f228.google.com [209.85.166.228]) by mails.dpdk.org (Postfix) with ESMTP id 2CE3240277 for ; Thu, 9 Oct 2025 13:31:19 +0200 (CEST) Received: by mail-il1-f228.google.com with SMTP id e9e14a558f8ab-42f94689e73so3570405ab.0 for ; Thu, 09 Oct 2025 04:31:19 -0700 (PDT) DKIM-Signature: v=1; a=rsa-sha256; c=relaxed/relaxed; d=iol.unh.edu; s=unh-iol; t=1760009478; x=1760614278; darn=dpdk.org; h=references:in-reply-to:cc:to:from:subject:message-id:date:from:to :cc:subject:date:message-id:reply-to; bh=OArHOlkE5Y9jId+Hl1P7D8s0Ytd1nhflHvpm6igMKNE=; b=UCIF40pW3b6gUO+BpURFpkzk0lApvh9JFpoempJ1cgtMcHHoBlDmzlZLJ83EZ7OUVk ynDPfUOp2k/RZ2TRQ6f+ZrxlcRlk3zBywCvnjY174YATRwtLdVgUguqGRk7BrkujT0LD 8RDt7oNwlqIDiIQnPgGu+5YnrvUU+z8iECtJU= X-Google-DKIM-Signature: v=1; a=rsa-sha256; c=relaxed/relaxed; d=1e100.net; s=20230601; t=1760009478; x=1760614278; h=references:in-reply-to:cc:to:from:subject:message-id:date :x-gm-message-state:from:to:cc:subject:date:message-id:reply-to; bh=OArHOlkE5Y9jId+Hl1P7D8s0Ytd1nhflHvpm6igMKNE=; b=dFddWr4Jm6lExjBwu2YIvjV4Wl7il9PUJiOasjGSbaFktTAkKLJA9AlCEt/aiQKawz 9o8VXlNEhhlSzMbOwTzWqHtGxjffbSYyr35Gg+U1C2xJKdBzagKo6FZe9HzCQGKQmP2I ZFozz6lqqQR5kuk0rH9v0Gns6Sm/6+L2VQ+dHftcNqeUg0VSecEThG0fMCou4XNb3CiG QAcA4jec0kFAKCN+sy684eCdx6x4iO8BhtrYhEuxoopwsuEiPAqbaEwz+HSXrj9kvf3V WdsE4lHEAiCK3u1z7EOUV6efntri8PnTrbdUu/4gd7r+nWqMYfli4AuRgsQLS+G0+FbA 36Fg== X-Gm-Message-State: AOJu0YzH6JCJTkyKgvaS0leZ8pyetKYQ+LyMFoTIvJQYhSW1xU3d0mFi PdODVelV5zzzqG561MNndnh+KH+L2OCkUjIjFO5op37RTf/RtkxehJk43Mr7vuSyWnaG+3+PjkP wx3IW/vaU8oRbVLoDUJx8Fg97ixTSaXVseVZWWaL2O8CV X-Gm-Gg: ASbGncsP8jJrOEp6+XbJjbrUdN3fvr6NrWAbJJvJFvObrYfRsR63TYfBFZ1Xo3OVVKL oij3VxZavJoLRUjApU9KMJSC5phNRAgi+HpadBFfMkx0hd3GRHMn9dxmLSMMqmyfJd5eSqOcwjx 2xTm0rnHM68xoFiT9+IckXUmkkWPZVBtshHsapn6N3Oyf1TrDqE0fNFsDOHNfyPR8zu8TODVPZ0 sbbryQJFYeDzzZ03M4xAGN+6nDeiOT45K6D51SrLSFbvBzBZL6Zwhjp4USjQ80cOpfaw7pAfPG9 iPte9OiU0/sICJaSvR+YRzupWUIe5F4NPzDREVAf9jk5PLeHjFM4ITkH3EKZzpS6iL/z5CxrmVi xIw== X-Google-Smtp-Source: AGHT+IG4hHjltx0N7ZheHLkES5m95fKxlYZK8ul4SwC+ipZtMlHowxCkmsnorzplds+SrqEND2yq8EwOdwgl X-Received: by 2002:a05:6e02:1c0c:b0:42d:7dae:e643 with SMTP id e9e14a558f8ab-42f873ff03fmr70319275ab.23.1760009478416; Thu, 09 Oct 2025 04:31:18 -0700 (PDT) Received: from postal.iol.unh.edu (postal.iol.unh.edu. [132.177.123.84]) by smtp-relay.gmail.com with ESMTPS id 8926c6da1cb9f-57b5ed63aedsm1684383173.33.2025.10.09.04.31.18 (version=TLS1_2 cipher=ECDHE-ECDSA-AES128-GCM-SHA256 bits=128/128); Thu, 09 Oct 2025 04:31:18 -0700 (PDT) X-Relaying-Domain: iol.unh.edu Date: Thu, 09 Oct 2025 04:31:18 -0700 (PDT) Message-ID: <68e79d06.050a0220.10d86e.b102SMTPIN_ADDED_MISSING@mx.google.com> Received: from [172.21.0.3] (unknown [172.18.0.240]) by postal.iol.unh.edu (Postfix) with ESMTP id CA16C6051830; Thu, 9 Oct 2025 07:31:17 -0400 (EDT) Subject: |SUCCESS| pw157357-157356 [PATCH] [v3,2/2] net/iavf: add restore com From: dpdklab@iol.unh.edu To: Test Report Cc: dpdk-test-reports@iol.unh.edu, Bruce Richardson In-Reply-To: <20251009102835.926479-2-ciara.loftus@intel.com> References: <20251009102835.926479-2-ciara.loftus@intel.com> Content-Type: text/plain X-BeenThere: test-report@dpdk.org X-Mailman-Version: 2.1.29 Precedence: list List-Id: automatic DPDK test reports List-Unsubscribe: , List-Archive: List-Post: List-Help: List-Subscribe: , Errors-To: test-report-bounces@dpdk.org Test-Label: iol-unit-amd64-testing Test-Status: SUCCESS http://dpdk.org/patch/157356 _Testing PASS_ Submitter: Loftus, Ciara Date: Thursday, October 09 2025 10:28:35 DPDK git baseline: Repo:dpdk-next-net-intel Branch: master CommitID:21c1fe280a2480dcd7edbb3e51cc2f9a37c1c6e0 157357-157356 --> testing pass Upstream job id: Generic-VM-Unit-Test-DPDK#31688 Test environment and result as below: +-------------------------------+----------------+ | Environment | dpdk_unit_test | +===============================+================+ | CentOS Stream 9 | PASS | +-------------------------------+----------------+ | Debian GNU/Linux 12 | PASS | +-------------------------------+----------------+ | CentOS Stream 10 | PASS | +-------------------------------+----------------+ | Fedora Linux 41 | PASS | +-------------------------------+----------------+ | Fedora Linux 40 | PASS | +-------------------------------+----------------+ | Fedora Linux 42 | PASS | +-------------------------------+----------------+ | Red Hat Enterprise Linux 8.10 | PASS | +-------------------------------+----------------+ | Red Hat Enterprise Linux 9.5 | PASS | +-------------------------------+----------------+ | Ubuntu 20.04 | PASS | +-------------------------------+----------------+ | Ubuntu 22.04 | PASS | +-------------------------------+----------------+ | Ubuntu 24.04 | PASS | +-------------------------------+----------------+ | Windows Server 2022 | PASS | +-------------------------------+----------------+ CentOS Stream 9 Kernel: 5.15 Compiler: gcc gcc (GCC) 11.5.0 20240719 (Red Hat 11.5.0-11) Debian GNU/Linux 12 Kernel: 5.15 Compiler: gcc gcc (Debian 12.2.0-14+deb12u1) 12.2.0 CentOS Stream 10 Kernel: 5.15 Compiler: gcc gcc (GCC) 14.2.1 20250110 (Red Hat 14.2.1-8) Fedora Linux 41 Kernel: 5.15 Compiler: gcc gcc (GCC) 14.3.1 20250523 (Red Hat 14.3.1-1) Fedora Linux 40 Kernel: 5.15 Compiler: clang gcc (GCC) 14.2.1 20240912 (Red Hat 14.2.1-3) Fedora Linux 42 Kernel: 5.15 Compiler: gcc gcc (GCC) 15.2.1 20250808 (Red Hat 15.2.1-1) Red Hat Enterprise Linux 8.10 Kernel: 5.15 Compiler: gcc gcc (GCC) 8.5.0 20210514 (Red Hat 8.5.0-22) Red Hat Enterprise Linux 9.5 Kernel: 5.15 Compiler: gcc gcc (GCC) 11.5.0 20240719 (Red Hat 11.5.0-2) Ubuntu 20.04 Kernel: 5.15 Compiler: gcc gcc (Ubuntu 9.4.0-1ubuntu1~20.04.2) 9.4.0 Ubuntu 22.04 Kernel: 5.15 Compiler: gcc gcc (Ubuntu 11.4.0-1ubuntu1~22.04) 11.4.0 Ubuntu 24.04 Kernel: 5.15 Compiler: gcc gcc (Ubuntu 13.3.0-6ubuntu2~24.04) 13.3.0 Windows Server 2022 Kernel: 10.0.20348.2031 Compiler: clang 15.0.7, gcc 14.1.0 (MinGW), and MSVC VS 19.39.33521 To view detailed results, visit: https://lab.dpdk.org/results/dashboard/patchsets/34244/ UNH-IOL DPDK Community Lab To manage your email subscriptions, visit: https://lab.dpdk.org/results/dashboard/preferences/subscriptions/