From mboxrd@z Thu Jan 1 00:00:00 1970 Return-Path: Received: from mails.dpdk.org (mails.dpdk.org [217.70.189.124]) by inbox.dpdk.org (Postfix) with ESMTP id 67DB9488F0 for ; Thu, 9 Oct 2025 13:32:55 +0200 (CEST) Received: from mails.dpdk.org (localhost [127.0.0.1]) by mails.dpdk.org (Postfix) with ESMTP id 6223940277; Thu, 9 Oct 2025 13:32:55 +0200 (CEST) Received: from mail-il1-f225.google.com (mail-il1-f225.google.com [209.85.166.225]) by mails.dpdk.org (Postfix) with ESMTP id 4404B40277 for ; Thu, 9 Oct 2025 13:32:54 +0200 (CEST) Received: by mail-il1-f225.google.com with SMTP id e9e14a558f8ab-425911e5661so3103245ab.1 for ; Thu, 09 Oct 2025 04:32:54 -0700 (PDT) DKIM-Signature: v=1; a=rsa-sha256; c=relaxed/relaxed; d=iol.unh.edu; s=unh-iol; t=1760009573; x=1760614373; darn=dpdk.org; h=references:in-reply-to:cc:to:from:subject:message-id:date:from:to :cc:subject:date:message-id:reply-to; bh=/WmzB6KzPtYa/z+yoFVNa4kQrAP0UfJqDgE3ItNGHNA=; b=FPN03MwzgZXoirECZgelhUlOU4SczTmU51KkRH+kB/Kal+l3xLNX2WLjK3lQQobQse f1qAKu58rCHo8Tb+AaSNse5mNjKVHFySRACXXbYXOFjmqpvkPG6Xpw2E7WaREa/Xc090 8GMHdeSubHmi7sxV2Bp1NyUU1lp+LHdFE/IzE= X-Google-DKIM-Signature: v=1; a=rsa-sha256; c=relaxed/relaxed; d=1e100.net; s=20230601; t=1760009573; x=1760614373; h=references:in-reply-to:cc:to:from:subject:message-id:date :x-gm-message-state:from:to:cc:subject:date:message-id:reply-to; bh=/WmzB6KzPtYa/z+yoFVNa4kQrAP0UfJqDgE3ItNGHNA=; b=ftUOWI04ZhnqNhzHH5ur8ylehOWspYvrrRIvCDWTqjHIXI8r721Wh88SC3HNvtQ9uH Flmf+bnZX/C5PWw2ZfcgHXyWhoqf/oBGQEhoRmpIIZNRpKPLtWyUYIzZJbbxdDvZSsTw KkdWW3+aMJ5UmnkQtbmKAyFi694OCaecR8k7FGAbOcIJVFtlAAKm5epOiaUp1SbbIvMq Zq4epf7gOqMHElqBpWs0GTyOvJTm2Z6LoYNsZwrFlMtxIjzgUSFZYkSXO7GwzAHONvbG LJrl/P82WrKIi9enFgZo3YnNlCPKKwCreaLLu4rvZG29J6/ooa5gcF5n+wlWaRKJeDvq kaqg== X-Gm-Message-State: AOJu0YyylT15J9BzLY0Y3bsd3Hj2MnZmkrKt5ogtUqavsDQpnfucOBFI vuIB60jrcJDQm3LG0pv+tSfV0D8wDF6BpQufo3c1QPZ0BV/NhRF3EMdTovuFeQu6jgVVK6oZOoq W2px1Gy745ymHE9aisLhZC3u0NUqauCp/bWTTrp6j9XkZ X-Gm-Gg: ASbGncvUQOBUhKlPQAiMS/kfyug/P+9oD8Zvnfg1CkpkIE6645r4mXoS2NDF/bVa9jh huB9BYf0aS1Ibi4/miaogxgvLTDEfRdmdG1Bo/9HCvm0tppU2Oh2nHhI47c0xedwkwgi0kuywiG 8CR4i/T3SkqT7QmqSeaKE48abdNJ2LaArPQPzir9ITDwdl2upbcWmOlCRb+K2TQo7wDHsyFAcg5 IT+5Zk81D67+T7UI7hYdQ8cMadbiH3J4lhJZChtMH/KQ7Ef9OzqZJh5m4VCOejxc5zA3wSZ37AC 4kGiEi+hdr3+t0OJWhCVYGE0M23Dk88scBI3cWTaE3Eqr3+MSsKSAomRuBxRGAcZLA2tVFbkJlz uZA== X-Google-Smtp-Source: AGHT+IEEAtOB3WnlNr1/qYLdk0L5TAuObWF3oykHi1LWH33pw6KetxZasjRtYoS6s9S55SESUSqHvyIhbz0o X-Received: by 2002:a05:6e02:1529:b0:3f3:4562:ca92 with SMTP id e9e14a558f8ab-42f8736a83fmr71153085ab.10.1760009573534; Thu, 09 Oct 2025 04:32:53 -0700 (PDT) Received: from postal.iol.unh.edu (postal.iol.unh.edu. [132.177.123.84]) by smtp-relay.gmail.com with ESMTPS id 8926c6da1cb9f-57b5edd266asm1565201173.47.2025.10.09.04.32.53 (version=TLS1_2 cipher=ECDHE-ECDSA-AES128-GCM-SHA256 bits=128/128); Thu, 09 Oct 2025 04:32:53 -0700 (PDT) X-Relaying-Domain: iol.unh.edu Date: Thu, 09 Oct 2025 04:32:53 -0700 (PDT) Message-ID: <68e79d65.050a0220.1a9098.1b4dSMTPIN_ADDED_MISSING@mx.google.com> Received: from [172.21.0.3] (unknown [172.18.0.240]) by postal.iol.unh.edu (Postfix) with ESMTP id 1CEC56051830; Thu, 9 Oct 2025 07:32:53 -0400 (EDT) Subject: |SUCCESS| pw157357-157356 [PATCH] [v3,2/2] net/iavf: add restore com From: dpdklab@iol.unh.edu To: Test Report Cc: dpdk-test-reports@iol.unh.edu, Bruce Richardson In-Reply-To: <20251009102835.926479-2-ciara.loftus@intel.com> References: <20251009102835.926479-2-ciara.loftus@intel.com> Content-Type: text/plain X-BeenThere: test-report@dpdk.org X-Mailman-Version: 2.1.29 Precedence: list List-Id: automatic DPDK test reports List-Unsubscribe: , List-Archive: List-Post: List-Help: List-Subscribe: , Errors-To: test-report-bounces@dpdk.org Test-Label: iol-compile-amd64-testing Test-Status: SUCCESS http://dpdk.org/patch/157356 _Testing PASS_ Submitter: Loftus, Ciara Date: Thursday, October 09 2025 10:28:35 DPDK git baseline: Repo:dpdk-next-net-intel Branch: master CommitID:21c1fe280a2480dcd7edbb3e51cc2f9a37c1c6e0 157357-157356 --> testing pass Upstream job id: Windows-Compile-DPDK-Native#31518 Test environment and result as below: +---------------------+--------------------+-------------------------+-------------------+----------------------+ | Environment | dpdk_meson_compile | dpdk_llvm_clang_compile | dpdk_msvc_compile | dpdk_mingw64_compile | +=====================+====================+=========================+===================+======================+ | Ubuntu 20.04 | PASS | SKIPPED | SKIPPED | SKIPPED | +---------------------+--------------------+-------------------------+-------------------+----------------------+ | FreeBSD 14.2 | PASS | SKIPPED | SKIPPED | SKIPPED | +---------------------+--------------------+-------------------------+-------------------+----------------------+ | Windows Server 2022 | SKIPPED | PASS | PASS | PASS | +---------------------+--------------------+-------------------------+-------------------+----------------------+ Ubuntu 20.04 Kernel: 4.19 Compiler: gcc gcc (Ubuntu 9.4.0-1ubuntu1~20.04.2) 9.4.0 FreeBSD 14.2 Kernel: 14.2-RELEASE Compiler: clang 18.1.6 Windows Server 2022 Kernel: 10.0.20348.2031 Compiler: clang 15.0.7, gcc 14.1.0 (MinGW), and MSVC VS 19.39.33521 To view detailed results, visit: https://lab.dpdk.org/results/dashboard/patchsets/34244/ UNH-IOL DPDK Community Lab To manage your email subscriptions, visit: https://lab.dpdk.org/results/dashboard/preferences/subscriptions/