From mboxrd@z Thu Jan 1 00:00:00 1970 Return-Path: Received: from mails.dpdk.org (mails.dpdk.org [217.70.189.124]) by inbox.dpdk.org (Postfix) with ESMTP id E43E2488F0 for ; Thu, 9 Oct 2025 13:35:50 +0200 (CEST) Received: from mails.dpdk.org (localhost [127.0.0.1]) by mails.dpdk.org (Postfix) with ESMTP id DC22740277; Thu, 9 Oct 2025 13:35:50 +0200 (CEST) Received: from mail-vs1-f98.google.com (mail-vs1-f98.google.com [209.85.217.98]) by mails.dpdk.org (Postfix) with ESMTP id B399040277 for ; Thu, 9 Oct 2025 13:35:49 +0200 (CEST) Received: by mail-vs1-f98.google.com with SMTP id ada2fe7eead31-583a520bd81so373989137.2 for ; Thu, 09 Oct 2025 04:35:49 -0700 (PDT) DKIM-Signature: v=1; a=rsa-sha256; c=relaxed/relaxed; d=iol.unh.edu; s=unh-iol; t=1760009749; x=1760614549; darn=dpdk.org; h=references:in-reply-to:cc:to:from:subject:message-id:date:from:to :cc:subject:date:message-id:reply-to; bh=pLk0MckW7i0p4/8iSIDWFI0LON/IY7VJIDnejFNG8Oo=; b=EH70xTA7otaP/B5zE84reIdPaizXEIw/L46zYK2cHjCxz0ItP4SiX7TNotPCNec0l1 tax2dR+9wIxCibY3s76ga0jTm0ZCHi8u2y6sUyUn1mLNfsrGvaY+9qsAHsziNMvrGpd5 zl9o6PCkT0tGaD3G+5K/w01Dc2D97F55iyhcI= X-Google-DKIM-Signature: v=1; a=rsa-sha256; c=relaxed/relaxed; d=1e100.net; s=20230601; t=1760009749; x=1760614549; h=references:in-reply-to:cc:to:from:subject:message-id:date :x-gm-message-state:from:to:cc:subject:date:message-id:reply-to; bh=pLk0MckW7i0p4/8iSIDWFI0LON/IY7VJIDnejFNG8Oo=; b=W3PP9nmGUoHibEgh7Ahi1oGjRNYGJuq/hr29IyrRj/Z2L4K427i1x08qCY8wQNpQeE 23qm984j9qruv4jrDjB6+33AehfGa8qK24b1qNeyLoj7NNILnoAons0UWiADU2u8WKIA OAL7H2ICq5RBa59/59Y1d7GhRobSRt1kScsMKMj/23kqBqDaR3CKP5FIkjikIO3ooplK NDEQKPFueub1OdYZiT3+97AVbcIDrwulekAV+HaI0aFyioYoKclxTqcxyN2neqgpW4cb rkgtm2wYCDopJIgItsd9v/6xL3WI+QrlZZyCquJK8Q3bf7SuVrbNS2ScJk/KyNWJM2NP QPOw== X-Gm-Message-State: AOJu0YzrOXeNfiefiHoK2Wi9N7qrvx8ghrnEtKA5pVBU7+T9tHFX+Ac8 ih3WaLgaK25b3EVTungw864OThbAQIkWlc+P84dVVi5U/N+QqlJ9lXvkVFyhSJ8S84suY67rv7c YYLGxxL9n7ntvLZXk8guLctnTSSkrQwfKS0qEeSzjcH+JJ2U4McbuXrb5n5FT X-Gm-Gg: ASbGncuzx7Etwseffvlm4SlBQlpRFNwh3cjuJmm41G3Ip+AcQBEtmNTx7UWKD0MyNiP 9N/T/1FnYLJJqMrr7vWAQBoz+dLnxW39DzTahoPD8TSgclBqgiyX33hdyDaGJruoZJaHY/tRaEz paiNiCgOyAtZtRU44brRp01LTtwk3SpOXZ6u7v2oQCI6OB9q4S7RzESQRHQ1Z74sIpBnoo/hHW9 yycJ+ooJec8svps0FUt9i3ta+oz21YlPcaCkqtqMtXTBEEsR7jdvgrYSoYpPUOfnMNivxJhEeNi W6xP8TGc0lij3uog/wPa9iBkG/jBc+8tkV8BOe9brZozCbxr+53aotM= X-Google-Smtp-Source: AGHT+IGd+08NYhpzrpt3lPR7W6SZshlfg0ZN6qR9AEOY+UjvnMEYzJpzGPQTMYKEk5ogFD2hnshBwVr43aZT X-Received: by 2002:a05:6102:32cd:b0:522:255d:4d2f with SMTP id ada2fe7eead31-5d5e21fcd04mr3019122137.2.1760009749067; Thu, 09 Oct 2025 04:35:49 -0700 (PDT) Received: from postal.iol.unh.edu (postal.iol.unh.edu. [2606:4100:3880:1234::84]) by smtp-relay.gmail.com with ESMTPS id 71dfb90a1353d-5523cffacc7sm2116217e0c.3.2025.10.09.04.35.48 (version=TLS1_2 cipher=ECDHE-ECDSA-AES128-GCM-SHA256 bits=128/128); Thu, 09 Oct 2025 04:35:49 -0700 (PDT) X-Relaying-Domain: iol.unh.edu Date: Thu, 09 Oct 2025 04:35:49 -0700 (PDT) Message-ID: <68e79e15.050a0220.181a02.24f6SMTPIN_ADDED_MISSING@mx.google.com> Received: from [172.21.0.3] (unknown [172.18.0.240]) by postal.iol.unh.edu (Postfix) with ESMTP id C71946051830; Thu, 9 Oct 2025 07:35:48 -0400 (EDT) Subject: |SUCCESS| pw157357-157356 [PATCH] [v3,2/2] net/iavf: add restore com From: dpdklab@iol.unh.edu To: Test Report Cc: dpdk-test-reports@iol.unh.edu, Bruce Richardson In-Reply-To: <20251009102835.926479-2-ciara.loftus@intel.com> References: <20251009102835.926479-2-ciara.loftus@intel.com> Content-Type: text/plain X-BeenThere: test-report@dpdk.org X-Mailman-Version: 2.1.29 Precedence: list List-Id: automatic DPDK test reports List-Unsubscribe: , List-Archive: List-Post: List-Help: List-Subscribe: , Errors-To: test-report-bounces@dpdk.org Test-Label: iol-unit-amd64-testing Test-Status: SUCCESS http://dpdk.org/patch/157356 _Testing PASS_ Submitter: Loftus, Ciara Date: Thursday, October 09 2025 10:28:35 DPDK git baseline: Repo:dpdk-next-net-intel Branch: master CommitID:21c1fe280a2480dcd7edbb3e51cc2f9a37c1c6e0 157357-157356 --> testing pass Upstream job id: Generic-VM-Unit-Test-DPDK#31689 Test environment and result as below: +-------------------------------+----------------+ | Environment | dpdk_unit_test | +===============================+================+ | CentOS Stream 9 | PASS | +-------------------------------+----------------+ | Debian GNU/Linux 12 | PASS | +-------------------------------+----------------+ | CentOS Stream 10 | PASS | +-------------------------------+----------------+ | Fedora Linux 41 | PASS | +-------------------------------+----------------+ | Fedora Linux 40 | PASS | +-------------------------------+----------------+ | Fedora Linux 42 | PASS | +-------------------------------+----------------+ | Red Hat Enterprise Linux 8.10 | PASS | +-------------------------------+----------------+ | Red Hat Enterprise Linux 9.5 | PASS | +-------------------------------+----------------+ | Ubuntu 20.04 | PASS | +-------------------------------+----------------+ | Ubuntu 22.04 | PASS | +-------------------------------+----------------+ | Ubuntu 24.04 | PASS | +-------------------------------+----------------+ | Windows Server 2022 | PASS | +-------------------------------+----------------+ CentOS Stream 9 Kernel: 5.15 Compiler: gcc gcc (GCC) 11.5.0 20240719 (Red Hat 11.5.0-11) Debian GNU/Linux 12 Kernel: 5.15 Compiler: gcc gcc (Debian 12.2.0-14+deb12u1) 12.2.0 CentOS Stream 10 Kernel: 5.15 Compiler: gcc gcc (GCC) 14.2.1 20250110 (Red Hat 14.2.1-8) Fedora Linux 41 Kernel: 5.15 Compiler: gcc gcc (GCC) 14.3.1 20250523 (Red Hat 14.3.1-1) Fedora Linux 40 Kernel: 5.15 Compiler: clang gcc (GCC) 14.2.1 20240912 (Red Hat 14.2.1-3) Fedora Linux 42 Kernel: 5.15 Compiler: gcc gcc (GCC) 15.2.1 20250808 (Red Hat 15.2.1-1) Red Hat Enterprise Linux 8.10 Kernel: 5.15 Compiler: gcc gcc (GCC) 8.5.0 20210514 (Red Hat 8.5.0-22) Red Hat Enterprise Linux 9.5 Kernel: 5.15 Compiler: gcc gcc (GCC) 11.5.0 20240719 (Red Hat 11.5.0-2) Ubuntu 20.04 Kernel: 5.15 Compiler: gcc gcc (Ubuntu 9.4.0-1ubuntu1~20.04.2) 9.4.0 Ubuntu 22.04 Kernel: 5.15 Compiler: gcc gcc (Ubuntu 11.4.0-1ubuntu1~22.04) 11.4.0 Ubuntu 24.04 Kernel: 5.15 Compiler: gcc gcc (Ubuntu 13.3.0-6ubuntu2~24.04) 13.3.0 Windows Server 2022 Kernel: 10.0.20348.2031 Compiler: clang 15.0.7, gcc 14.1.0 (MinGW), and MSVC VS 19.39.33521 To view detailed results, visit: https://lab.dpdk.org/results/dashboard/patchsets/34244/ UNH-IOL DPDK Community Lab To manage your email subscriptions, visit: https://lab.dpdk.org/results/dashboard/preferences/subscriptions/