From mboxrd@z Thu Jan 1 00:00:00 1970 Return-Path: Received: from mails.dpdk.org (mails.dpdk.org [217.70.189.124]) by inbox.dpdk.org (Postfix) with ESMTP id 848BE488F1 for ; Thu, 9 Oct 2025 14:23:04 +0200 (CEST) Received: from mails.dpdk.org (localhost [127.0.0.1]) by mails.dpdk.org (Postfix) with ESMTP id 6D9D440277; Thu, 9 Oct 2025 14:23:04 +0200 (CEST) Received: from mail-ua1-f100.google.com (mail-ua1-f100.google.com [209.85.222.100]) by mails.dpdk.org (Postfix) with ESMTP id E06C740277 for ; Thu, 9 Oct 2025 14:23:02 +0200 (CEST) Received: by mail-ua1-f100.google.com with SMTP id a1e0cc1a2514c-8e8163d94bbso731589241.3 for ; Thu, 09 Oct 2025 05:23:02 -0700 (PDT) DKIM-Signature: v=1; a=rsa-sha256; c=relaxed/relaxed; d=iol.unh.edu; s=unh-iol; t=1760012582; x=1760617382; darn=dpdk.org; h=cc:to:from:subject:message-id:date:from:to:cc:subject:date :message-id:reply-to; bh=Nrrp/jQWPTiNAMpqiRb4yJZohMzGiqodEfRh7naXsEE=; b=C/Mo7ZA7H7MwGqTDotV3EF7LlBySZqlH43ZgQDfHtfma3ZvccDkpUiXF0wSsfvlTJC 2uQhvfXCwimF5n854SsQQ4U395YWbMOadXt2YRjHzykFTtdLYiuVwC5hRQbXn0huKJEg FQYTlh/6S1ILgCykjIN/eOfQI8iLwfoulka1I= X-Google-DKIM-Signature: v=1; a=rsa-sha256; c=relaxed/relaxed; d=1e100.net; s=20230601; t=1760012582; x=1760617382; h=cc:to:from:subject:message-id:date:x-gm-message-state:from:to:cc :subject:date:message-id:reply-to; bh=Nrrp/jQWPTiNAMpqiRb4yJZohMzGiqodEfRh7naXsEE=; b=vGEvUY4ershBKXcM6v7VybPmnWGVu2OZg5HfNGuzelEEoIzVr/zh8rKl/2zkst836X ps2avmFBf4gYIcd0lUVUBGvwvqhmtMH3kjgntUgi+LTOPfetnSq55dSAIjPKQPkSO8+l ItQIXV8cNcDDFq+zxrB4gIpgzk3FWFqMTi5J/k4y5j8sASwM2Q1RCKdoG3plJAZSLlMZ 0Jdl0qhRCb2y3fPhfNNTTK1YKHuf/IkTHOQVt7DZsQECLQ0409oOhhphOf7yuAABlJNL sXnCl3SI239SdEHzDt4bSBqaZ4zbizjLZsvUDJjDtWnD/6ib5j9CAHO21ODA2690/0SE iWFQ== X-Gm-Message-State: AOJu0Yy9V3Z23gr5gycNiVvvDumwsTdheCljbuR+k9asyZDlUxsWk93Y KTD5bH/0TUaRLrjMD+q2DHQB0hWI7yhKLssfme2YPU/5F8v1brcg/et0mF2nedFw2D6VjX6UzXn 9oLn4WMp2ZjVYCM+uiItBwUYwn+9MeySr9bKi X-Gm-Gg: ASbGncuKIY0zSXIQAQL8rZLX8NEQu+f7UnGNuNbCgOZKDw8Nc5XVOFOZo0TCXBSMEPf oRqammNoo+1ZK2w3FVbTNv48Fx18XRF3y75LG7KOMAkTuFu5tLhL8Jw03Go1cB/hcUCw45edK8x /RYXAZawVdjmcLXYWiAUNZaiozJ6yi/zJEJ4yz3aWH2KVF+Igouzw+dcWHKttlHPUULF+igtK2F AXrNIM54erYOfIGB5araTgQeM61jUGpE0DdS8AFAw1zDF2eHNuNT3hGleiGSbgkZEB7tRYT0iKq Ru0ZdfvRQGw9vNTofYR8DXetpt0slOXxsxkIO+KYHnb6Jp2pU8ZASXkoX6jKAPBvG9krFKPr7Lz 1xg== X-Google-Smtp-Source: AGHT+IGM5bcZAGrR3C7K3k+HhlvNbvRt10Y1i6J7rplGQ19NZxd8EStlWczcvf3S77Uor0msNoPvFL3morPD X-Received: by 2002:a05:6102:418d:b0:59e:a2d5:2945 with SMTP id ada2fe7eead31-5d5e225efc3mr3552684137.8.1760012582271; Thu, 09 Oct 2025 05:23:02 -0700 (PDT) Received: from postal.iol.unh.edu (postal.iol.unh.edu. [132.177.123.84]) by smtp-relay.gmail.com with ESMTPS id 71dfb90a1353d-5523cffacc7sm2124956e0c.3.2025.10.09.05.23.02 (version=TLS1_2 cipher=ECDHE-ECDSA-AES128-GCM-SHA256 bits=128/128); Thu, 09 Oct 2025 05:23:02 -0700 (PDT) X-Relaying-Domain: iol.unh.edu Date: Thu, 09 Oct 2025 05:23:02 -0700 (PDT) Message-ID: <68e7a926.050a0220.181a02.2c4fSMTPIN_ADDED_MISSING@mx.google.com> Received: from [172.21.0.2] (unknown [172.18.0.240]) by postal.iol.unh.edu (Postfix) with ESMTP id BC7E36051830; Thu, 9 Oct 2025 08:23:01 -0400 (EDT) Subject: |SUCCESS| [GIT MASTER] b287e404643aeab5bb5db084c142789df187844e From: dpdklab@iol.unh.edu To: Test Report Cc: dpdk-test-reports@iol.unh.edu, Xueming Li , Christian Ehrhardt , Kevin Traynor , Luca Boccassi Content-Type: text/plain X-BeenThere: test-report@dpdk.org X-Mailman-Version: 2.1.29 Precedence: list List-Id: automatic DPDK test reports List-Unsubscribe: , List-Archive: List-Post: List-Help: List-Subscribe: , Errors-To: test-report-bounces@dpdk.org _Testing PASS_ Branch: tags/v24.11 b287e404643aeab5bb5db084c142789df187844e --> testing pass Upstream job id: Generic-DPDK-Compile-Meson#432779 Test environment and result as below: +-------------------------------+--------------------+-------------------+-------------------------+----------------------+-------------------+------------------+ | Environment | dpdk_meson_compile | dpdk_msvc_compile | dpdk_llvm_clang_compile | dpdk_mingw64_compile | dpdk_compile_spdk | dpdk_compile_ovs | +===============================+====================+===================+=========================+======================+===================+==================+ | Ubuntu 20.04 | PASS | SKIPPED | SKIPPED | SKIPPED | SKIPPED | SKIPPED | +-------------------------------+--------------------+-------------------+-------------------------+----------------------+-------------------+------------------+ | FreeBSD 14.2 | PASS | SKIPPED | SKIPPED | SKIPPED | SKIPPED | SKIPPED | +-------------------------------+--------------------+-------------------+-------------------------+----------------------+-------------------+------------------+ | CentOS Stream 9 | PASS | SKIPPED | SKIPPED | SKIPPED | PASS | SKIPPED | +-------------------------------+--------------------+-------------------+-------------------------+----------------------+-------------------+------------------+ | CentOS Stream 10 | PASS | SKIPPED | SKIPPED | SKIPPED | SKIPPED | SKIPPED | +-------------------------------+--------------------+-------------------+-------------------------+----------------------+-------------------+------------------+ | Debian GNU/Linux 12 | PASS | SKIPPED | SKIPPED | SKIPPED | PASS | SKIPPED | +-------------------------------+--------------------+-------------------+-------------------------+----------------------+-------------------+------------------+ | Fedora Linux 42 | PASS | SKIPPED | SKIPPED | SKIPPED | PASS | PASS | +-------------------------------+--------------------+-------------------+-------------------------+----------------------+-------------------+------------------+ | openSUSE Leap 15.6 | PASS | SKIPPED | SKIPPED | SKIPPED | SKIPPED | SKIPPED | +-------------------------------+--------------------+-------------------+-------------------------+----------------------+-------------------+------------------+ | Red Hat Enterprise Linux 8.10 | PASS | SKIPPED | SKIPPED | SKIPPED | SKIPPED | SKIPPED | +-------------------------------+--------------------+-------------------+-------------------------+----------------------+-------------------+------------------+ | Red Hat Enterprise Linux 9.5 | PASS | SKIPPED | SKIPPED | SKIPPED | SKIPPED | SKIPPED | +-------------------------------+--------------------+-------------------+-------------------------+----------------------+-------------------+------------------+ | Ubuntu 22.04 | PASS | SKIPPED | SKIPPED | SKIPPED | PASS | SKIPPED | +-------------------------------+--------------------+-------------------+-------------------------+----------------------+-------------------+------------------+ | Ubuntu 24.04 | PASS | SKIPPED | SKIPPED | SKIPPED | PASS | PASS | +-------------------------------+--------------------+-------------------+-------------------------+----------------------+-------------------+------------------+ | Alpine Linux 3.22.0 | PASS | SKIPPED | SKIPPED | SKIPPED | SKIPPED | SKIPPED | +-------------------------------+--------------------+-------------------+-------------------------+----------------------+-------------------+------------------+ | Windows Server 2022 | SKIPPED | PASS | PASS | PASS | SKIPPED | SKIPPED | +-------------------------------+--------------------+-------------------+-------------------------+----------------------+-------------------+------------------+ Ubuntu 20.04 Kernel: 4.19 Compiler: gcc gcc (Ubuntu 9.4.0-1ubuntu1~20.04.2) 9.4.0 FreeBSD 14.2 Kernel: 14.2-RELEASE Compiler: clang 18.1.6 CentOS Stream 9 Kernel: 5.15 Compiler: gcc gcc (GCC) 11.5.0 20240719 (Red Hat 11.5.0-11) CentOS Stream 10 Kernel: 5.15 Compiler: gcc gcc (GCC) 14.2.1 20250110 (Red Hat 14.2.1-8) Debian GNU/Linux 12 Kernel: 5.15 Compiler: gcc gcc (Debian 12.2.0-14+deb12u1) 12.2.0 Fedora Linux 42 Kernel: 5.15 Compiler: clang gcc (GCC) 15.2.1 20250808 (Red Hat 15.2.1-1) openSUSE Leap 15.6 Kernel: 5.15 Compiler: gcc gcc (SUSE Linux) 7.5.0 Red Hat Enterprise Linux 8.10 Kernel: 5.15 Compiler: gcc gcc (GCC) 8.5.0 20210514 (Red Hat 8.5.0-22) Red Hat Enterprise Linux 9.5 Kernel: 5.15 Compiler: gcc gcc (GCC) 11.5.0 20240719 (Red Hat 11.5.0-2) Ubuntu 22.04 Kernel: 5.15 Compiler: gcc gcc (Ubuntu 11.4.0-1ubuntu1~22.04) 11.4.0 Ubuntu 24.04 Kernel: 5.15 Compiler: gcc gcc (Ubuntu 13.3.0-6ubuntu2~24.04) 13.3.0 Alpine Linux 3.22.0 Kernel: 5.15 Compiler: gcc gcc (Alpine 14.2.0) 14.2.0 Windows Server 2022 Kernel: 10.0.20348.2031 Compiler: clang 15.0.7, gcc 14.1.0 (MinGW), and MSVC VS 19.39.33521 To view detailed results, visit: https://lab.dpdk.org/results/dashboard/tarballs/35151/ UNH-IOL DPDK Community Lab To manage your email subscriptions, visit: https://lab.dpdk.org/results/dashboard/preferences/subscriptions/