From mboxrd@z Thu Jan 1 00:00:00 1970 Return-Path: Received: from mails.dpdk.org (mails.dpdk.org [217.70.189.124]) by inbox.dpdk.org (Postfix) with ESMTP id 322DA488F1 for ; Thu, 9 Oct 2025 14:28:27 +0200 (CEST) Received: from mails.dpdk.org (localhost [127.0.0.1]) by mails.dpdk.org (Postfix) with ESMTP id 25D6E40277; Thu, 9 Oct 2025 14:28:27 +0200 (CEST) Received: from mail-il1-f228.google.com (mail-il1-f228.google.com [209.85.166.228]) by mails.dpdk.org (Postfix) with ESMTP id 478F440277 for ; Thu, 9 Oct 2025 14:28:25 +0200 (CEST) Received: by mail-il1-f228.google.com with SMTP id e9e14a558f8ab-42f5e9e4314so9284475ab.0 for ; Thu, 09 Oct 2025 05:28:25 -0700 (PDT) DKIM-Signature: v=1; a=rsa-sha256; c=relaxed/relaxed; d=iol.unh.edu; s=unh-iol; t=1760012904; x=1760617704; darn=dpdk.org; h=references:in-reply-to:cc:to:from:subject:message-id:date:from:to :cc:subject:date:message-id:reply-to; bh=0+vzxUMV9ZmR7zsRLg6hWUb6j1I72utaMoF4P/ke60Q=; b=DFCKrvLIoaxZLBBhkL4IFL+l8LUS260yCkrATzKGg6X9yXvMyfLWturb+oPQeu2Z7f bKEssFFoZ+ftearMHb1S9CNhZpg5mTwry+dY+MUNKj7qqhVZkDtwkb8X2mhJbshNLJmw aFRVkGaL76iJ16zw3v8W5rzx8xUspHYFge68A= X-Google-DKIM-Signature: v=1; a=rsa-sha256; c=relaxed/relaxed; d=1e100.net; s=20230601; t=1760012904; x=1760617704; h=references:in-reply-to:cc:to:from:subject:message-id:date :x-gm-message-state:from:to:cc:subject:date:message-id:reply-to; bh=0+vzxUMV9ZmR7zsRLg6hWUb6j1I72utaMoF4P/ke60Q=; b=Po4JxdxCBpBjp0CXJUw7ebpEGt+AXdK/T8yjwvtPG4NIqopRVb6e3oNnGJTjTtULBN mxdmSQMObEIbpK8TcpOd2Sg1uZjG1Ot0QjXc46hkHRxcrTtBhhULuifqTzVfpQUgIWtI WGMEBzFNaemDW5SMG9FzqIZbcONGmYkHMKC47Kz6EosOEv4y9i4MIt+M0xoHKxuRVd8o +XJd9kY87I3MV5OeeSn3nSYz4wqGvtukBc2msOMDjF+Zi3eQtS3I1+0RKrqJ2ZFVUV8T m5kpzNYgGh00pnknTliWvGPQ7XtdbzYMBwBGOvRT4IxlTnnZdfhWrcOoz9HEnZvyHgwA 3eNQ== X-Gm-Message-State: AOJu0YyLpOFl0B1mJSl12fPJlDlFJ+iGOHlPg4WKj4chgjIlPQIxF9ih bmdoXCvQHgrpBdC4g7mfny8LnMGBluTvQ2hWI9sbIR+pLbNbm1971l7lpNdYP7qaqxrWSP3jLxJ zVEkrcCiUP0ucyW3eLtmlrFC/rREO+mAmo3RVdB18Q1ZLZQ/36p1WpY0A8CRV X-Gm-Gg: ASbGncsVD2283ya3+xWrG9RaUfw1IUshe+SQlJtiryplPz+G3pL36q4DPJ3K60ToqJ0 d5FyEK3V5ownqCxE5V2Q/o1x2VyhacQg9/9nRVjiQXaPQtOXzrMbQL3kpzxINpS35Xo61TU9/nD 0608uc+aCAIaLuNXJWfHFPptZm6dV1S8oVExeyZRHlnBlFZAj7u42CfFve5L9G267LBxU7IudEb ioN2VSAt6XvQET4FXrWSELB6Bo2eAXqs70tSkHk+SG7Wx7O3AewDIjmCsVtSy7r5a0iCbzN20iP x2qD/Juwn2VoHVuCEP0vx6URRs3c+LPH4WBU1z2MJofogrdt2Se/rvc= X-Google-Smtp-Source: AGHT+IHSqnHcIrr2H8Eq4EhovTjoMleiLdK9LTUWYudz6rgOk42zCu/bQ7LB5YmCaOIIwPbvUzwiSZcM3v96 X-Received: by 2002:a05:6e02:b2f:b0:42d:b5d0:1930 with SMTP id e9e14a558f8ab-42f873fae6amr66687765ab.23.1760012904308; Thu, 09 Oct 2025 05:28:24 -0700 (PDT) Received: from postal.iol.unh.edu (postal.iol.unh.edu. [2606:4100:3880:1234::84]) by smtp-relay.gmail.com with ESMTPS id e9e14a558f8ab-42f90263653sm1764995ab.14.2025.10.09.05.28.24 (version=TLS1_2 cipher=ECDHE-ECDSA-AES128-GCM-SHA256 bits=128/128); Thu, 09 Oct 2025 05:28:24 -0700 (PDT) X-Relaying-Domain: iol.unh.edu Date: Thu, 09 Oct 2025 05:28:24 -0700 (PDT) Message-ID: <68e7aa68.920a0220.340445.906aSMTPIN_ADDED_MISSING@mx.google.com> Received: from [172.21.0.2] (unknown [172.18.0.240]) by postal.iol.unh.edu (Postfix) with ESMTP id DA7476051830; Thu, 9 Oct 2025 08:28:23 -0400 (EDT) Subject: |SUCCESS| pw157358-157369 [PATCH] [v1,12/12] net/enetc: Add MAC and From: dpdklab@iol.unh.edu To: Test Report Cc: dpdk-test-reports@iol.unh.edu, Stephen Hemminger In-Reply-To: <20251009111633.3585957-13-vanshika.shukla@nxp.com> References: <20251009111633.3585957-13-vanshika.shukla@nxp.com> Content-Type: text/plain X-BeenThere: test-report@dpdk.org X-Mailman-Version: 2.1.29 Precedence: list List-Id: automatic DPDK test reports List-Unsubscribe: , List-Archive: List-Post: List-Help: List-Subscribe: , Errors-To: test-report-bounces@dpdk.org Test-Label: iol-unit-amd64-testing Test-Status: SUCCESS http://dpdk.org/patch/157369 _Testing PASS_ Submitter: Vanshika Shukla Date: Thursday, October 09 2025 11:16:33 DPDK git baseline: Repo:dpdk-next-net Branch: master CommitID:c04bbd131b2c14b3049bf86d3ef367b34e6fdf1e 157358-157369 --> testing pass Upstream job id: Generic-VM-Unit-Test-DPDK#31690 Test environment and result as below: +-------------------------------+----------------+ | Environment | dpdk_unit_test | +===============================+================+ | CentOS Stream 10 | PASS | +-------------------------------+----------------+ | Fedora Linux 41 | PASS | +-------------------------------+----------------+ | Fedora Linux 40 | PASS | +-------------------------------+----------------+ | Ubuntu 24.04 | PASS | +-------------------------------+----------------+ | Fedora Linux 42 | PASS | +-------------------------------+----------------+ | Red Hat Enterprise Linux 9.5 | PASS | +-------------------------------+----------------+ | CentOS Stream 9 | PASS | +-------------------------------+----------------+ | Ubuntu 20.04 | PASS | +-------------------------------+----------------+ | Debian GNU/Linux 12 | PASS | +-------------------------------+----------------+ | Ubuntu 22.04 | PASS | +-------------------------------+----------------+ | Red Hat Enterprise Linux 8.10 | PASS | +-------------------------------+----------------+ | Windows Server 2022 | PASS | +-------------------------------+----------------+ CentOS Stream 10 Kernel: 5.15 Compiler: gcc gcc (GCC) 14.2.1 20250110 (Red Hat 14.2.1-8) Fedora Linux 41 Kernel: 5.15 Compiler: gcc gcc (GCC) 14.3.1 20250523 (Red Hat 14.3.1-1) Fedora Linux 40 Kernel: 5.15 Compiler: gcc gcc (GCC) 14.2.1 20240912 (Red Hat 14.2.1-3) Ubuntu 24.04 Kernel: 5.15 Compiler: gcc gcc (Ubuntu 13.3.0-6ubuntu2~24.04) 13.3.0 Fedora Linux 42 Kernel: 5.15 Compiler: clang gcc (GCC) 15.2.1 20250808 (Red Hat 15.2.1-1) Red Hat Enterprise Linux 9.5 Kernel: 5.15 Compiler: gcc gcc (GCC) 11.5.0 20240719 (Red Hat 11.5.0-2) CentOS Stream 9 Kernel: 5.15 Compiler: gcc gcc (GCC) 11.5.0 20240719 (Red Hat 11.5.0-11) Ubuntu 20.04 Kernel: 5.15 Compiler: gcc gcc (Ubuntu 9.4.0-1ubuntu1~20.04.2) 9.4.0 Debian GNU/Linux 12 Kernel: 5.15 Compiler: gcc gcc (Debian 12.2.0-14+deb12u1) 12.2.0 Ubuntu 22.04 Kernel: 5.15 Compiler: gcc gcc (Ubuntu 11.4.0-1ubuntu1~22.04) 11.4.0 Red Hat Enterprise Linux 8.10 Kernel: 5.15 Compiler: gcc gcc (GCC) 8.5.0 20210514 (Red Hat 8.5.0-22) Windows Server 2022 Kernel: 10.0.20348.2031 Compiler: clang 15.0.7, gcc 14.1.0 (MinGW), and MSVC VS 19.39.33521 To view detailed results, visit: https://lab.dpdk.org/results/dashboard/patchsets/34245/ UNH-IOL DPDK Community Lab To manage your email subscriptions, visit: https://lab.dpdk.org/results/dashboard/preferences/subscriptions/